BEGIN:VCALENDAR
VERSION:2.0
PRODID:-//Gemeinde Bremen-Neustadt - ECPv6.14.2//NONSGML v1.0//EN
CALSCALE:GREGORIAN
METHOD:PUBLISH
X-ORIGINAL-URL:https://gemeinde-neustadt.de
X-WR-CALDESC:Veranstaltungen für Gemeinde Bremen-Neustadt
REFRESH-INTERVAL;VALUE=DURATION:PT1H
X-Robots-Tag:noindex
X-PUBLISHED-TTL:PT1H
BEGIN:VTIMEZONE
TZID:UTC
BEGIN:STANDARD
TZOFFSETFROM:+0000
TZOFFSETTO:+0000
TZNAME:UTC
DTSTART:20260101T000000
END:STANDARD
END:VTIMEZONE
BEGIN:VTIMEZONE
TZID:Europe/Berlin
BEGIN:DAYLIGHT
TZOFFSETFROM:+0100
TZOFFSETTO:+0200
TZNAME:CEST
DTSTART:20260329T010000
END:DAYLIGHT
BEGIN:STANDARD
TZOFFSETFROM:+0200
TZOFFSETTO:+0100
TZNAME:CET
DTSTART:20261025T010000
END:STANDARD
END:VTIMEZONE
BEGIN:VEVENT
DTSTART;TZID=UTC:20260526T150000
DTEND;TZID=UTC:20260526T160000
DTSTAMP:20260421T235634
CREATED:20251227T120029Z
LAST-MODIFIED:20260313T205239Z
UID:10015953-1779807600-1779811200@gemeinde-neustadt.de
SUMMARY:Yoga im Sitzen | Zion
DESCRIPTION:Jeden Dienstag bieten wir in Zion Yoga im Sitzen an\, von 15:00-16:00 Uhr im Theatersaal. Kommen Sie gerne dazu!
URL:https://gemeinde-neustadt.de/event/yoga-im-sitzen-zion-2-2-2-2-2/2026-05-26/
LOCATION:Gemeindezentrum Zion\, Kornstraße 31\, Bremen\, Bremen\, 28201\, Deutschland
CATEGORIES:Senior*innen,Sport
ORGANIZER;CN="Vereinigte ev. Gemeinde Bremen-Neustadt":MAILTO:neustadt@kirche-bremen.de
END:VEVENT
BEGIN:VEVENT
DTSTART;TZID=Europe/Berlin:20260526T150000
DTEND;TZID=Europe/Berlin:20260526T170000
DTSTAMP:20260421T235634
CREATED:20251227T122439Z
LAST-MODIFIED:20251227T122441Z
UID:10004797-1779807600-1779814800@gemeinde-neustadt.de
SUMMARY:Offener Kindertreff | St. Pauli
DESCRIPTION:Der Kindertreff findet immer dienstags im Gemeindehaus St. Pauli statt. Er ist für Kinder im Alter von 6– 12 Jahren.\nJüngere sind in Begleitung eines Elternteils (Omas und Opas sind auch gerne gesehen) herzlich willkommen.\nKommt einfach vorbei!\nMehr Infos gibt es bei Imke Brumund: diakonin.neustadt@kirche-bremen.de
URL:https://gemeinde-neustadt.de/event/kindertreff-st-pauli-13-2/2026-05-26/
CATEGORIES:Kinder,Kreativ
END:VEVENT
BEGIN:VEVENT
DTSTART;TZID=Europe/Berlin:20260526T150000
DTEND;TZID=Europe/Berlin:20260526T180000
DTSTAMP:20260421T235634
CREATED:20251227T160733Z
LAST-MODIFIED:20251227T160819Z
UID:10016170-1779807600-1779818400@gemeinde-neustadt.de
SUMMARY:Umtausch Bezahlkarte | Zion
DESCRIPTION:Unter dem Slogan „Nein zur Schikanekarte“ gibt es jeden Dienstag von 15-18 Uhr die Möglichkeit\, Geflüchteten für ihre Bezahlkarten-Gutscheine Geld zu geben. Die Ausgabe erfolgt im ehemaligen Bandraum\, der Eingang ist von der Kantstraße.
URL:https://gemeinde-neustadt.de/event/letzte-generation-zion-2-2/2026-05-26/
LOCATION:Gemeindezentrum Zion\, Kornstraße 31\, Bremen\, Bremen\, 28201\, Deutschland
CATEGORIES:Ehrenamt,Sitzung
ORGANIZER;CN="Vereinigte ev. Gemeinde Bremen-Neustadt":MAILTO:neustadt@kirche-bremen.de
END:VEVENT
BEGIN:VEVENT
DTSTART;TZID=Europe/Berlin:20260526T160000
DTEND;TZID=Europe/Berlin:20260526T164500
DTSTAMP:20260421T235634
CREATED:20260316T220621Z
LAST-MODIFIED:20260316T222614Z
UID:10007556-1779811200-1779813900@gemeinde-neustadt.de
SUMMARY:Kinderchor | St. Pauli
DESCRIPTION:Komm und sing mit!\nFür Kinder von 6-10 Jahren.\nIm Kinderchor singen Kinder ab der ersten Klasse. In unserer Gemeinde gibt es zwei Kinderchorgruppen\, beide Gruppen proben einmal in der Woche – die eine in St. Pauli\, die andere in Matthias-Claudius. Für Auftritte und Ausfahrten werden beide Gruppen zusammengelegt. Die Kinder üben sich in Stimmführung und Rhythmus\, in Notenlesen und Gemeinschaft. \n\n\n\nDu bist herzlich willkommen! \nEs grüßt Dich Kantorin Nora Köhler! \nkirchenmusik.neustadt@kirche-bremen.de \n0421 69665613
URL:https://gemeinde-neustadt.de/event/kinderchor-st-pauli-2-2-2-2/2026-05-26/
LOCATION:Gemeindezentrum St. Pauli\, Große Krankenstr. 11\, Bremen\, 28199\, Deutschland
CATEGORIES:Chor,Chorprobe,Kinder,Kinderchor,Kirchenmusik,Musik,Probe
ORGANIZER;CN="Vereinigte ev. Gemeinde Bremen-Neustadt":MAILTO:neustadt@kirche-bremen.de
END:VEVENT
BEGIN:VEVENT
DTSTART;TZID=UTC:20260526T170000
DTEND;TZID=UTC:20260526T170000
DTSTAMP:20260421T235634
CREATED:20260316T220439Z
LAST-MODIFIED:20260316T222740Z
UID:10009256-1779814800-1779814800@gemeinde-neustadt.de
SUMMARY:Starling Voices | St. Pauli
DESCRIPTION:Bei den Starling Voices singen Jugendliche\, deren Hobby meist schon lange das Singen ist. Neben Musicals werden Lieder/Songs gesungen die Lust auf mehr machen. Ob christlich motiviert oder Songs aus dem Alltag der Kids. Ob Eingängig oder anspruchsvoll –  wir stellen uns jeder Herausforderung.\nUnterstützt werden wir stimmbildnerisch von Kristina Schönbeck. Neue Kinder/Jugendliche sind immer herzlich willkommen! Nach Absprache können Kinder ab der 4. Klasse in dieser Gruppe singen. \nKommt vorbei! Ich freue freue mich auf Euch! \nEure Kantorin Nora Köhler
URL:https://gemeinde-neustadt.de/event/starling-voices-st-pauli-11-2-2/2026-05-26/
LOCATION:Gemeindezentrum St. Pauli\, Große Krankenstr. 11\, Bremen\, 28199\, Deutschland
CATEGORIES:Chor,Chorprobe,Jugendarbeit,Kinder,Kirchenmusik,Musik,Probe
ORGANIZER;CN="Vereinigte ev. Gemeinde Bremen-Neustadt":MAILTO:neustadt@kirche-bremen.de
END:VEVENT
BEGIN:VEVENT
DTSTART;TZID=Europe/Berlin:20260526T173000
DTEND;TZID=Europe/Berlin:20260526T203000
DTSTAMP:20260421T235634
CREATED:20251227T120146Z
LAST-MODIFIED:20260319T194603Z
UID:10015977-1779816600-1779827400@gemeinde-neustadt.de
SUMMARY:Offene Jugendarbeit | Zion
DESCRIPTION:Jeden Dienstag (außer in den Ferien) lädt die „Rote Zitadelle“ Jugendliche aus dem Stadtteil ein. Geöffnet ist ab 17:30 Uhr\, jede und jeder ist willkommen!
URL:https://gemeinde-neustadt.de/event/offene-jugendarbeit-zion-2-2-2/2026-05-26/
LOCATION:Gemeindezentrum Zion\, Kornstraße 31\, Bremen\, Bremen\, 28201\, Deutschland
CATEGORIES:Essen und Trinken,interkulturell,Jugendarbeit,Kreativ,Party
ORGANIZER;CN="Vereinigte ev. Gemeinde Bremen-Neustadt":MAILTO:neustadt@kirche-bremen.de
END:VEVENT
BEGIN:VEVENT
DTSTART;TZID=Europe/Berlin:20260526T180000
DTEND;TZID=Europe/Berlin:20260526T200000
DTSTAMP:20260421T235634
CREATED:20240319T081120Z
LAST-MODIFIED:20251227T122743Z
UID:10003245-1779818400-1779825600@gemeinde-neustadt.de
SUMMARY:NA | St. Pauli
DESCRIPTION:NA (Narcotics Anonymous) sind eine Gemeinschaft von Männern und Frauen\, die miteinander ihre Erfahrung\, Kraft und Hoffnung teilen\, um ihr gemeinsames Problem zu lösen und anderen zur Genesung vom stofflichen Drogen zu verhelfen. \nDie einzige Voraussetzung für die Zugehörigkeit ist der Wunsch\, mit den Drogen aufzuhören.
URL:https://gemeinde-neustadt.de/event/na-st-pauli-21/2026-05-26/
LOCATION:Gemeindezentrum St. Pauli\, Große Krankenstr. 11\, Bremen\, 28199\, Deutschland
CATEGORIES:Erwachsene,Selbsthilfe
END:VEVENT
BEGIN:VEVENT
DTSTART;TZID=Europe/Berlin:20260526T180000
DTEND;TZID=Europe/Berlin:20260526T210000
DTSTAMP:20260421T235634
CREATED:20251227T122607Z
LAST-MODIFIED:20251227T122608Z
UID:10005630-1779818400-1779829200@gemeinde-neustadt.de
SUMMARY:Balkantanz | St. Pauli
DESCRIPTION:Sharena Cherga ist eine Balkantanzgruppe für junge Erwachsene (20-45 Jahre):\nhttp://www.sharenacherga.de \nEingeladen zum Mittanzen sind Menschen jeder Nationalität.\nMitzubringen sind Spaß an der Bewegung\, Gefühl für Musik und etwas Kondition… \nWeitere Informationen gibt Heidi Miller: tanzheidi@gmail.com
URL:https://gemeinde-neustadt.de/event/balkantanz-st-pauli-14-2/2026-05-26/
LOCATION:Gemeindezentrum St. Pauli\, Große Krankenstr. 11\, Bremen\, 28199\, Deutschland
CATEGORIES:Erwachsene,interkulturell,Musik,Sport,Tanz
ORGANIZER;CN="Vereinigte ev. Gemeinde Bremen-Neustadt":MAILTO:neustadt@kirche-bremen.de
END:VEVENT
BEGIN:VEVENT
DTSTART;TZID=Europe/Berlin:20260526T190000
DTEND;TZID=Europe/Berlin:20260526T210000
DTSTAMP:20260421T235634
CREATED:20251227T160942Z
LAST-MODIFIED:20251227T161048Z
UID:10016199-1779822000-1779829200@gemeinde-neustadt.de
SUMMARY:Chor Schubidu | St. Pauli
DESCRIPTION:Alle 14 Tage trifft sich der Frauenchor Schubidu. Wenn Sie mitsingen möchten\, können Sie gerne dazustoßen!
URL:https://gemeinde-neustadt.de/event/chor-schubidu-st-pauli-2/2026-05-26/
CATEGORIES:Chor,Chorprobe,Musik
END:VEVENT
BEGIN:VEVENT
DTSTART;TZID=Europe/Berlin:20260526T193000
DTEND;TZID=Europe/Berlin:20260526T213000
DTSTAMP:20260421T235634
CREATED:20251212T202753Z
LAST-MODIFIED:20251212T202753Z
UID:10015722-1779823800-1779831000@gemeinde-neustadt.de
SUMMARY:Glaube & Gesellschaft | Zion
DESCRIPTION:Jeweils am letzten Dienstag des Monats laden wir zu Gespräch und Diskussion über aktuelle theologisch-gesellschaftliche Themen. Die Treffen finden im Kaminraum in Zion statt. Wir beginnen um 19:30 Uhr und bleiben so lange\, wie wir Lust haben. Es gibt Getränke und etwas zu Knabbern. Herzlich willkommen!
URL:https://gemeinde-neustadt.de/event/glaube-gesellschaft-zion/2026-05-26/
LOCATION:Gemeindezentrum Zion\, Kornstraße 31\, Bremen\, Bremen\, 28201\, Deutschland
CATEGORIES:Erwachsene
ORGANIZER;CN="Vereinigte ev. Gemeinde Bremen-Neustadt":MAILTO:neustadt@kirche-bremen.de
END:VEVENT
BEGIN:VEVENT
DTSTART;TZID=UTC:20260526T193000
DTEND;TZID=UTC:20260526T220000
DTSTAMP:20260421T235634
CREATED:20251227T120723Z
LAST-MODIFIED:20251227T120757Z
UID:10016026-1779823800-1779832800@gemeinde-neustadt.de
SUMMARY:Sangklubb | Zion
DESCRIPTION:Jeden Dienstag probt ab 20:00 Uhr der Chor Sangklubb unter der Leitung von Ole Schmitt im Theatersaal in Zion. Interessierte können gerne vorbeischauen.
URL:https://gemeinde-neustadt.de/event/chorprobe-sangklubb-zion-2-2-2-2/2026-05-26/
LOCATION:Gemeindezentrum Zion\, Kornstraße 31\, Bremen\, Bremen\, 28201\, Deutschland
CATEGORIES:Chorprobe
ORGANIZER;CN="Vereinigte ev. Gemeinde Bremen-Neustadt":MAILTO:neustadt@kirche-bremen.de
END:VEVENT
BEGIN:VEVENT
DTSTART;TZID=Europe/Berlin:20260526T200000
DTEND;TZID=Europe/Berlin:20260526T220000
DTSTAMP:20260421T235634
CREATED:20240319T081215Z
LAST-MODIFIED:20251227T122842Z
UID:10003506-1779825600-1779832800@gemeinde-neustadt.de
SUMMARY:AA | St. Pauli
DESCRIPTION:Anonyme Alkoholiker sind eine Gemeinschaft von Männern und Frauen\, die miteinander ihre Erfahrung\, Kraft und Hoffnung teilen\, um ihr gemeinsames Problem zu lösen und anderen zur Genesung vom Alkoholismus zu verhelfen. \nDie einzige Voraussetzung für die Zugehörigkeit ist der Wunsch\, mit dem Trinken aufzuhören.
URL:https://gemeinde-neustadt.de/event/aa-st-pauli-38/2026-05-26/
LOCATION:Gemeindezentrum St. Pauli\, Große Krankenstr. 11\, Bremen\, 28199\, Deutschland
CATEGORIES:Erwachsene,Selbsthilfe
END:VEVENT
BEGIN:VEVENT
DTSTART;TZID=UTC:20260527T153000
DTEND;TZID=UTC:20260527T190000
DTSTAMP:20260421T235634
CREATED:20251219T070556Z
LAST-MODIFIED:20260319T194735Z
UID:10015802-1779895800-1779908400@gemeinde-neustadt.de
SUMMARY:Ballett für Kinder | Zion
DESCRIPTION:Unseren Theatersaal in Zion stellen wir regelmäßig für Ballett-Unterricht zur Verfügung. Unter Leitung der Tanzpädagogin Julia Schneider proben Kinder und Jugendliche und führen immer wieder Stücke auf. Haben Sie Interesse? Dann wenden Sie sich bitte direkt an Julia Schneider: 0421-67322027. Informationen gibt auch Pastor Thomas Lieberum: 0421-59769521.
URL:https://gemeinde-neustadt.de/event/ballett-fuer-kinder-zion-2-2-2-2-2/2026-05-27/
LOCATION:Gemeindezentrum Zion\, Kornstraße 31\, Bremen\, Bremen\, 28201\, Deutschland
CATEGORIES:Jugendarbeit,Kinder,Sport,Tanz
ORGANIZER;CN="Vereinigte ev. Gemeinde Bremen-Neustadt":MAILTO:neustadt@kirche-bremen.de
END:VEVENT
BEGIN:VEVENT
DTSTART;TZID=UTC:20260527T160000
DTEND;TZID=UTC:20260527T190000
DTSTAMP:20260421T235634
CREATED:20251227T120901Z
LAST-MODIFIED:20251227T120951Z
UID:10016071-1779897600-1779908400@gemeinde-neustadt.de
SUMMARY:Fahrräder für Geflüchtete | Zion
DESCRIPTION:Jeden Mittwoch und Donnerstag ist die Fahrrad-Werkstatt im Keller von Zion geöffnet. Interessierte Flüchtlinge (bzw. Unterstützer*innen) können zwischen 15:00-18:00 Uhr vorbeikommen und sich nach Fahrrädern oder Reparaturen erkundigen.
URL:https://gemeinde-neustadt.de/event/info-veranstaltung-super-coop-zion-2-2-3-2-2/2026-05-27/
LOCATION:Gemeindezentrum Zion\, Kornstraße 31\, Bremen\, Bremen\, 28201\, Deutschland
CATEGORIES:Ehrenamt,Selbsthilfe
ORGANIZER;CN="Vereinigte ev. Gemeinde Bremen-Neustadt":MAILTO:neustadt@kirche-bremen.de
END:VEVENT
BEGIN:VEVENT
DTSTART;TZID=UTC:20260527T173000
DTEND;TZID=UTC:20260527T203000
DTSTAMP:20260421T235634
CREATED:20251227T115837Z
LAST-MODIFIED:20260319T194458Z
UID:10015930-1779903000-1779913800@gemeinde-neustadt.de
SUMMARY:Rollenspielgruppe | Zion
DESCRIPTION:Jeden Mittwoch trifft sich in der Roten Zitadelle (im Jugendheim) die Rollenspielgruppe. Sie wird geleitet von Tim Bonßdorf. Mitmachen können Jugendliche ab 14 Jahren. Information oder Anmeldung: 0179-9601727.
URL:https://gemeinde-neustadt.de/event/rollenspielgruppe-zion-2-2-2-2/2026-05-27/
LOCATION:Gemeindezentrum Zion\, Kornstraße 31\, Bremen\, Bremen\, 28201\, Deutschland
CATEGORIES:Jugendarbeit,Spiele
ORGANIZER;CN="Vereinigte ev. Gemeinde Bremen-Neustadt":MAILTO:neustadt@kirche-bremen.de
END:VEVENT
BEGIN:VEVENT
DTSTART;TZID=Europe/Berlin:20260527T180000
DTEND;TZID=Europe/Berlin:20260527T193000
DTSTAMP:20260421T235634
CREATED:20251227T122216Z
LAST-MODIFIED:20251227T122217Z
UID:10006379-1779904800-1779910200@gemeinde-neustadt.de
SUMMARY:Mittwochschor | St. Pauli
DESCRIPTION:Herzlich willkommen zum Mittwochschor.\nInformationen gibt es bei Thomas Ohlendorf: thomas-ohlendorf@t-online.de
URL:https://gemeinde-neustadt.de/event/mittwochschor-st-pauli-9-2-2/2026-05-27/
LOCATION:Gemeindezentrum St. Pauli\, Große Krankenstr. 11\, Bremen\, 28199\, Deutschland
CATEGORIES:Chor,Chorprobe,Erwachsene,Musik,Senior*innen
ORGANIZER;CN="Vereinigte ev. Gemeinde Bremen-Neustadt":MAILTO:neustadt@kirche-bremen.de
END:VEVENT
BEGIN:VEVENT
DTSTART;TZID=Europe/Berlin:20260527T180000
DTEND;TZID=Europe/Berlin:20260527T200000
DTSTAMP:20260421T235634
CREATED:20251227T121427Z
LAST-MODIFIED:20251227T121428Z
UID:10006123-1779904800-1779912000@gemeinde-neustadt.de
SUMMARY:Schwertfechten | St. Pauli
DESCRIPTION:Das spätmittelalterliche Schwertfechten mit dem „langen Schwert“ (oder wie wir sagen: dem „Anderthalbhänder“) kann von beweglichen Männern und Frauen jeden Alters (ab 16 J.) erlernt werden bei Holger Pinnow-Locnikar und Stephan Dunkel.\nDie sportliche Herausforderung ist moderat und kommt der Muskulatur und dem Bewegungsapparat in allen Körperbereichen zugute. Fairness ist bei diesem historischen Kampfsport oberstes Gebot. \nDu willst mehr wissen oder mal reinschnuppern?\nDann melde dich bei Holger: 01575-1915663 (auch WhatsApp)
URL:https://gemeinde-neustadt.de/event/schwertfechten-st-pauli-11-2/2026-05-27/
LOCATION:Gemeindezentrum St. Pauli\, Große Krankenstr. 11\, Bremen\, 28199\, Deutschland
CATEGORIES:Erwachsene,Sport,Theater
ORGANIZER;CN="Vereinigte ev. Gemeinde Bremen-Neustadt":MAILTO:neustadt@kirche-bremen.de
END:VEVENT
BEGIN:VEVENT
DTSTART;TZID=Europe/Berlin:20260527T190000
DTEND;TZID=Europe/Berlin:20260527T210000
DTSTAMP:20260421T235634
CREATED:20240319T081346Z
LAST-MODIFIED:20251229T141026Z
UID:10003767-1779908400-1779915600@gemeinde-neustadt.de
SUMMARY:GA | St. Pauli
DESCRIPTION:Anonyme Spieler (GA) sind eine Gemeinschaft von Frauen und Männern\, die ihre Erfahrung\, Kraft und Hoffnung miteinander teilen\, um ihr gemeinsames Problem zu lösen und anderen süchtigen Spielern bei ihrer Genesung zu helfen.\n\nDie einzige Bedingung für die Mitgliedschaft bei den Anonymen Spielern (GA) ist der aufrichtige Wunsch\, mit dem Spielen aufzuhören.
URL:https://gemeinde-neustadt.de/event/ga-st-pauli-28/2026-05-27/
LOCATION:Gemeindezentrum St. Pauli\, Große Krankenstr. 11\, Bremen\, 28199\, Deutschland
CATEGORIES:Erwachsene,Selbsthilfe
END:VEVENT
BEGIN:VEVENT
DTSTART;TZID=Europe/Berlin:20260527T193000
DTEND;TZID=Europe/Berlin:20260527T213000
DTSTAMP:20260421T235634
CREATED:20240319T111122Z
LAST-MODIFIED:20251225T182533Z
UID:10006576-1779910200-1779917400@gemeinde-neustadt.de
SUMMARY:Mittelaltertanz | St. Pauli
DESCRIPTION:10-20 junge Leute treffen sich in den geraden Kalenderwochen mittwochs um 19:30 Uhr im gediegenen Ambiente des St. Pauli-Gemeindesaals\, um bei guter Musik mittelalterliche Tänze auszuprobieren. \nWer Spaß am Knicksen und Drehen und Partnerwechseln hat\, ist herzlich willkommen. Dieses Angebot ist kostenfrei. \nMehr Informationen gibt es bei Martin.\nEmail: saltatoria.noctua@posteo.de
URL:https://gemeinde-neustadt.de/event/mittelaltertanz-st-pauli-8/2026-05-27/
LOCATION:Gemeindezentrum St. Pauli\, Große Krankenstr. 11\, Bremen\, 28199\, Deutschland
CATEGORIES:Erwachsene,Sport,Tanz
ORGANIZER;CN="Vereinigte ev. Gemeinde Bremen-Neustadt":MAILTO:neustadt@kirche-bremen.de
END:VEVENT
BEGIN:VEVENT
DTSTART;TZID=UTC:20260527T193000
DTEND;TZID=UTC:20260527T220000
DTSTAMP:20260421T235634
CREATED:20251227T160519Z
LAST-MODIFIED:20251227T160601Z
UID:10016141-1779910200-1779919200@gemeinde-neustadt.de
SUMMARY:Tanzclub Bremer Süden | Zion
DESCRIPTION:Jeden Mittwoch treffen sich Tänzerinnen und Tänzer in Zion. Jede und jeder ist willkommen! Bitte schauen Sie auf die Homepage von tcbs und nehmen Sie Kontakt mit den Verantwortlichen auf.
URL:https://gemeinde-neustadt.de/event/tanzclub-bremer-sueden-zion-2-2-2-2/2026-05-27/
LOCATION:Gemeindezentrum Zion\, Kornstraße 31\, Bremen\, Bremen\, 28201\, Deutschland
CATEGORIES:Erwachsene,Musik,Probe,Tanz
ORGANIZER;CN="Vereinigte ev. Gemeinde Bremen-Neustadt":MAILTO:neustadt@kirche-bremen.de
END:VEVENT
BEGIN:VEVENT
DTSTART;TZID=Europe/Berlin:20260528T154500
DTEND;TZID=Europe/Berlin:20260528T161500
DTSTAMP:20260421T235634
CREATED:20260316T221339Z
LAST-MODIFIED:20260316T222400Z
UID:10017149-1779983100-1779984900@gemeinde-neustadt.de
SUMMARY:Singspatzen | Matthias Claudius
DESCRIPTION:Bei den Singspatzen haben Kindergartenkinder ab 4 Jahre die Möglichkeit\, musikalische Erfahrungen zu sammeln. Der Schwerpunkt ist das Singen; verknüpft wird es mit Elementen der musikalischen Früherziehung\, mit Tanz und Bewegung. Es geht um Rhythmus und Melodie\, um Klang und Notenbilder. Die Stimmbildungsübungen werden verpackt in kindgerechte Geschichten. \nDie Singspatzen treten bei Familiengottesdiensten auf. Die Kinder können sich zeigen – mit ihrer Stimme und ihren Talenten.
URL:https://gemeinde-neustadt.de/event/singspatzen-matthias-claudius-2-2-2/2026-05-28/
LOCATION:Gemeindezentrum Matthias Claudius\, Wilhelm-Raabe-Str. 1\, Bremen\, 28201
CATEGORIES:Chor,Chorprobe,Kinder,Kinderchor,Kirchenmusik,KITA,Musik,Musikalische Früherziehung
ORGANIZER;CN="Vereinigte ev. Gemeinde Bremen-Neustadt":MAILTO:neustadt@kirche-bremen.de
END:VEVENT
BEGIN:VEVENT
DTSTART;TZID=UTC:20260528T160000
DTEND;TZID=UTC:20260528T190000
DTSTAMP:20260421T235634
CREATED:20251227T120901Z
LAST-MODIFIED:20251227T120951Z
UID:10016072-1779984000-1779994800@gemeinde-neustadt.de
SUMMARY:Fahrräder für Geflüchtete | Zion
DESCRIPTION:Jeden Mittwoch und Donnerstag ist die Fahrrad-Werkstatt im Keller von Zion geöffnet. Interessierte Flüchtlinge (bzw. Unterstützer*innen) können zwischen 15:00-18:00 Uhr vorbeikommen und sich nach Fahrrädern oder Reparaturen erkundigen.
URL:https://gemeinde-neustadt.de/event/info-veranstaltung-super-coop-zion-2-2-3-2-2/2026-05-28/
LOCATION:Gemeindezentrum Zion\, Kornstraße 31\, Bremen\, Bremen\, 28201\, Deutschland
CATEGORIES:Ehrenamt,Selbsthilfe
ORGANIZER;CN="Vereinigte ev. Gemeinde Bremen-Neustadt":MAILTO:neustadt@kirche-bremen.de
END:VEVENT
BEGIN:VEVENT
DTSTART;TZID=Europe/Berlin:20260528T163000
DTEND;TZID=Europe/Berlin:20260528T171500
DTSTAMP:20260421T235634
CREATED:20260316T220839Z
LAST-MODIFIED:20260316T222520Z
UID:10007803-1779985800-1779988500@gemeinde-neustadt.de
SUMMARY:Kinderchor | Matthias Claudius
DESCRIPTION:Komm und sing mit!\nFür Kinder von 6-10 Jahren.\nIm Kinderchor singen Kinder ab der ersten Klasse. In unserer Gemeinde gibt es zwei Kinderchorgruppen\, beide Gruppen proben einmal in der Woche – die eine in St. Pauli\, die andere in Matthias-Claudius. Für Auftritte und Ausfahrten werden beide Gruppen zusammengelegt. Die Kinder üben sich in Stimmführung und Rhythmus\, in Notenlesen und Gemeinschaft.  \n\n\n\nDu bist herzlich willkommen! \nEs grüßt Dich Kantorin Nora Köhler! \nkirchenmusik.neustadt@kirche-bremen.de \n0421 69665613
URL:https://gemeinde-neustadt.de/event/kinderchor-matthias-claudius-2-2/2026-05-28/
LOCATION:Gemeindezentrum Matthias Claudius\, Wilhelm-Raabe-Str. 1\, Bremen\, 28201
CATEGORIES:Chor,Chorprobe,Kinder,Kinderchor,Kirchenmusik,Musik,Probe
ORGANIZER;CN="Vereinigte ev. Gemeinde Bremen-Neustadt":MAILTO:neustadt@kirche-bremen.de
END:VEVENT
BEGIN:VEVENT
DTSTART;TZID=Europe/Berlin:20260528T180000
DTEND;TZID=Europe/Berlin:20260528T200000
DTSTAMP:20260421T235634
CREATED:20251227T123400Z
LAST-MODIFIED:20260402T120820Z
UID:10005875-1779991200-1779998400@gemeinde-neustadt.de
SUMMARY:Posaunenchor | St. Pauli
DESCRIPTION:Trübsal blasen sollen andere… \nDer Posaunenchor ist eine buntgemischte Gemeindegruppe.\nWir machen Musik zwischen Barock und Moderne\, vom Choral bis zum Swing-Klassiker\, von alter Bläsermusik bis zu Filmmusik\, Rock und Pop.\nWer ein Blechblasinstrument erlernen will\, ist uns genauso willkommen wie jemand\, der schon Trompete\, Posaune oder ein anderes Blechblasinstrument spielen kann. \nUnsere Proben sind donnerstags von 18:30 – 20 Uhr und wir freuen uns über jeden\, der mitmachen möchte. \nDu spielst Trompete\, Posaune oder gar Tuba?\nDu hast Lust ein Blechblasinstrument zu lernen?\nWeitere Infos gibt es bei unserem Posaunenchorleiter Hauke Dahms:\nHauke.dahms@web.de oder 8099210
URL:https://gemeinde-neustadt.de/event/posaunenchor-st-pauli-16-2/2026-05-28/
LOCATION:Gemeindezentrum St. Pauli\, Große Krankenstr. 11\, Bremen\, 28199\, Deutschland
CATEGORIES:Erwachsene,Kirchenmusik,Musik
ORGANIZER;CN="Vereinigte ev. Gemeinde Bremen-Neustadt":MAILTO:neustadt@kirche-bremen.de
END:VEVENT
BEGIN:VEVENT
DTSTART;TZID=UTC:20260528T183000
DTEND;TZID=UTC:20260528T220000
DTSTAMP:20260421T235634
CREATED:20251227T120524Z
LAST-MODIFIED:20260331T152646Z
UID:10016002-1779993000-1780005600@gemeinde-neustadt.de
SUMMARY:Tanzen macht Spaß | Zion
DESCRIPTION:Jeden Donnerstag treffen sich abends im Theatersaal in Zion Paare zum Tanzen. Susanne Seufert als Tanzlehrerin führt durch die Veranstaltung. Haben Sie Interesse\, melden Sie sich bei ihr: 0421-71857. Tanzen macht Spaß!
URL:https://gemeinde-neustadt.de/event/tanzen-macht-spass-zion-2-2-2-2/2026-05-28/
LOCATION:Gemeindezentrum Zion\, Kornstraße 31\, Bremen\, Bremen\, 28201\, Deutschland
CATEGORIES:Erwachsene,Musik,Tanz
ORGANIZER;CN="Vereinigte ev. Gemeinde Bremen-Neustadt":MAILTO:neustadt@kirche-bremen.de
END:VEVENT
BEGIN:VEVENT
DTSTART;TZID=UTC:20260528T190000
DTEND;TZID=UTC:20260528T210000
DTSTAMP:20260421T235634
CREATED:20250729T130421Z
LAST-MODIFIED:20251229T140726Z
UID:10016234-1779994800-1780002000@gemeinde-neustadt.de
SUMMARY:Suchtkrankenhilfe | Zion
DESCRIPTION:Jeden Donnerstag treffen sich Menschen im Rahmen der Neustädter Suchtkrankenhilfe im Gemeindezentrum Zion (im Kaminraum). Interessierte sind herzlich eingeladen vorbeizukommen.
URL:https://gemeinde-neustadt.de/event/suchtkrankenhilfe-zion-2-2/2026-05-28/
LOCATION:Gemeindezentrum Zion\, Kornstraße 31\, Bremen\, Bremen\, 28201\, Deutschland
CATEGORIES:Erwachsene,Sitzung
ORGANIZER;CN="Vereinigte ev. Gemeinde Bremen-Neustadt":MAILTO:neustadt@kirche-bremen.de
END:VEVENT
BEGIN:VEVENT
DTSTART;TZID=Europe/Berlin:20260528T193000
DTEND;TZID=Europe/Berlin:20260528T210000
DTSTAMP:20260421T235634
CREATED:20240319T081937Z
LAST-MODIFIED:20251229T140830Z
UID:10004028-1779996600-1780002000@gemeinde-neustadt.de
SUMMARY:NA | St. Pauli
DESCRIPTION:NA (Narcotics Anonymous) sind eine Gemeinschaft von Männern und Frauen\, die miteinander ihre Erfahrung\, Kraft und Hoffnung teilen\, um ihr gemeinsames Problem zu lösen und anderen zur Genesung vom stofflichen Drogen zu verhelfen. \nDie einzige Voraussetzung für die Zugehörigkeit ist der Wunsch\, mit den Drogen aufzuhören.
URL:https://gemeinde-neustadt.de/event/na-st-pauli-22/2026-05-28/
LOCATION:Gemeindezentrum St. Pauli\, Große Krankenstr. 11\, Bremen\, 28199\, Deutschland
CATEGORIES:Erwachsene,Selbsthilfe
END:VEVENT
BEGIN:VEVENT
DTSTART;TZID=Europe/Berlin:20260529T170000
DTEND;TZID=Europe/Berlin:20260529T210000
DTSTAMP:20260421T235634
CREATED:20250728T191512Z
LAST-MODIFIED:20251227T161630Z
UID:10016266-1780074000-1780088400@gemeinde-neustadt.de
SUMMARY:Internationales Musikcafé | Zion
DESCRIPTION:Jeden Freitag trifft sich ab 17:00 Uhr das „Internationale Musikcafé Bremen“ im Theatersaal im Gemeindezentrum Zion. Musikinteressierte aller Länder sind herzlich willkommen – kommt einfach dazu. Neben dem gemeinsamen Musizieren gibt es Kaffee\, Tee und frisch gebackenen Kuchen! Aus den Proben heraus entwickeln sich immer wieder Konzerte.
URL:https://gemeinde-neustadt.de/event/internationales-musikcafe-i-zion-2-3-2/2026-05-29/
LOCATION:Gemeindezentrum Zion\, Kornstraße 31\, Bremen\, Bremen\, 28201\, Deutschland
CATEGORIES:Erwachsene,Kirchenmusik,Konzerte,Kunst
ORGANIZER;CN="Vereinigte ev. Gemeinde Bremen-Neustadt":MAILTO:neustadt@kirche-bremen.de
END:VEVENT
BEGIN:VEVENT
DTSTART;TZID=Europe/Berlin:20260529T190000
DTEND;TZID=Europe/Berlin:20260529T210000
DTSTAMP:20260421T235634
CREATED:20240319T080920Z
LAST-MODIFIED:20251227T123616Z
UID:10002984-1780081200-1780088400@gemeinde-neustadt.de
SUMMARY:AA | St. Pauli
DESCRIPTION:Anonyme Alkoholiker sind eine Gemeinschaft von Männern und Frauen\, die miteinander ihre Erfahrung\, Kraft und Hoffnung teilen\, um ihr gemeinsames Problem zu lösen und anderen zur Genesung vom Alkoholismus zu verhelfen. \nDie einzige Voraussetzung für die Zugehörigkeit ist der Wunsch\, mit dem Trinken aufzuhören.
URL:https://gemeinde-neustadt.de/event/aa-st-pauli-37/2026-05-29/
LOCATION:Gemeindezentrum St. Pauli\, Große Krankenstr. 11\, Bremen\, 28199\, Deutschland
CATEGORIES:Erwachsene,Selbsthilfe
END:VEVENT
BEGIN:VEVENT
DTSTART;TZID=Europe/Berlin:20260531T170000
DTEND;TZID=Europe/Berlin:20260531T190000
DTSTAMP:20260421T235634
CREATED:20240319T082155Z
LAST-MODIFIED:20251227T161844Z
UID:10004289-1780246800-1780254000@gemeinde-neustadt.de
SUMMARY:GA | St. Pauli
DESCRIPTION:Anonyme Spieler (GA) sind eine Gemeinschaft von Frauen und Männern\, die ihre Erfahrung\, Kraft und Hoffnung miteinander teilen\, um ihr gemeinsames Problem zu lösen und anderen süchtigen Spielern bei ihrer Genesung zu helfen.\n\nDie einzige Bedingung für die Mitgliedschaft bei den Anonymen Spielern (GA) ist der aufrichtige Wunsch\, mit dem Spielen aufzuhören.
URL:https://gemeinde-neustadt.de/event/ga-st-pauli-29/2026-05-31/
LOCATION:Gemeindezentrum St. Pauli\, Große Krankenstr. 11\, Bremen\, 28199\, Deutschland
CATEGORIES:Erwachsene,Selbsthilfe
END:VEVENT
END:VCALENDAR