BEGIN:VCALENDAR
VERSION:2.0
PRODID:-//Gemeinde Bremen-Neustadt - ECPv6.14.2//NONSGML v1.0//EN
CALSCALE:GREGORIAN
METHOD:PUBLISH
X-ORIGINAL-URL:https://gemeinde-neustadt.de
X-WR-CALDESC:Veranstaltungen für Gemeinde Bremen-Neustadt
REFRESH-INTERVAL;VALUE=DURATION:PT1H
X-Robots-Tag:noindex
X-PUBLISHED-TTL:PT1H
BEGIN:VTIMEZONE
TZID:UTC
BEGIN:STANDARD
TZOFFSETFROM:+0000
TZOFFSETTO:+0000
TZNAME:UTC
DTSTART:20260101T000000
END:STANDARD
END:VTIMEZONE
BEGIN:VTIMEZONE
TZID:Europe/Berlin
BEGIN:DAYLIGHT
TZOFFSETFROM:+0100
TZOFFSETTO:+0200
TZNAME:CEST
DTSTART:20260329T010000
END:DAYLIGHT
BEGIN:STANDARD
TZOFFSETFROM:+0200
TZOFFSETTO:+0100
TZNAME:CET
DTSTART:20261025T010000
END:STANDARD
END:VTIMEZONE
BEGIN:VEVENT
DTSTART;TZID=UTC:20260506T160000
DTEND;TZID=UTC:20260506T190000
DTSTAMP:20260421T155345
CREATED:20251227T120901Z
LAST-MODIFIED:20251227T120951Z
UID:10016065-1778083200-1778094000@gemeinde-neustadt.de
SUMMARY:Fahrräder für Geflüchtete | Zion
DESCRIPTION:Jeden Mittwoch und Donnerstag ist die Fahrrad-Werkstatt im Keller von Zion geöffnet. Interessierte Flüchtlinge (bzw. Unterstützer*innen) können zwischen 15:00-18:00 Uhr vorbeikommen und sich nach Fahrrädern oder Reparaturen erkundigen.
URL:https://gemeinde-neustadt.de/event/info-veranstaltung-super-coop-zion-2-2-3-2-2/2026-05-06/
LOCATION:Gemeindezentrum Zion\, Kornstraße 31\, Bremen\, Bremen\, 28201\, Deutschland
CATEGORIES:Ehrenamt,Selbsthilfe
ORGANIZER;CN="Vereinigte ev. Gemeinde Bremen-Neustadt":MAILTO:neustadt@kirche-bremen.de
END:VEVENT
BEGIN:VEVENT
DTSTART;TZID=UTC:20260506T173000
DTEND;TZID=UTC:20260506T203000
DTSTAMP:20260421T155345
CREATED:20251227T115837Z
LAST-MODIFIED:20260319T194458Z
UID:10015927-1778088600-1778099400@gemeinde-neustadt.de
SUMMARY:Rollenspielgruppe | Zion
DESCRIPTION:Jeden Mittwoch trifft sich in der Roten Zitadelle (im Jugendheim) die Rollenspielgruppe. Sie wird geleitet von Tim Bonßdorf. Mitmachen können Jugendliche ab 14 Jahren. Information oder Anmeldung: 0179-9601727.
URL:https://gemeinde-neustadt.de/event/rollenspielgruppe-zion-2-2-2-2/2026-05-06/
LOCATION:Gemeindezentrum Zion\, Kornstraße 31\, Bremen\, Bremen\, 28201\, Deutschland
CATEGORIES:Jugendarbeit,Spiele
ORGANIZER;CN="Vereinigte ev. Gemeinde Bremen-Neustadt":MAILTO:neustadt@kirche-bremen.de
END:VEVENT
BEGIN:VEVENT
DTSTART;TZID=Europe/Berlin:20260506T180000
DTEND;TZID=Europe/Berlin:20260506T193000
DTSTAMP:20260421T155345
CREATED:20251227T122216Z
LAST-MODIFIED:20251227T122217Z
UID:10006376-1778090400-1778095800@gemeinde-neustadt.de
SUMMARY:Mittwochschor | St. Pauli
DESCRIPTION:Herzlich willkommen zum Mittwochschor.\nInformationen gibt es bei Thomas Ohlendorf: thomas-ohlendorf@t-online.de
URL:https://gemeinde-neustadt.de/event/mittwochschor-st-pauli-9-2-2/2026-05-06/
LOCATION:Gemeindezentrum St. Pauli\, Große Krankenstr. 11\, Bremen\, 28199\, Deutschland
CATEGORIES:Chor,Chorprobe,Erwachsene,Musik,Senior*innen
ORGANIZER;CN="Vereinigte ev. Gemeinde Bremen-Neustadt":MAILTO:neustadt@kirche-bremen.de
END:VEVENT
BEGIN:VEVENT
DTSTART;TZID=Europe/Berlin:20260506T180000
DTEND;TZID=Europe/Berlin:20260506T200000
DTSTAMP:20260421T155345
CREATED:20251227T121427Z
LAST-MODIFIED:20251227T121428Z
UID:10006120-1778090400-1778097600@gemeinde-neustadt.de
SUMMARY:Schwertfechten | St. Pauli
DESCRIPTION:Das spätmittelalterliche Schwertfechten mit dem „langen Schwert“ (oder wie wir sagen: dem „Anderthalbhänder“) kann von beweglichen Männern und Frauen jeden Alters (ab 16 J.) erlernt werden bei Holger Pinnow-Locnikar und Stephan Dunkel.\nDie sportliche Herausforderung ist moderat und kommt der Muskulatur und dem Bewegungsapparat in allen Körperbereichen zugute. Fairness ist bei diesem historischen Kampfsport oberstes Gebot. \nDu willst mehr wissen oder mal reinschnuppern?\nDann melde dich bei Holger: 01575-1915663 (auch WhatsApp)
URL:https://gemeinde-neustadt.de/event/schwertfechten-st-pauli-11-2/2026-05-06/
LOCATION:Gemeindezentrum St. Pauli\, Große Krankenstr. 11\, Bremen\, 28199\, Deutschland
CATEGORIES:Erwachsene,Sport,Theater
ORGANIZER;CN="Vereinigte ev. Gemeinde Bremen-Neustadt":MAILTO:neustadt@kirche-bremen.de
END:VEVENT
BEGIN:VEVENT
DTSTART;TZID=Europe/Berlin:20260506T190000
DTEND;TZID=Europe/Berlin:20260506T210000
DTSTAMP:20260421T155345
CREATED:20240319T081346Z
LAST-MODIFIED:20251229T141026Z
UID:10003764-1778094000-1778101200@gemeinde-neustadt.de
SUMMARY:GA | St. Pauli
DESCRIPTION:Anonyme Spieler (GA) sind eine Gemeinschaft von Frauen und Männern\, die ihre Erfahrung\, Kraft und Hoffnung miteinander teilen\, um ihr gemeinsames Problem zu lösen und anderen süchtigen Spielern bei ihrer Genesung zu helfen.\n\nDie einzige Bedingung für die Mitgliedschaft bei den Anonymen Spielern (GA) ist der aufrichtige Wunsch\, mit dem Spielen aufzuhören.
URL:https://gemeinde-neustadt.de/event/ga-st-pauli-28/2026-05-06/
LOCATION:Gemeindezentrum St. Pauli\, Große Krankenstr. 11\, Bremen\, 28199\, Deutschland
CATEGORIES:Erwachsene,Selbsthilfe
END:VEVENT
BEGIN:VEVENT
DTSTART;TZID=UTC:20260506T190000
DTEND;TZID=UTC:20260506T210000
DTSTAMP:20260421T155345
CREATED:20251227T121830Z
LAST-MODIFIED:20251227T121831Z
UID:10002605-1778094000-1778101200@gemeinde-neustadt.de
SUMMARY:Schreibstube | St. Pauli
DESCRIPTION:Ein neues Angebot  \n\n\n\nDu schreibst eigentlich gerne\, nimmst Dir aber keine Zeit dafür? Du würdest gerne ausprobieren\, ob Schreiben etwas für Dich ist\, weißt aber gar nicht\, wie Du anfangen könntest? Du brauchst dringend Motivation\, damit Du endlich all die Gedanken in Deinem Kopf zu Papier bringst? \n\n\n\nWunderbar. Dann komm doch einfach mal in die Schreibstube und probier Dich aus. Wir treffen uns am 1. Mittwoch im Monat\, um zu schreiben und – wenn wer möchte – auch um Geschriebenes vorzutragen. \nMehr Infos gibt es bei Ragna Miller: ragna.miller@kirche-bremen.de
URL:https://gemeinde-neustadt.de/event/schreibstube-st-pauli-4-2/2026-05-06/
LOCATION:Gemeindezentrum St. Pauli\, Große Krankenstr. 11\, Bremen\, 28199\, Deutschland
CATEGORIES:Erwachsene,Kreativ
ORGANIZER;CN="Vereinigte ev. Gemeinde Bremen-Neustadt":MAILTO:neustadt@kirche-bremen.de
END:VEVENT
BEGIN:VEVENT
DTSTART;TZID=UTC:20260506T190000
DTEND;TZID=UTC:20260506T210000
DTSTAMP:20260421T155345
CREATED:20251227T155721Z
LAST-MODIFIED:20251227T155831Z
UID:10016091-1778094000-1778101200@gemeinde-neustadt.de
SUMMARY:Guttempler-Treffen | Zion
DESCRIPTION:Alle 14 Tage treffen sich die Guttempler im Kaminraum in Zion. Haben Sie Interesse an dieser Gruppe\, die sich mit dem Thema Sucht auseinandersetzt\, melden Sie sich gerne bei der Leiterin der Gruppe Marieanne Häuschen: 0421-385217
URL:https://gemeinde-neustadt.de/event/adventsmarkt-st-pauli-2-2-2-2/2026-05-06/
LOCATION:Gemeindezentrum Zion\, Kornstraße 31\, Bremen\, Bremen\, 28201\, Deutschland
CATEGORIES:Selbsthilfe,Sitzung
ORGANIZER;CN="Vereinigte ev. Gemeinde Bremen-Neustadt":MAILTO:neustadt@kirche-bremen.de
END:VEVENT
BEGIN:VEVENT
DTSTART;TZID=UTC:20260506T193000
DTEND;TZID=UTC:20260506T220000
DTSTAMP:20260421T155345
CREATED:20251227T160519Z
LAST-MODIFIED:20251227T160601Z
UID:10016138-1778095800-1778104800@gemeinde-neustadt.de
SUMMARY:Tanzclub Bremer Süden | Zion
DESCRIPTION:Jeden Mittwoch treffen sich Tänzerinnen und Tänzer in Zion. Jede und jeder ist willkommen! Bitte schauen Sie auf die Homepage von tcbs und nehmen Sie Kontakt mit den Verantwortlichen auf.
URL:https://gemeinde-neustadt.de/event/tanzclub-bremer-sueden-zion-2-2-2-2/2026-05-06/
LOCATION:Gemeindezentrum Zion\, Kornstraße 31\, Bremen\, Bremen\, 28201\, Deutschland
CATEGORIES:Erwachsene,Musik,Probe,Tanz
ORGANIZER;CN="Vereinigte ev. Gemeinde Bremen-Neustadt":MAILTO:neustadt@kirche-bremen.de
END:VEVENT
BEGIN:VEVENT
DTSTART;TZID=Europe/Berlin:20260507T100000
DTEND;TZID=Europe/Berlin:20260507T120000
DTSTAMP:20260421T155345
CREATED:20260204T094534Z
LAST-MODIFIED:20260403T160526Z
UID:10016113-1778148000-1778155200@gemeinde-neustadt.de
SUMMARY:Hauskonferenz | Zion
DESCRIPTION:Jeden zweiten Donnerstag treffen sich Mitarbeitende und Ehrenamtliche und besprechen alle Themen\, die mit dem Gemeindezentrum Zion zu tun haben. Interessierte und Gäste sind herzlich willkommen und können bei allen Fragen mitdiskutieren! Wir treffen uns von 10:00-12:00 Uhr im Garten oder im Raum Solidarität. \nWeitere Informationen bei Pastor Thomas Lieberum (0421-59769521) oder thomas.lieberum@kirche-bremen.de
URL:https://gemeinde-neustadt.de/event/hauskonferenz-zion-2-3-2-2-2-2/2026-05-07/
LOCATION:Gemeindezentrum Zion\, Kornstraße 31\, Bremen\, Bremen\, 28201\, Deutschland
CATEGORIES:Ehrenamt,Erwachsene
ORGANIZER;CN="Vereinigte ev. Gemeinde Bremen-Neustadt":MAILTO:neustadt@kirche-bremen.de
END:VEVENT
BEGIN:VEVENT
DTSTART;TZID=Europe/Berlin:20260507T154500
DTEND;TZID=Europe/Berlin:20260507T161500
DTSTAMP:20260421T155345
CREATED:20260316T221339Z
LAST-MODIFIED:20260316T222400Z
UID:10017146-1778168700-1778170500@gemeinde-neustadt.de
SUMMARY:Singspatzen | Matthias Claudius
DESCRIPTION:Bei den Singspatzen haben Kindergartenkinder ab 4 Jahre die Möglichkeit\, musikalische Erfahrungen zu sammeln. Der Schwerpunkt ist das Singen; verknüpft wird es mit Elementen der musikalischen Früherziehung\, mit Tanz und Bewegung. Es geht um Rhythmus und Melodie\, um Klang und Notenbilder. Die Stimmbildungsübungen werden verpackt in kindgerechte Geschichten. \nDie Singspatzen treten bei Familiengottesdiensten auf. Die Kinder können sich zeigen – mit ihrer Stimme und ihren Talenten.
URL:https://gemeinde-neustadt.de/event/singspatzen-matthias-claudius-2-2-2/2026-05-07/
LOCATION:Gemeindezentrum Matthias Claudius\, Wilhelm-Raabe-Str. 1\, Bremen\, 28201
CATEGORIES:Chor,Chorprobe,Kinder,Kinderchor,Kirchenmusik,KITA,Musik,Musikalische Früherziehung
ORGANIZER;CN="Vereinigte ev. Gemeinde Bremen-Neustadt":MAILTO:neustadt@kirche-bremen.de
END:VEVENT
BEGIN:VEVENT
DTSTART;TZID=UTC:20260507T160000
DTEND;TZID=UTC:20260507T190000
DTSTAMP:20260421T155345
CREATED:20251227T120901Z
LAST-MODIFIED:20251227T120951Z
UID:10016066-1778169600-1778180400@gemeinde-neustadt.de
SUMMARY:Fahrräder für Geflüchtete | Zion
DESCRIPTION:Jeden Mittwoch und Donnerstag ist die Fahrrad-Werkstatt im Keller von Zion geöffnet. Interessierte Flüchtlinge (bzw. Unterstützer*innen) können zwischen 15:00-18:00 Uhr vorbeikommen und sich nach Fahrrädern oder Reparaturen erkundigen.
URL:https://gemeinde-neustadt.de/event/info-veranstaltung-super-coop-zion-2-2-3-2-2/2026-05-07/
LOCATION:Gemeindezentrum Zion\, Kornstraße 31\, Bremen\, Bremen\, 28201\, Deutschland
CATEGORIES:Ehrenamt,Selbsthilfe
ORGANIZER;CN="Vereinigte ev. Gemeinde Bremen-Neustadt":MAILTO:neustadt@kirche-bremen.de
END:VEVENT
BEGIN:VEVENT
DTSTART;TZID=Europe/Berlin:20260507T163000
DTEND;TZID=Europe/Berlin:20260507T171500
DTSTAMP:20260421T155345
CREATED:20260316T220839Z
LAST-MODIFIED:20260316T222520Z
UID:10007800-1778171400-1778174100@gemeinde-neustadt.de
SUMMARY:Kinderchor | Matthias Claudius
DESCRIPTION:Komm und sing mit!\nFür Kinder von 6-10 Jahren.\nIm Kinderchor singen Kinder ab der ersten Klasse. In unserer Gemeinde gibt es zwei Kinderchorgruppen\, beide Gruppen proben einmal in der Woche – die eine in St. Pauli\, die andere in Matthias-Claudius. Für Auftritte und Ausfahrten werden beide Gruppen zusammengelegt. Die Kinder üben sich in Stimmführung und Rhythmus\, in Notenlesen und Gemeinschaft.  \n\n\n\nDu bist herzlich willkommen! \nEs grüßt Dich Kantorin Nora Köhler! \nkirchenmusik.neustadt@kirche-bremen.de \n0421 69665613
URL:https://gemeinde-neustadt.de/event/kinderchor-matthias-claudius-2-2/2026-05-07/
LOCATION:Gemeindezentrum Matthias Claudius\, Wilhelm-Raabe-Str. 1\, Bremen\, 28201
CATEGORIES:Chor,Chorprobe,Kinder,Kinderchor,Kirchenmusik,Musik,Probe
ORGANIZER;CN="Vereinigte ev. Gemeinde Bremen-Neustadt":MAILTO:neustadt@kirche-bremen.de
END:VEVENT
BEGIN:VEVENT
DTSTART;TZID=Europe/Berlin:20260507T180000
DTEND;TZID=Europe/Berlin:20260507T200000
DTSTAMP:20260421T155345
CREATED:20251227T123400Z
LAST-MODIFIED:20260402T120820Z
UID:10005872-1778176800-1778184000@gemeinde-neustadt.de
SUMMARY:Posaunenchor | St. Pauli
DESCRIPTION:Trübsal blasen sollen andere… \nDer Posaunenchor ist eine buntgemischte Gemeindegruppe.\nWir machen Musik zwischen Barock und Moderne\, vom Choral bis zum Swing-Klassiker\, von alter Bläsermusik bis zu Filmmusik\, Rock und Pop.\nWer ein Blechblasinstrument erlernen will\, ist uns genauso willkommen wie jemand\, der schon Trompete\, Posaune oder ein anderes Blechblasinstrument spielen kann. \nUnsere Proben sind donnerstags von 18:30 – 20 Uhr und wir freuen uns über jeden\, der mitmachen möchte. \nDu spielst Trompete\, Posaune oder gar Tuba?\nDu hast Lust ein Blechblasinstrument zu lernen?\nWeitere Infos gibt es bei unserem Posaunenchorleiter Hauke Dahms:\nHauke.dahms@web.de oder 8099210
URL:https://gemeinde-neustadt.de/event/posaunenchor-st-pauli-16-2/2026-05-07/
LOCATION:Gemeindezentrum St. Pauli\, Große Krankenstr. 11\, Bremen\, 28199\, Deutschland
CATEGORIES:Erwachsene,Kirchenmusik,Musik
ORGANIZER;CN="Vereinigte ev. Gemeinde Bremen-Neustadt":MAILTO:neustadt@kirche-bremen.de
END:VEVENT
BEGIN:VEVENT
DTSTART;TZID=UTC:20260507T183000
DTEND;TZID=UTC:20260507T220000
DTSTAMP:20260421T155345
CREATED:20251227T120524Z
LAST-MODIFIED:20260331T152646Z
UID:10015999-1778178600-1778191200@gemeinde-neustadt.de
SUMMARY:Tanzen macht Spaß | Zion
DESCRIPTION:Jeden Donnerstag treffen sich abends im Theatersaal in Zion Paare zum Tanzen. Susanne Seufert als Tanzlehrerin führt durch die Veranstaltung. Haben Sie Interesse\, melden Sie sich bei ihr: 0421-71857. Tanzen macht Spaß!
URL:https://gemeinde-neustadt.de/event/tanzen-macht-spass-zion-2-2-2-2/2026-05-07/
LOCATION:Gemeindezentrum Zion\, Kornstraße 31\, Bremen\, Bremen\, 28201\, Deutschland
CATEGORIES:Erwachsene,Musik,Tanz
ORGANIZER;CN="Vereinigte ev. Gemeinde Bremen-Neustadt":MAILTO:neustadt@kirche-bremen.de
END:VEVENT
BEGIN:VEVENT
DTSTART;TZID=UTC:20260507T190000
DTEND;TZID=UTC:20260507T210000
DTSTAMP:20260421T155345
CREATED:20250729T130421Z
LAST-MODIFIED:20251229T140726Z
UID:10016231-1778180400-1778187600@gemeinde-neustadt.de
SUMMARY:Suchtkrankenhilfe | Zion
DESCRIPTION:Jeden Donnerstag treffen sich Menschen im Rahmen der Neustädter Suchtkrankenhilfe im Gemeindezentrum Zion (im Kaminraum). Interessierte sind herzlich eingeladen vorbeizukommen.
URL:https://gemeinde-neustadt.de/event/suchtkrankenhilfe-zion-2-2/2026-05-07/
LOCATION:Gemeindezentrum Zion\, Kornstraße 31\, Bremen\, Bremen\, 28201\, Deutschland
CATEGORIES:Erwachsene,Sitzung
ORGANIZER;CN="Vereinigte ev. Gemeinde Bremen-Neustadt":MAILTO:neustadt@kirche-bremen.de
END:VEVENT
BEGIN:VEVENT
DTSTART;TZID=Europe/Berlin:20260507T193000
DTEND;TZID=Europe/Berlin:20260507T210000
DTSTAMP:20260421T155345
CREATED:20240319T081937Z
LAST-MODIFIED:20251229T140830Z
UID:10004025-1778182200-1778187600@gemeinde-neustadt.de
SUMMARY:NA | St. Pauli
DESCRIPTION:NA (Narcotics Anonymous) sind eine Gemeinschaft von Männern und Frauen\, die miteinander ihre Erfahrung\, Kraft und Hoffnung teilen\, um ihr gemeinsames Problem zu lösen und anderen zur Genesung vom stofflichen Drogen zu verhelfen. \nDie einzige Voraussetzung für die Zugehörigkeit ist der Wunsch\, mit den Drogen aufzuhören.
URL:https://gemeinde-neustadt.de/event/na-st-pauli-22/2026-05-07/
LOCATION:Gemeindezentrum St. Pauli\, Große Krankenstr. 11\, Bremen\, 28199\, Deutschland
CATEGORIES:Erwachsene,Selbsthilfe
END:VEVENT
BEGIN:VEVENT
DTSTART;TZID=Europe/Berlin:20260507T200000
DTEND;TZID=Europe/Berlin:20260507T220000
DTSTAMP:20260421T155345
CREATED:20251227T123212Z
LAST-MODIFIED:20251227T123213Z
UID:10005489-1778184000-1778191200@gemeinde-neustadt.de
SUMMARY:Liederabend | St. Pauli
DESCRIPTION:In einer lockeren Gruppe\, die sich über jeden neuen Menschen freut\, treffen wir uns seit über einem Jahr im Seminarraum im Gemeindezentrum St. Pauli\, um gemeinsam zu singen und Musik zu machen.\nWir sind kein Chor\, sondern eher eine Liederrunde am Lagerfeuer\, nur ohne Lagerfeuer (vielleicht mal mit Kerze). Du kannst ohne Anmeldung spontan an dem Abend vorbeikommen. \nhttps://offeneliederabende.wixsite.com/offeneliederabende \n 
URL:https://gemeinde-neustadt.de/event/liederabend-st-pauli-2/2026-05-07/
LOCATION:Gemeindezentrum St. Pauli\, Große Krankenstr. 11\, Bremen\, 28199\, Deutschland
CATEGORIES:Erwachsene,Musik
ORGANIZER;CN="Vereinigte ev. Gemeinde Bremen-Neustadt":MAILTO:neustadt@kirche-bremen.de
END:VEVENT
BEGIN:VEVENT
DTSTART;TZID=Europe/Berlin:20260508T150000
DTEND;TZID=Europe/Berlin:20260508T170000
DTSTAMP:20260421T155345
CREATED:20260205T193805Z
LAST-MODIFIED:20260205T193805Z
UID:10017041-1778252400-1778259600@gemeinde-neustadt.de
SUMMARY:Kulturtafel | Zion
DESCRIPTION:Jeden 2. Freitag im Monat lädt die Kulturtafel in den Kaminraum nach Zion. Die Kulturtafel vermittelt Begleitung zu Konzerten und anderen kulturellen Veranstaltungen für Personen\, die sich die Veranstaltung sonst nicht leisten können oder allein dort nicht hingehen. \nKommen Sie vorbei und informieren Sie sich: Freitag von 15-17 Uhr; Kaminraum in Zion
URL:https://gemeinde-neustadt.de/event/kulturtafel-zion/2026-05-08/
CATEGORIES:Erwachsene,Selbsthilfe,Theater
END:VEVENT
BEGIN:VEVENT
DTSTART;TZID=Europe/Berlin:20260508T170000
DTEND;TZID=Europe/Berlin:20260508T210000
DTSTAMP:20260421T155345
CREATED:20250728T191512Z
LAST-MODIFIED:20251227T161630Z
UID:10016263-1778259600-1778274000@gemeinde-neustadt.de
SUMMARY:Internationales Musikcafé | Zion
DESCRIPTION:Jeden Freitag trifft sich ab 17:00 Uhr das „Internationale Musikcafé Bremen“ im Theatersaal im Gemeindezentrum Zion. Musikinteressierte aller Länder sind herzlich willkommen – kommt einfach dazu. Neben dem gemeinsamen Musizieren gibt es Kaffee\, Tee und frisch gebackenen Kuchen! Aus den Proben heraus entwickeln sich immer wieder Konzerte.
URL:https://gemeinde-neustadt.de/event/internationales-musikcafe-i-zion-2-3-2/2026-05-08/
LOCATION:Gemeindezentrum Zion\, Kornstraße 31\, Bremen\, Bremen\, 28201\, Deutschland
CATEGORIES:Erwachsene,Kirchenmusik,Konzerte,Kunst
ORGANIZER;CN="Vereinigte ev. Gemeinde Bremen-Neustadt":MAILTO:neustadt@kirche-bremen.de
END:VEVENT
BEGIN:VEVENT
DTSTART;TZID=Europe/Berlin:20260508T190000
DTEND;TZID=Europe/Berlin:20260508T210000
DTSTAMP:20260421T155345
CREATED:20240319T080920Z
LAST-MODIFIED:20251227T123616Z
UID:10002981-1778266800-1778274000@gemeinde-neustadt.de
SUMMARY:AA | St. Pauli
DESCRIPTION:Anonyme Alkoholiker sind eine Gemeinschaft von Männern und Frauen\, die miteinander ihre Erfahrung\, Kraft und Hoffnung teilen\, um ihr gemeinsames Problem zu lösen und anderen zur Genesung vom Alkoholismus zu verhelfen. \nDie einzige Voraussetzung für die Zugehörigkeit ist der Wunsch\, mit dem Trinken aufzuhören.
URL:https://gemeinde-neustadt.de/event/aa-st-pauli-37/2026-05-08/
LOCATION:Gemeindezentrum St. Pauli\, Große Krankenstr. 11\, Bremen\, 28199\, Deutschland
CATEGORIES:Erwachsene,Selbsthilfe
END:VEVENT
BEGIN:VEVENT
DTSTART;TZID=Europe/Berlin:20260508T190000
DTEND;TZID=Europe/Berlin:20260508T220000
DTSTAMP:20260421T155345
CREATED:20251209T175413Z
LAST-MODIFIED:20260216T205304Z
UID:10015687-1778266800-1778277600@gemeinde-neustadt.de
SUMMARY:feier | amen I St. Pauli
DESCRIPTION:Herzlich laden wir zum Gottesdienst am Freitag-Abend in das Gemeindezentrum St. Pauli. Nach dem Gottesdienst und Essen sind alle zum Tanzen eingeladen!
URL:https://gemeinde-neustadt.de/event/feier-amen-i-st-pauli/
LOCATION:Gemeindezentrum St. Pauli\, Große Krankenstr. 11\, Bremen\, 28199\, Deutschland
CATEGORIES:Essen und Trinken,Feier,Gottesdienst,Musik,Party
ORGANIZER;CN="Vereinigte ev. Gemeinde Bremen-Neustadt":MAILTO:neustadt@kirche-bremen.de
END:VEVENT
BEGIN:VEVENT
DTSTART;TZID=Europe/Berlin:20260509T100000
DTEND;TZID=Europe/Berlin:20260509T120000
DTSTAMP:20260421T155345
CREATED:20260114T060444Z
LAST-MODIFIED:20260418T142706Z
UID:10016987-1778320800-1778328000@gemeinde-neustadt.de
SUMMARY:Kinderkirche | St. Pauli
DESCRIPTION:Von 10-12 Uhr sind alle Kinder aus dem Stadtteil zur Kinderkirche in das Gemeindezentrum St. Pauli eingeladen. Informationen gibt Diakonin Imke Brumund: 0157-73541584.
URL:https://gemeinde-neustadt.de/event/kinderkirche-st-pauli/
LOCATION:Gemeindezentrum St. Pauli\, Große Krankenstr. 11\, Bremen\, 28199\, Deutschland
CATEGORIES:Familie/Alleinerziehend,Kinder,Kreativ,Musik,Singen
ORGANIZER;CN="Vereinigte ev. Gemeinde Bremen-Neustadt":MAILTO:neustadt@kirche-bremen.de
END:VEVENT
BEGIN:VEVENT
DTSTART;TZID=Europe/Berlin:20260510T170000
DTEND;TZID=Europe/Berlin:20260510T190000
DTSTAMP:20260421T155345
CREATED:20240319T082155Z
LAST-MODIFIED:20251227T161844Z
UID:10004286-1778432400-1778439600@gemeinde-neustadt.de
SUMMARY:GA | St. Pauli
DESCRIPTION:Anonyme Spieler (GA) sind eine Gemeinschaft von Frauen und Männern\, die ihre Erfahrung\, Kraft und Hoffnung miteinander teilen\, um ihr gemeinsames Problem zu lösen und anderen süchtigen Spielern bei ihrer Genesung zu helfen.\n\nDie einzige Bedingung für die Mitgliedschaft bei den Anonymen Spielern (GA) ist der aufrichtige Wunsch\, mit dem Spielen aufzuhören.
URL:https://gemeinde-neustadt.de/event/ga-st-pauli-29/2026-05-10/
LOCATION:Gemeindezentrum St. Pauli\, Große Krankenstr. 11\, Bremen\, 28199\, Deutschland
CATEGORIES:Erwachsene,Selbsthilfe
END:VEVENT
BEGIN:VEVENT
DTSTART;TZID=Europe/Berlin:20260510T180000
DTEND;TZID=Europe/Berlin:20260510T200000
DTSTAMP:20260421T155345
CREATED:20240319T082317Z
LAST-MODIFIED:20251227T161809Z
UID:10004547-1778436000-1778443200@gemeinde-neustadt.de
SUMMARY:AA | St. Pauli
DESCRIPTION:Anonyme Alkoholiker sind eine Gemeinschaft von Männern und Frauen\, die miteinander ihre Erfahrung\, Kraft und Hoffnung teilen\, um ihr gemeinsames Problem zu lösen und anderen zur Genesung vom Alkoholismus zu verhelfen. \nDie einzige Voraussetzung für die Zugehörigkeit ist der Wunsch\, mit dem Trinken aufzuhören.
URL:https://gemeinde-neustadt.de/event/aa-st-pauli-39/2026-05-10/
LOCATION:Gemeindezentrum St. Pauli\, Große Krankenstr. 11\, Bremen\, 28199\, Deutschland
CATEGORIES:Erwachsene,Selbsthilfe
END:VEVENT
BEGIN:VEVENT
DTSTART;TZID=Europe/Berlin:20260511T140000
DTEND;TZID=Europe/Berlin:20260511T170000
DTSTAMP:20260421T155345
CREATED:20250728T185321Z
LAST-MODIFIED:20260402T120721Z
UID:10016347-1778508000-1778518800@gemeinde-neustadt.de
SUMMARY:Räuber-Rommé mit Lydia | Zion
DESCRIPTION:Immer montags laden wir ab 14:00 Uhr in das Gemeindezentrum Zion zum Spielen von Gesellschafts-Spielen ein. Wir fangen an mit Rommé oder Canasta\, Mensch-ärgere-dich-nicht oder andere Spiele sind aber auch möglich. Jede und jeder ist willkommen. Die Treffen finden im Kaminraum statt. Haben Sie Fragen\, rufen Sie gerne bei Pastor Lieberum an: 0421-59769521.
URL:https://gemeinde-neustadt.de/event/lesung-von-astrid-goltz-zion-2-2/2026-05-11/
LOCATION:Gemeindezentrum Zion\, Kornstraße 31\, Bremen\, Bremen\, 28201\, Deutschland
CATEGORIES:Erwachsene,Lesung,Musik,Vortrag
ORGANIZER;CN="Vereinigte ev. Gemeinde Bremen-Neustadt":MAILTO:neustadt@kirche-bremen.de
END:VEVENT
BEGIN:VEVENT
DTSTART;TZID=Europe/Berlin:20260511T150000
DTEND;TZID=Europe/Berlin:20260511T170000
DTSTAMP:20260421T155345
CREATED:20251222T110216Z
LAST-MODIFIED:20260402T121044Z
UID:10015843-1778511600-1778518800@gemeinde-neustadt.de
SUMMARY:Seniorentanz | St. Pauli
DESCRIPTION:Beim Seniorentanz im Gemeindehaus St. Pauli tanzen wir gesellige Tänze zu verschiedenen Musikrichtungen.\nWir tanzen in Gruppen und ohne festen Partner. Es werden Kreis- und Paartänze\, Kontras\, Square-Dance sowie Line-Dance angeboten. Unsere Gruppe ist also auch für Singles gut geeignet.
URL:https://gemeinde-neustadt.de/event/seniorentanz-st-pauli-10-2/2026-05-11/
LOCATION:Gemeindezentrum St. Pauli\, Große Krankenstr. 11\, Bremen\, 28199\, Deutschland
CATEGORIES:Erwachsene,Musik,Senior*innen,Sport,Tanz
ORGANIZER;CN="Vereinigte ev. Gemeinde Bremen-Neustadt":MAILTO:neustadt@kirche-bremen.de
END:VEVENT
BEGIN:VEVENT
DTSTART;TZID=UTC:20260511T193000
DTEND;TZID=UTC:20260511T211500
DTSTAMP:20260421T155345
CREATED:20260126T150944Z
LAST-MODIFIED:20260402T121228Z
UID:10009519-1778527800-1778534100@gemeinde-neustadt.de
SUMMARY:Kantorei Bremen-Neustadt | St. Pauli
DESCRIPTION:Herzlich Willkommen in der Kantorei Bremen-Neustadt!\nDie Kantorei trifft sich zu regelmäßigen Chorproben mit Kantorin Nora Köhler als Leitung. Mit unseren Stimmen gestalten wir Gottesdienste\, Gemeindeveranstaltungen sowie Konzerte.  \nNähere Informationen bei Nora Köhler: kirchenmusik.neustadt@kirche-bremen.de \n 
URL:https://gemeinde-neustadt.de/event/kantorei-bremen-neustadt-st-pauli-6-2-2-3/2026-05-11/
LOCATION:Gemeindezentrum St. Pauli\, Große Krankenstr. 11\, Bremen\, 28199\, Deutschland
CATEGORIES:Chorprobe,Ehrenamt,Eltern,Erwachsene,Kirchenmusik,Musik,Probe
ORGANIZER;CN="Vereinigte ev. Gemeinde Bremen-Neustadt":MAILTO:neustadt@kirche-bremen.de
END:VEVENT
BEGIN:VEVENT
DTSTART;TZID=Europe/Berlin:20260511T193000
DTEND;TZID=Europe/Berlin:20260511T220000
DTSTAMP:20260421T155345
CREATED:20250729T130725Z
LAST-MODIFIED:20260402T120650Z
UID:10016295-1778527800-1778536800@gemeinde-neustadt.de
SUMMARY:"Theater der Ziongemeinde" | Zion
DESCRIPTION:Jeden Montag probt das „Theater der Zionsgemeinde“ im Theatersaal in Zion. Alle zwei Jahre gibt es eine Aufführung mit eigenen Stücken. Das Zion-Theater ist eine unserer ältesten Gemeindegruppen und wurde Ende der 50er Jahre vom damaligen Pastor Gerlach gegründet. Haben Sie Interesse an der Arbeit\, melden Sie sich bitte bei Robert Schlemmer: 0421-531860.
URL:https://gemeinde-neustadt.de/event/probe-zion-theater-zion-2-2/2026-05-11/
LOCATION:Gemeindezentrum Zion\, Kornstraße 31\, Bremen\, Bremen\, 28201\, Deutschland
CATEGORIES:Ehrenamt,Erwachsene,Kunst,Probe,Theater
ORGANIZER;CN="Vereinigte ev. Gemeinde Bremen-Neustadt":MAILTO:neustadt@kirche-bremen.de
END:VEVENT
BEGIN:VEVENT
DTSTART;TZID=Europe/Berlin:20260512T100000
DTEND;TZID=Europe/Berlin:20260512T120000
DTSTAMP:20260421T155345
CREATED:20240319T101111Z
LAST-MODIFIED:20251227T120337Z
UID:10005056-1778580000-1778587200@gemeinde-neustadt.de
SUMMARY:Dienstagsfrühstück | St. Pauli
DESCRIPTION:Herzliche Einladung zum Dienstagsfrühstück in St. Pauli. Hier treffen sich vor allem Menschen\, die kein Obdach haben\, am Rande der Gesellschaft leben\, wenig Geld zum Leben haben.\nEs gibt leckere Brote\, Kaffee\, Tee und immer ein offenes Ohr!
URL:https://gemeinde-neustadt.de/event/dienstagsfruehstueck-st-pauli-14/2026-05-12/
LOCATION:Gemeindezentrum St. Pauli\, Große Krankenstr. 11\, Bremen\, 28199\, Deutschland
CATEGORIES:Ehrenamt,Erwachsene,Essen und Trinken,interkulturell,Selbsthilfe
ORGANIZER;CN="Vereinigte ev. Gemeinde Bremen-Neustadt":MAILTO:neustadt@kirche-bremen.de
END:VEVENT
BEGIN:VEVENT
DTSTART;TZID=Europe/Berlin:20260512T131500
DTEND;TZID=Europe/Berlin:20260512T134500
DTSTAMP:20260421T155345
CREATED:20260316T220950Z
LAST-MODIFIED:20260316T220951Z
UID:10017131-1778591700-1778593500@gemeinde-neustadt.de
SUMMARY:Singspatzen | St. Pauli
DESCRIPTION:Bei den Singspatzen haben Kindergartenkinder ab 4 Jahre die Möglichkeit\, musikalische Erfahrungen zu sammeln. Der Schwerpunkt ist das Singen; verknüpft wird es mit Elementen der musikalischen Früherziehung\, mit Tanz und Bewegung. Es geht um Rhythmus und Melodie\, um Klang und Notenbilder. Die Stimmbildungsübungen werden verpackt in kindgerechte Geschichten. \nDie Singspatzen treten bei Familiengottesdiensten auf. Die Kinder können sich zeigen – mit ihrer Stimme und ihren Talenten.
URL:https://gemeinde-neustadt.de/event/singspatzen-st-pauli-2/2026-05-12/
LOCATION:Gemeindezentrum St. Pauli\, Große Krankenstr. 11\, Bremen\, 28199\, Deutschland
CATEGORIES:Chor,Chorprobe,Kinder,Kinderchor,Kirchenmusik,KITA,Musik,Musikalische Früherziehung,Singen
ORGANIZER;CN="Vereinigte ev. Gemeinde Bremen-Neustadt":MAILTO:neustadt@kirche-bremen.de
END:VEVENT
END:VCALENDAR