BEGIN:VCALENDAR
VERSION:2.0
PRODID:-//Gemeinde Bremen-Neustadt - ECPv6.14.2//NONSGML v1.0//EN
CALSCALE:GREGORIAN
METHOD:PUBLISH
X-ORIGINAL-URL:https://gemeinde-neustadt.de
X-WR-CALDESC:Veranstaltungen für Gemeinde Bremen-Neustadt
REFRESH-INTERVAL;VALUE=DURATION:PT1H
X-Robots-Tag:noindex
X-PUBLISHED-TTL:PT1H
BEGIN:VTIMEZONE
TZID:Europe/Berlin
BEGIN:DAYLIGHT
TZOFFSETFROM:+0100
TZOFFSETTO:+0200
TZNAME:CEST
DTSTART:20260329T010000
END:DAYLIGHT
BEGIN:STANDARD
TZOFFSETFROM:+0200
TZOFFSETTO:+0100
TZNAME:CET
DTSTART:20261025T010000
END:STANDARD
END:VTIMEZONE
BEGIN:VEVENT
DTSTART;TZID=Europe/Berlin:20260703T190000
DTEND;TZID=Europe/Berlin:20260703T210000
DTSTAMP:20260420T141857
CREATED:20240319T080920Z
LAST-MODIFIED:20251227T123616Z
UID:10002989-1783105200-1783112400@gemeinde-neustadt.de
SUMMARY:AA | St. Pauli
DESCRIPTION:Anonyme Alkoholiker sind eine Gemeinschaft von Männern und Frauen\, die miteinander ihre Erfahrung\, Kraft und Hoffnung teilen\, um ihr gemeinsames Problem zu lösen und anderen zur Genesung vom Alkoholismus zu verhelfen. \nDie einzige Voraussetzung für die Zugehörigkeit ist der Wunsch\, mit dem Trinken aufzuhören.
URL:https://gemeinde-neustadt.de/event/aa-st-pauli-37/2026-07-03/
LOCATION:Gemeindezentrum St. Pauli\, Große Krankenstr. 11\, Bremen\, 28199\, Deutschland
CATEGORIES:Erwachsene,Selbsthilfe
END:VEVENT
BEGIN:VEVENT
DTSTART;TZID=Europe/Berlin:20260705T180000
DTEND;TZID=Europe/Berlin:20260705T200000
DTSTAMP:20260420T141857
CREATED:20240319T082317Z
LAST-MODIFIED:20251227T161809Z
UID:10004555-1783274400-1783281600@gemeinde-neustadt.de
SUMMARY:AA | St. Pauli
DESCRIPTION:Anonyme Alkoholiker sind eine Gemeinschaft von Männern und Frauen\, die miteinander ihre Erfahrung\, Kraft und Hoffnung teilen\, um ihr gemeinsames Problem zu lösen und anderen zur Genesung vom Alkoholismus zu verhelfen. \nDie einzige Voraussetzung für die Zugehörigkeit ist der Wunsch\, mit dem Trinken aufzuhören.
URL:https://gemeinde-neustadt.de/event/aa-st-pauli-39/2026-07-05/
LOCATION:Gemeindezentrum St. Pauli\, Große Krankenstr. 11\, Bremen\, 28199\, Deutschland
CATEGORIES:Erwachsene,Selbsthilfe
END:VEVENT
BEGIN:VEVENT
DTSTART;TZID=Europe/Berlin:20260710T190000
DTEND;TZID=Europe/Berlin:20260710T210000
DTSTAMP:20260420T141857
CREATED:20240319T080920Z
LAST-MODIFIED:20251227T123616Z
UID:10002990-1783710000-1783717200@gemeinde-neustadt.de
SUMMARY:AA | St. Pauli
DESCRIPTION:Anonyme Alkoholiker sind eine Gemeinschaft von Männern und Frauen\, die miteinander ihre Erfahrung\, Kraft und Hoffnung teilen\, um ihr gemeinsames Problem zu lösen und anderen zur Genesung vom Alkoholismus zu verhelfen. \nDie einzige Voraussetzung für die Zugehörigkeit ist der Wunsch\, mit dem Trinken aufzuhören.
URL:https://gemeinde-neustadt.de/event/aa-st-pauli-37/2026-07-10/
LOCATION:Gemeindezentrum St. Pauli\, Große Krankenstr. 11\, Bremen\, 28199\, Deutschland
CATEGORIES:Erwachsene,Selbsthilfe
END:VEVENT
BEGIN:VEVENT
DTSTART;TZID=Europe/Berlin:20260712T180000
DTEND;TZID=Europe/Berlin:20260712T200000
DTSTAMP:20260420T141857
CREATED:20240319T082317Z
LAST-MODIFIED:20251227T161809Z
UID:10004556-1783879200-1783886400@gemeinde-neustadt.de
SUMMARY:AA | St. Pauli
DESCRIPTION:Anonyme Alkoholiker sind eine Gemeinschaft von Männern und Frauen\, die miteinander ihre Erfahrung\, Kraft und Hoffnung teilen\, um ihr gemeinsames Problem zu lösen und anderen zur Genesung vom Alkoholismus zu verhelfen. \nDie einzige Voraussetzung für die Zugehörigkeit ist der Wunsch\, mit dem Trinken aufzuhören.
URL:https://gemeinde-neustadt.de/event/aa-st-pauli-39/2026-07-12/
LOCATION:Gemeindezentrum St. Pauli\, Große Krankenstr. 11\, Bremen\, 28199\, Deutschland
CATEGORIES:Erwachsene,Selbsthilfe
END:VEVENT
BEGIN:VEVENT
DTSTART;TZID=Europe/Berlin:20260717T190000
DTEND;TZID=Europe/Berlin:20260717T210000
DTSTAMP:20260420T141857
CREATED:20240319T080920Z
LAST-MODIFIED:20251227T123616Z
UID:10002991-1784314800-1784322000@gemeinde-neustadt.de
SUMMARY:AA | St. Pauli
DESCRIPTION:Anonyme Alkoholiker sind eine Gemeinschaft von Männern und Frauen\, die miteinander ihre Erfahrung\, Kraft und Hoffnung teilen\, um ihr gemeinsames Problem zu lösen und anderen zur Genesung vom Alkoholismus zu verhelfen. \nDie einzige Voraussetzung für die Zugehörigkeit ist der Wunsch\, mit dem Trinken aufzuhören.
URL:https://gemeinde-neustadt.de/event/aa-st-pauli-37/2026-07-17/
LOCATION:Gemeindezentrum St. Pauli\, Große Krankenstr. 11\, Bremen\, 28199\, Deutschland
CATEGORIES:Erwachsene,Selbsthilfe
END:VEVENT
BEGIN:VEVENT
DTSTART;TZID=Europe/Berlin:20260719T180000
DTEND;TZID=Europe/Berlin:20260719T200000
DTSTAMP:20260420T141857
CREATED:20240319T082317Z
LAST-MODIFIED:20251227T161809Z
UID:10004557-1784484000-1784491200@gemeinde-neustadt.de
SUMMARY:AA | St. Pauli
DESCRIPTION:Anonyme Alkoholiker sind eine Gemeinschaft von Männern und Frauen\, die miteinander ihre Erfahrung\, Kraft und Hoffnung teilen\, um ihr gemeinsames Problem zu lösen und anderen zur Genesung vom Alkoholismus zu verhelfen. \nDie einzige Voraussetzung für die Zugehörigkeit ist der Wunsch\, mit dem Trinken aufzuhören.
URL:https://gemeinde-neustadt.de/event/aa-st-pauli-39/2026-07-19/
LOCATION:Gemeindezentrum St. Pauli\, Große Krankenstr. 11\, Bremen\, 28199\, Deutschland
CATEGORIES:Erwachsene,Selbsthilfe
END:VEVENT
BEGIN:VEVENT
DTSTART;TZID=Europe/Berlin:20260724T190000
DTEND;TZID=Europe/Berlin:20260724T210000
DTSTAMP:20260420T141857
CREATED:20240319T080920Z
LAST-MODIFIED:20251227T123616Z
UID:10002992-1784919600-1784926800@gemeinde-neustadt.de
SUMMARY:AA | St. Pauli
DESCRIPTION:Anonyme Alkoholiker sind eine Gemeinschaft von Männern und Frauen\, die miteinander ihre Erfahrung\, Kraft und Hoffnung teilen\, um ihr gemeinsames Problem zu lösen und anderen zur Genesung vom Alkoholismus zu verhelfen. \nDie einzige Voraussetzung für die Zugehörigkeit ist der Wunsch\, mit dem Trinken aufzuhören.
URL:https://gemeinde-neustadt.de/event/aa-st-pauli-37/2026-07-24/
LOCATION:Gemeindezentrum St. Pauli\, Große Krankenstr. 11\, Bremen\, 28199\, Deutschland
CATEGORIES:Erwachsene,Selbsthilfe
END:VEVENT
BEGIN:VEVENT
DTSTART;TZID=Europe/Berlin:20260726T180000
DTEND;TZID=Europe/Berlin:20260726T200000
DTSTAMP:20260420T141857
CREATED:20240319T082317Z
LAST-MODIFIED:20251227T161809Z
UID:10004558-1785088800-1785096000@gemeinde-neustadt.de
SUMMARY:AA | St. Pauli
DESCRIPTION:Anonyme Alkoholiker sind eine Gemeinschaft von Männern und Frauen\, die miteinander ihre Erfahrung\, Kraft und Hoffnung teilen\, um ihr gemeinsames Problem zu lösen und anderen zur Genesung vom Alkoholismus zu verhelfen. \nDie einzige Voraussetzung für die Zugehörigkeit ist der Wunsch\, mit dem Trinken aufzuhören.
URL:https://gemeinde-neustadt.de/event/aa-st-pauli-39/2026-07-26/
LOCATION:Gemeindezentrum St. Pauli\, Große Krankenstr. 11\, Bremen\, 28199\, Deutschland
CATEGORIES:Erwachsene,Selbsthilfe
END:VEVENT
BEGIN:VEVENT
DTSTART;TZID=Europe/Berlin:20260731T190000
DTEND;TZID=Europe/Berlin:20260731T210000
DTSTAMP:20260420T141857
CREATED:20240319T080920Z
LAST-MODIFIED:20251227T123616Z
UID:10002993-1785524400-1785531600@gemeinde-neustadt.de
SUMMARY:AA | St. Pauli
DESCRIPTION:Anonyme Alkoholiker sind eine Gemeinschaft von Männern und Frauen\, die miteinander ihre Erfahrung\, Kraft und Hoffnung teilen\, um ihr gemeinsames Problem zu lösen und anderen zur Genesung vom Alkoholismus zu verhelfen. \nDie einzige Voraussetzung für die Zugehörigkeit ist der Wunsch\, mit dem Trinken aufzuhören.
URL:https://gemeinde-neustadt.de/event/aa-st-pauli-37/2026-07-31/
LOCATION:Gemeindezentrum St. Pauli\, Große Krankenstr. 11\, Bremen\, 28199\, Deutschland
CATEGORIES:Erwachsene,Selbsthilfe
END:VEVENT
END:VCALENDAR