BEGIN:VCALENDAR
VERSION:2.0
PRODID:-//Gemeinde Bremen-Neustadt - ECPv6.14.2//NONSGML v1.0//EN
CALSCALE:GREGORIAN
METHOD:PUBLISH
X-WR-CALNAME:Gemeinde Bremen-Neustadt
X-ORIGINAL-URL:https://gemeinde-neustadt.de
X-WR-CALDESC:Veranstaltungen für Gemeinde Bremen-Neustadt
REFRESH-INTERVAL;VALUE=DURATION:PT1H
X-Robots-Tag:noindex
X-PUBLISHED-TTL:PT1H
BEGIN:VTIMEZONE
TZID:Europe/Berlin
BEGIN:DAYLIGHT
TZOFFSETFROM:+0100
TZOFFSETTO:+0200
TZNAME:CEST
DTSTART:20260329T010000
END:DAYLIGHT
BEGIN:STANDARD
TZOFFSETFROM:+0200
TZOFFSETTO:+0100
TZNAME:CET
DTSTART:20261025T010000
END:STANDARD
END:VTIMEZONE
BEGIN:VEVENT
DTSTART;TZID=Europe/Berlin:20260630T180000
DTEND;TZID=Europe/Berlin:20260630T200000
DTSTAMP:20260420T213102
CREATED:20240319T081120Z
LAST-MODIFIED:20251227T122743Z
UID:10003250-1782842400-1782849600@gemeinde-neustadt.de
SUMMARY:NA | St. Pauli
DESCRIPTION:NA (Narcotics Anonymous) sind eine Gemeinschaft von Männern und Frauen\, die miteinander ihre Erfahrung\, Kraft und Hoffnung teilen\, um ihr gemeinsames Problem zu lösen und anderen zur Genesung vom stofflichen Drogen zu verhelfen. \nDie einzige Voraussetzung für die Zugehörigkeit ist der Wunsch\, mit den Drogen aufzuhören.
URL:https://gemeinde-neustadt.de/event/na-st-pauli-21/2026-06-30/
LOCATION:Gemeindezentrum St. Pauli\, Große Krankenstr. 11\, Bremen\, 28199\, Deutschland
CATEGORIES:Erwachsene,Selbsthilfe
END:VEVENT
BEGIN:VEVENT
DTSTART;TZID=Europe/Berlin:20260702T193000
DTEND;TZID=Europe/Berlin:20260702T210000
DTSTAMP:20260420T213102
CREATED:20240319T081937Z
LAST-MODIFIED:20251229T140830Z
UID:10004033-1783020600-1783026000@gemeinde-neustadt.de
SUMMARY:NA | St. Pauli
DESCRIPTION:NA (Narcotics Anonymous) sind eine Gemeinschaft von Männern und Frauen\, die miteinander ihre Erfahrung\, Kraft und Hoffnung teilen\, um ihr gemeinsames Problem zu lösen und anderen zur Genesung vom stofflichen Drogen zu verhelfen. \nDie einzige Voraussetzung für die Zugehörigkeit ist der Wunsch\, mit den Drogen aufzuhören.
URL:https://gemeinde-neustadt.de/event/na-st-pauli-22/2026-07-02/
LOCATION:Gemeindezentrum St. Pauli\, Große Krankenstr. 11\, Bremen\, 28199\, Deutschland
CATEGORIES:Erwachsene,Selbsthilfe
END:VEVENT
BEGIN:VEVENT
DTSTART;TZID=Europe/Berlin:20260707T180000
DTEND;TZID=Europe/Berlin:20260707T200000
DTSTAMP:20260420T213102
CREATED:20240319T081120Z
LAST-MODIFIED:20251227T122743Z
UID:10003251-1783447200-1783454400@gemeinde-neustadt.de
SUMMARY:NA | St. Pauli
DESCRIPTION:NA (Narcotics Anonymous) sind eine Gemeinschaft von Männern und Frauen\, die miteinander ihre Erfahrung\, Kraft und Hoffnung teilen\, um ihr gemeinsames Problem zu lösen und anderen zur Genesung vom stofflichen Drogen zu verhelfen. \nDie einzige Voraussetzung für die Zugehörigkeit ist der Wunsch\, mit den Drogen aufzuhören.
URL:https://gemeinde-neustadt.de/event/na-st-pauli-21/2026-07-07/
LOCATION:Gemeindezentrum St. Pauli\, Große Krankenstr. 11\, Bremen\, 28199\, Deutschland
CATEGORIES:Erwachsene,Selbsthilfe
END:VEVENT
BEGIN:VEVENT
DTSTART;TZID=Europe/Berlin:20260709T193000
DTEND;TZID=Europe/Berlin:20260709T210000
DTSTAMP:20260420T213102
CREATED:20240319T081937Z
LAST-MODIFIED:20251229T140830Z
UID:10004034-1783625400-1783630800@gemeinde-neustadt.de
SUMMARY:NA | St. Pauli
DESCRIPTION:NA (Narcotics Anonymous) sind eine Gemeinschaft von Männern und Frauen\, die miteinander ihre Erfahrung\, Kraft und Hoffnung teilen\, um ihr gemeinsames Problem zu lösen und anderen zur Genesung vom stofflichen Drogen zu verhelfen. \nDie einzige Voraussetzung für die Zugehörigkeit ist der Wunsch\, mit den Drogen aufzuhören.
URL:https://gemeinde-neustadt.de/event/na-st-pauli-22/2026-07-09/
LOCATION:Gemeindezentrum St. Pauli\, Große Krankenstr. 11\, Bremen\, 28199\, Deutschland
CATEGORIES:Erwachsene,Selbsthilfe
END:VEVENT
BEGIN:VEVENT
DTSTART;TZID=Europe/Berlin:20260714T180000
DTEND;TZID=Europe/Berlin:20260714T200000
DTSTAMP:20260420T213102
CREATED:20240319T081120Z
LAST-MODIFIED:20251227T122743Z
UID:10003252-1784052000-1784059200@gemeinde-neustadt.de
SUMMARY:NA | St. Pauli
DESCRIPTION:NA (Narcotics Anonymous) sind eine Gemeinschaft von Männern und Frauen\, die miteinander ihre Erfahrung\, Kraft und Hoffnung teilen\, um ihr gemeinsames Problem zu lösen und anderen zur Genesung vom stofflichen Drogen zu verhelfen. \nDie einzige Voraussetzung für die Zugehörigkeit ist der Wunsch\, mit den Drogen aufzuhören.
URL:https://gemeinde-neustadt.de/event/na-st-pauli-21/2026-07-14/
LOCATION:Gemeindezentrum St. Pauli\, Große Krankenstr. 11\, Bremen\, 28199\, Deutschland
CATEGORIES:Erwachsene,Selbsthilfe
END:VEVENT
BEGIN:VEVENT
DTSTART;TZID=Europe/Berlin:20260716T193000
DTEND;TZID=Europe/Berlin:20260716T210000
DTSTAMP:20260420T213102
CREATED:20240319T081937Z
LAST-MODIFIED:20251229T140830Z
UID:10004035-1784230200-1784235600@gemeinde-neustadt.de
SUMMARY:NA | St. Pauli
DESCRIPTION:NA (Narcotics Anonymous) sind eine Gemeinschaft von Männern und Frauen\, die miteinander ihre Erfahrung\, Kraft und Hoffnung teilen\, um ihr gemeinsames Problem zu lösen und anderen zur Genesung vom stofflichen Drogen zu verhelfen. \nDie einzige Voraussetzung für die Zugehörigkeit ist der Wunsch\, mit den Drogen aufzuhören.
URL:https://gemeinde-neustadt.de/event/na-st-pauli-22/2026-07-16/
LOCATION:Gemeindezentrum St. Pauli\, Große Krankenstr. 11\, Bremen\, 28199\, Deutschland
CATEGORIES:Erwachsene,Selbsthilfe
END:VEVENT
BEGIN:VEVENT
DTSTART;TZID=Europe/Berlin:20260721T180000
DTEND;TZID=Europe/Berlin:20260721T200000
DTSTAMP:20260420T213102
CREATED:20240319T081120Z
LAST-MODIFIED:20251227T122743Z
UID:10003253-1784656800-1784664000@gemeinde-neustadt.de
SUMMARY:NA | St. Pauli
DESCRIPTION:NA (Narcotics Anonymous) sind eine Gemeinschaft von Männern und Frauen\, die miteinander ihre Erfahrung\, Kraft und Hoffnung teilen\, um ihr gemeinsames Problem zu lösen und anderen zur Genesung vom stofflichen Drogen zu verhelfen. \nDie einzige Voraussetzung für die Zugehörigkeit ist der Wunsch\, mit den Drogen aufzuhören.
URL:https://gemeinde-neustadt.de/event/na-st-pauli-21/2026-07-21/
LOCATION:Gemeindezentrum St. Pauli\, Große Krankenstr. 11\, Bremen\, 28199\, Deutschland
CATEGORIES:Erwachsene,Selbsthilfe
END:VEVENT
BEGIN:VEVENT
DTSTART;TZID=Europe/Berlin:20260723T193000
DTEND;TZID=Europe/Berlin:20260723T210000
DTSTAMP:20260420T213102
CREATED:20240319T081937Z
LAST-MODIFIED:20251229T140830Z
UID:10004036-1784835000-1784840400@gemeinde-neustadt.de
SUMMARY:NA | St. Pauli
DESCRIPTION:NA (Narcotics Anonymous) sind eine Gemeinschaft von Männern und Frauen\, die miteinander ihre Erfahrung\, Kraft und Hoffnung teilen\, um ihr gemeinsames Problem zu lösen und anderen zur Genesung vom stofflichen Drogen zu verhelfen. \nDie einzige Voraussetzung für die Zugehörigkeit ist der Wunsch\, mit den Drogen aufzuhören.
URL:https://gemeinde-neustadt.de/event/na-st-pauli-22/2026-07-23/
LOCATION:Gemeindezentrum St. Pauli\, Große Krankenstr. 11\, Bremen\, 28199\, Deutschland
CATEGORIES:Erwachsene,Selbsthilfe
END:VEVENT
BEGIN:VEVENT
DTSTART;TZID=Europe/Berlin:20260728T180000
DTEND;TZID=Europe/Berlin:20260728T200000
DTSTAMP:20260420T213102
CREATED:20240319T081120Z
LAST-MODIFIED:20251227T122743Z
UID:10003254-1785261600-1785268800@gemeinde-neustadt.de
SUMMARY:NA | St. Pauli
DESCRIPTION:NA (Narcotics Anonymous) sind eine Gemeinschaft von Männern und Frauen\, die miteinander ihre Erfahrung\, Kraft und Hoffnung teilen\, um ihr gemeinsames Problem zu lösen und anderen zur Genesung vom stofflichen Drogen zu verhelfen. \nDie einzige Voraussetzung für die Zugehörigkeit ist der Wunsch\, mit den Drogen aufzuhören.
URL:https://gemeinde-neustadt.de/event/na-st-pauli-21/2026-07-28/
LOCATION:Gemeindezentrum St. Pauli\, Große Krankenstr. 11\, Bremen\, 28199\, Deutschland
CATEGORIES:Erwachsene,Selbsthilfe
END:VEVENT
BEGIN:VEVENT
DTSTART;TZID=Europe/Berlin:20260730T193000
DTEND;TZID=Europe/Berlin:20260730T210000
DTSTAMP:20260420T213102
CREATED:20240319T081937Z
LAST-MODIFIED:20251229T140830Z
UID:10004037-1785439800-1785445200@gemeinde-neustadt.de
SUMMARY:NA | St. Pauli
DESCRIPTION:NA (Narcotics Anonymous) sind eine Gemeinschaft von Männern und Frauen\, die miteinander ihre Erfahrung\, Kraft und Hoffnung teilen\, um ihr gemeinsames Problem zu lösen und anderen zur Genesung vom stofflichen Drogen zu verhelfen. \nDie einzige Voraussetzung für die Zugehörigkeit ist der Wunsch\, mit den Drogen aufzuhören.
URL:https://gemeinde-neustadt.de/event/na-st-pauli-22/2026-07-30/
LOCATION:Gemeindezentrum St. Pauli\, Große Krankenstr. 11\, Bremen\, 28199\, Deutschland
CATEGORIES:Erwachsene,Selbsthilfe
END:VEVENT
END:VCALENDAR