BEGIN:VCALENDAR
VERSION:2.0
PRODID:-//Gemeinde Bremen-Neustadt - ECPv6.14.2//NONSGML v1.0//EN
CALSCALE:GREGORIAN
METHOD:PUBLISH
X-ORIGINAL-URL:https://gemeinde-neustadt.de
X-WR-CALDESC:Veranstaltungen für Gemeinde Bremen-Neustadt
REFRESH-INTERVAL;VALUE=DURATION:PT1H
X-Robots-Tag:noindex
X-PUBLISHED-TTL:PT1H
BEGIN:VTIMEZONE
TZID:Europe/Berlin
BEGIN:DAYLIGHT
TZOFFSETFROM:+0100
TZOFFSETTO:+0200
TZNAME:CEST
DTSTART:20260329T010000
END:DAYLIGHT
BEGIN:STANDARD
TZOFFSETFROM:+0200
TZOFFSETTO:+0100
TZNAME:CET
DTSTART:20261025T010000
END:STANDARD
END:VTIMEZONE
BEGIN:VEVENT
DTSTART;TZID=Europe/Berlin:20260517T170000
DTEND;TZID=Europe/Berlin:20260517T190000
DTSTAMP:20260423T054126
CREATED:20240319T082155Z
LAST-MODIFIED:20251227T161844Z
UID:10004287-1779037200-1779044400@gemeinde-neustadt.de
SUMMARY:GA | St. Pauli
DESCRIPTION:Anonyme Spieler (GA) sind eine Gemeinschaft von Frauen und Männern\, die ihre Erfahrung\, Kraft und Hoffnung miteinander teilen\, um ihr gemeinsames Problem zu lösen und anderen süchtigen Spielern bei ihrer Genesung zu helfen.\n\nDie einzige Bedingung für die Mitgliedschaft bei den Anonymen Spielern (GA) ist der aufrichtige Wunsch\, mit dem Spielen aufzuhören.
URL:https://gemeinde-neustadt.de/event/ga-st-pauli-29/2026-05-17/
LOCATION:Gemeindezentrum St. Pauli\, Große Krankenstr. 11\, Bremen\, 28199\, Deutschland
CATEGORIES:Erwachsene,Selbsthilfe
END:VEVENT
BEGIN:VEVENT
DTSTART;TZID=Europe/Berlin:20260517T180000
DTEND;TZID=Europe/Berlin:20260517T200000
DTSTAMP:20260423T054126
CREATED:20240319T082317Z
LAST-MODIFIED:20251227T161809Z
UID:10004548-1779040800-1779048000@gemeinde-neustadt.de
SUMMARY:AA | St. Pauli
DESCRIPTION:Anonyme Alkoholiker sind eine Gemeinschaft von Männern und Frauen\, die miteinander ihre Erfahrung\, Kraft und Hoffnung teilen\, um ihr gemeinsames Problem zu lösen und anderen zur Genesung vom Alkoholismus zu verhelfen. \nDie einzige Voraussetzung für die Zugehörigkeit ist der Wunsch\, mit dem Trinken aufzuhören.
URL:https://gemeinde-neustadt.de/event/aa-st-pauli-39/2026-05-17/
LOCATION:Gemeindezentrum St. Pauli\, Große Krankenstr. 11\, Bremen\, 28199\, Deutschland
CATEGORIES:Erwachsene,Selbsthilfe
END:VEVENT
BEGIN:VEVENT
DTSTART;TZID=Europe/Berlin:20260519T180000
DTEND;TZID=Europe/Berlin:20260519T200000
DTSTAMP:20260423T054126
CREATED:20240319T081120Z
LAST-MODIFIED:20251227T122743Z
UID:10003244-1779213600-1779220800@gemeinde-neustadt.de
SUMMARY:NA | St. Pauli
DESCRIPTION:NA (Narcotics Anonymous) sind eine Gemeinschaft von Männern und Frauen\, die miteinander ihre Erfahrung\, Kraft und Hoffnung teilen\, um ihr gemeinsames Problem zu lösen und anderen zur Genesung vom stofflichen Drogen zu verhelfen. \nDie einzige Voraussetzung für die Zugehörigkeit ist der Wunsch\, mit den Drogen aufzuhören.
URL:https://gemeinde-neustadt.de/event/na-st-pauli-21/2026-05-19/
LOCATION:Gemeindezentrum St. Pauli\, Große Krankenstr. 11\, Bremen\, 28199\, Deutschland
CATEGORIES:Erwachsene,Selbsthilfe
END:VEVENT
BEGIN:VEVENT
DTSTART;TZID=Europe/Berlin:20260520T190000
DTEND;TZID=Europe/Berlin:20260520T210000
DTSTAMP:20260423T054126
CREATED:20240319T081346Z
LAST-MODIFIED:20251229T141026Z
UID:10003766-1779303600-1779310800@gemeinde-neustadt.de
SUMMARY:GA | St. Pauli
DESCRIPTION:Anonyme Spieler (GA) sind eine Gemeinschaft von Frauen und Männern\, die ihre Erfahrung\, Kraft und Hoffnung miteinander teilen\, um ihr gemeinsames Problem zu lösen und anderen süchtigen Spielern bei ihrer Genesung zu helfen.\n\nDie einzige Bedingung für die Mitgliedschaft bei den Anonymen Spielern (GA) ist der aufrichtige Wunsch\, mit dem Spielen aufzuhören.
URL:https://gemeinde-neustadt.de/event/ga-st-pauli-28/2026-05-20/
LOCATION:Gemeindezentrum St. Pauli\, Große Krankenstr. 11\, Bremen\, 28199\, Deutschland
CATEGORIES:Erwachsene,Selbsthilfe
END:VEVENT
BEGIN:VEVENT
DTSTART;TZID=Europe/Berlin:20260521T193000
DTEND;TZID=Europe/Berlin:20260521T210000
DTSTAMP:20260423T054126
CREATED:20240319T081937Z
LAST-MODIFIED:20251229T140830Z
UID:10004027-1779391800-1779397200@gemeinde-neustadt.de
SUMMARY:NA | St. Pauli
DESCRIPTION:NA (Narcotics Anonymous) sind eine Gemeinschaft von Männern und Frauen\, die miteinander ihre Erfahrung\, Kraft und Hoffnung teilen\, um ihr gemeinsames Problem zu lösen und anderen zur Genesung vom stofflichen Drogen zu verhelfen. \nDie einzige Voraussetzung für die Zugehörigkeit ist der Wunsch\, mit den Drogen aufzuhören.
URL:https://gemeinde-neustadt.de/event/na-st-pauli-22/2026-05-21/
LOCATION:Gemeindezentrum St. Pauli\, Große Krankenstr. 11\, Bremen\, 28199\, Deutschland
CATEGORIES:Erwachsene,Selbsthilfe
END:VEVENT
BEGIN:VEVENT
DTSTART;TZID=Europe/Berlin:20260522T190000
DTEND;TZID=Europe/Berlin:20260522T210000
DTSTAMP:20260423T054126
CREATED:20240319T080920Z
LAST-MODIFIED:20251227T123616Z
UID:10002983-1779476400-1779483600@gemeinde-neustadt.de
SUMMARY:AA | St. Pauli
DESCRIPTION:Anonyme Alkoholiker sind eine Gemeinschaft von Männern und Frauen\, die miteinander ihre Erfahrung\, Kraft und Hoffnung teilen\, um ihr gemeinsames Problem zu lösen und anderen zur Genesung vom Alkoholismus zu verhelfen. \nDie einzige Voraussetzung für die Zugehörigkeit ist der Wunsch\, mit dem Trinken aufzuhören.
URL:https://gemeinde-neustadt.de/event/aa-st-pauli-37/2026-05-22/
LOCATION:Gemeindezentrum St. Pauli\, Große Krankenstr. 11\, Bremen\, 28199\, Deutschland
CATEGORIES:Erwachsene,Selbsthilfe
END:VEVENT
BEGIN:VEVENT
DTSTART;TZID=Europe/Berlin:20260524T170000
DTEND;TZID=Europe/Berlin:20260524T190000
DTSTAMP:20260423T054126
CREATED:20240319T082155Z
LAST-MODIFIED:20251227T161844Z
UID:10004288-1779642000-1779649200@gemeinde-neustadt.de
SUMMARY:GA | St. Pauli
DESCRIPTION:Anonyme Spieler (GA) sind eine Gemeinschaft von Frauen und Männern\, die ihre Erfahrung\, Kraft und Hoffnung miteinander teilen\, um ihr gemeinsames Problem zu lösen und anderen süchtigen Spielern bei ihrer Genesung zu helfen.\n\nDie einzige Bedingung für die Mitgliedschaft bei den Anonymen Spielern (GA) ist der aufrichtige Wunsch\, mit dem Spielen aufzuhören.
URL:https://gemeinde-neustadt.de/event/ga-st-pauli-29/2026-05-24/
LOCATION:Gemeindezentrum St. Pauli\, Große Krankenstr. 11\, Bremen\, 28199\, Deutschland
CATEGORIES:Erwachsene,Selbsthilfe
END:VEVENT
BEGIN:VEVENT
DTSTART;TZID=Europe/Berlin:20260524T180000
DTEND;TZID=Europe/Berlin:20260524T200000
DTSTAMP:20260423T054126
CREATED:20240319T082317Z
LAST-MODIFIED:20251227T161809Z
UID:10004549-1779645600-1779652800@gemeinde-neustadt.de
SUMMARY:AA | St. Pauli
DESCRIPTION:Anonyme Alkoholiker sind eine Gemeinschaft von Männern und Frauen\, die miteinander ihre Erfahrung\, Kraft und Hoffnung teilen\, um ihr gemeinsames Problem zu lösen und anderen zur Genesung vom Alkoholismus zu verhelfen. \nDie einzige Voraussetzung für die Zugehörigkeit ist der Wunsch\, mit dem Trinken aufzuhören.
URL:https://gemeinde-neustadt.de/event/aa-st-pauli-39/2026-05-24/
LOCATION:Gemeindezentrum St. Pauli\, Große Krankenstr. 11\, Bremen\, 28199\, Deutschland
CATEGORIES:Erwachsene,Selbsthilfe
END:VEVENT
BEGIN:VEVENT
DTSTART;TZID=Europe/Berlin:20260526T180000
DTEND;TZID=Europe/Berlin:20260526T200000
DTSTAMP:20260423T054126
CREATED:20240319T081120Z
LAST-MODIFIED:20251227T122743Z
UID:10003245-1779818400-1779825600@gemeinde-neustadt.de
SUMMARY:NA | St. Pauli
DESCRIPTION:NA (Narcotics Anonymous) sind eine Gemeinschaft von Männern und Frauen\, die miteinander ihre Erfahrung\, Kraft und Hoffnung teilen\, um ihr gemeinsames Problem zu lösen und anderen zur Genesung vom stofflichen Drogen zu verhelfen. \nDie einzige Voraussetzung für die Zugehörigkeit ist der Wunsch\, mit den Drogen aufzuhören.
URL:https://gemeinde-neustadt.de/event/na-st-pauli-21/2026-05-26/
LOCATION:Gemeindezentrum St. Pauli\, Große Krankenstr. 11\, Bremen\, 28199\, Deutschland
CATEGORIES:Erwachsene,Selbsthilfe
END:VEVENT
BEGIN:VEVENT
DTSTART;TZID=Europe/Berlin:20260527T190000
DTEND;TZID=Europe/Berlin:20260527T210000
DTSTAMP:20260423T054126
CREATED:20240319T081346Z
LAST-MODIFIED:20251229T141026Z
UID:10003767-1779908400-1779915600@gemeinde-neustadt.de
SUMMARY:GA | St. Pauli
DESCRIPTION:Anonyme Spieler (GA) sind eine Gemeinschaft von Frauen und Männern\, die ihre Erfahrung\, Kraft und Hoffnung miteinander teilen\, um ihr gemeinsames Problem zu lösen und anderen süchtigen Spielern bei ihrer Genesung zu helfen.\n\nDie einzige Bedingung für die Mitgliedschaft bei den Anonymen Spielern (GA) ist der aufrichtige Wunsch\, mit dem Spielen aufzuhören.
URL:https://gemeinde-neustadt.de/event/ga-st-pauli-28/2026-05-27/
LOCATION:Gemeindezentrum St. Pauli\, Große Krankenstr. 11\, Bremen\, 28199\, Deutschland
CATEGORIES:Erwachsene,Selbsthilfe
END:VEVENT
BEGIN:VEVENT
DTSTART;TZID=Europe/Berlin:20260528T193000
DTEND;TZID=Europe/Berlin:20260528T210000
DTSTAMP:20260423T054126
CREATED:20240319T081937Z
LAST-MODIFIED:20251229T140830Z
UID:10004028-1779996600-1780002000@gemeinde-neustadt.de
SUMMARY:NA | St. Pauli
DESCRIPTION:NA (Narcotics Anonymous) sind eine Gemeinschaft von Männern und Frauen\, die miteinander ihre Erfahrung\, Kraft und Hoffnung teilen\, um ihr gemeinsames Problem zu lösen und anderen zur Genesung vom stofflichen Drogen zu verhelfen. \nDie einzige Voraussetzung für die Zugehörigkeit ist der Wunsch\, mit den Drogen aufzuhören.
URL:https://gemeinde-neustadt.de/event/na-st-pauli-22/2026-05-28/
LOCATION:Gemeindezentrum St. Pauli\, Große Krankenstr. 11\, Bremen\, 28199\, Deutschland
CATEGORIES:Erwachsene,Selbsthilfe
END:VEVENT
BEGIN:VEVENT
DTSTART;TZID=Europe/Berlin:20260529T190000
DTEND;TZID=Europe/Berlin:20260529T210000
DTSTAMP:20260423T054126
CREATED:20240319T080920Z
LAST-MODIFIED:20251227T123616Z
UID:10002984-1780081200-1780088400@gemeinde-neustadt.de
SUMMARY:AA | St. Pauli
DESCRIPTION:Anonyme Alkoholiker sind eine Gemeinschaft von Männern und Frauen\, die miteinander ihre Erfahrung\, Kraft und Hoffnung teilen\, um ihr gemeinsames Problem zu lösen und anderen zur Genesung vom Alkoholismus zu verhelfen. \nDie einzige Voraussetzung für die Zugehörigkeit ist der Wunsch\, mit dem Trinken aufzuhören.
URL:https://gemeinde-neustadt.de/event/aa-st-pauli-37/2026-05-29/
LOCATION:Gemeindezentrum St. Pauli\, Große Krankenstr. 11\, Bremen\, 28199\, Deutschland
CATEGORIES:Erwachsene,Selbsthilfe
END:VEVENT
BEGIN:VEVENT
DTSTART;TZID=Europe/Berlin:20260531T170000
DTEND;TZID=Europe/Berlin:20260531T190000
DTSTAMP:20260423T054126
CREATED:20240319T082155Z
LAST-MODIFIED:20251227T161844Z
UID:10004289-1780246800-1780254000@gemeinde-neustadt.de
SUMMARY:GA | St. Pauli
DESCRIPTION:Anonyme Spieler (GA) sind eine Gemeinschaft von Frauen und Männern\, die ihre Erfahrung\, Kraft und Hoffnung miteinander teilen\, um ihr gemeinsames Problem zu lösen und anderen süchtigen Spielern bei ihrer Genesung zu helfen.\n\nDie einzige Bedingung für die Mitgliedschaft bei den Anonymen Spielern (GA) ist der aufrichtige Wunsch\, mit dem Spielen aufzuhören.
URL:https://gemeinde-neustadt.de/event/ga-st-pauli-29/2026-05-31/
LOCATION:Gemeindezentrum St. Pauli\, Große Krankenstr. 11\, Bremen\, 28199\, Deutschland
CATEGORIES:Erwachsene,Selbsthilfe
END:VEVENT
BEGIN:VEVENT
DTSTART;TZID=Europe/Berlin:20260531T180000
DTEND;TZID=Europe/Berlin:20260531T200000
DTSTAMP:20260423T054126
CREATED:20240319T082317Z
LAST-MODIFIED:20251227T161809Z
UID:10004550-1780250400-1780257600@gemeinde-neustadt.de
SUMMARY:AA | St. Pauli
DESCRIPTION:Anonyme Alkoholiker sind eine Gemeinschaft von Männern und Frauen\, die miteinander ihre Erfahrung\, Kraft und Hoffnung teilen\, um ihr gemeinsames Problem zu lösen und anderen zur Genesung vom Alkoholismus zu verhelfen. \nDie einzige Voraussetzung für die Zugehörigkeit ist der Wunsch\, mit dem Trinken aufzuhören.
URL:https://gemeinde-neustadt.de/event/aa-st-pauli-39/2026-05-31/
LOCATION:Gemeindezentrum St. Pauli\, Große Krankenstr. 11\, Bremen\, 28199\, Deutschland
CATEGORIES:Erwachsene,Selbsthilfe
END:VEVENT
BEGIN:VEVENT
DTSTART;TZID=Europe/Berlin:20260602T180000
DTEND;TZID=Europe/Berlin:20260602T200000
DTSTAMP:20260423T054126
CREATED:20240319T081120Z
LAST-MODIFIED:20251227T122743Z
UID:10003246-1780423200-1780430400@gemeinde-neustadt.de
SUMMARY:NA | St. Pauli
DESCRIPTION:NA (Narcotics Anonymous) sind eine Gemeinschaft von Männern und Frauen\, die miteinander ihre Erfahrung\, Kraft und Hoffnung teilen\, um ihr gemeinsames Problem zu lösen und anderen zur Genesung vom stofflichen Drogen zu verhelfen. \nDie einzige Voraussetzung für die Zugehörigkeit ist der Wunsch\, mit den Drogen aufzuhören.
URL:https://gemeinde-neustadt.de/event/na-st-pauli-21/2026-06-02/
LOCATION:Gemeindezentrum St. Pauli\, Große Krankenstr. 11\, Bremen\, 28199\, Deutschland
CATEGORIES:Erwachsene,Selbsthilfe
END:VEVENT
BEGIN:VEVENT
DTSTART;TZID=Europe/Berlin:20260603T190000
DTEND;TZID=Europe/Berlin:20260603T210000
DTSTAMP:20260423T054126
CREATED:20240319T081346Z
LAST-MODIFIED:20251229T141026Z
UID:10003768-1780513200-1780520400@gemeinde-neustadt.de
SUMMARY:GA | St. Pauli
DESCRIPTION:Anonyme Spieler (GA) sind eine Gemeinschaft von Frauen und Männern\, die ihre Erfahrung\, Kraft und Hoffnung miteinander teilen\, um ihr gemeinsames Problem zu lösen und anderen süchtigen Spielern bei ihrer Genesung zu helfen.\n\nDie einzige Bedingung für die Mitgliedschaft bei den Anonymen Spielern (GA) ist der aufrichtige Wunsch\, mit dem Spielen aufzuhören.
URL:https://gemeinde-neustadt.de/event/ga-st-pauli-28/2026-06-03/
LOCATION:Gemeindezentrum St. Pauli\, Große Krankenstr. 11\, Bremen\, 28199\, Deutschland
CATEGORIES:Erwachsene,Selbsthilfe
END:VEVENT
BEGIN:VEVENT
DTSTART;TZID=Europe/Berlin:20260604T193000
DTEND;TZID=Europe/Berlin:20260604T210000
DTSTAMP:20260423T054126
CREATED:20240319T081937Z
LAST-MODIFIED:20251229T140830Z
UID:10004029-1780601400-1780606800@gemeinde-neustadt.de
SUMMARY:NA | St. Pauli
DESCRIPTION:NA (Narcotics Anonymous) sind eine Gemeinschaft von Männern und Frauen\, die miteinander ihre Erfahrung\, Kraft und Hoffnung teilen\, um ihr gemeinsames Problem zu lösen und anderen zur Genesung vom stofflichen Drogen zu verhelfen. \nDie einzige Voraussetzung für die Zugehörigkeit ist der Wunsch\, mit den Drogen aufzuhören.
URL:https://gemeinde-neustadt.de/event/na-st-pauli-22/2026-06-04/
LOCATION:Gemeindezentrum St. Pauli\, Große Krankenstr. 11\, Bremen\, 28199\, Deutschland
CATEGORIES:Erwachsene,Selbsthilfe
END:VEVENT
BEGIN:VEVENT
DTSTART;TZID=Europe/Berlin:20260605T190000
DTEND;TZID=Europe/Berlin:20260605T210000
DTSTAMP:20260423T054126
CREATED:20240319T080920Z
LAST-MODIFIED:20251227T123616Z
UID:10002985-1780686000-1780693200@gemeinde-neustadt.de
SUMMARY:AA | St. Pauli
DESCRIPTION:Anonyme Alkoholiker sind eine Gemeinschaft von Männern und Frauen\, die miteinander ihre Erfahrung\, Kraft und Hoffnung teilen\, um ihr gemeinsames Problem zu lösen und anderen zur Genesung vom Alkoholismus zu verhelfen. \nDie einzige Voraussetzung für die Zugehörigkeit ist der Wunsch\, mit dem Trinken aufzuhören.
URL:https://gemeinde-neustadt.de/event/aa-st-pauli-37/2026-06-05/
LOCATION:Gemeindezentrum St. Pauli\, Große Krankenstr. 11\, Bremen\, 28199\, Deutschland
CATEGORIES:Erwachsene,Selbsthilfe
END:VEVENT
BEGIN:VEVENT
DTSTART;TZID=Europe/Berlin:20260607T170000
DTEND;TZID=Europe/Berlin:20260607T190000
DTSTAMP:20260423T054126
CREATED:20240319T082155Z
LAST-MODIFIED:20251227T161844Z
UID:10004290-1780851600-1780858800@gemeinde-neustadt.de
SUMMARY:GA | St. Pauli
DESCRIPTION:Anonyme Spieler (GA) sind eine Gemeinschaft von Frauen und Männern\, die ihre Erfahrung\, Kraft und Hoffnung miteinander teilen\, um ihr gemeinsames Problem zu lösen und anderen süchtigen Spielern bei ihrer Genesung zu helfen.\n\nDie einzige Bedingung für die Mitgliedschaft bei den Anonymen Spielern (GA) ist der aufrichtige Wunsch\, mit dem Spielen aufzuhören.
URL:https://gemeinde-neustadt.de/event/ga-st-pauli-29/2026-06-07/
LOCATION:Gemeindezentrum St. Pauli\, Große Krankenstr. 11\, Bremen\, 28199\, Deutschland
CATEGORIES:Erwachsene,Selbsthilfe
END:VEVENT
BEGIN:VEVENT
DTSTART;TZID=Europe/Berlin:20260607T180000
DTEND;TZID=Europe/Berlin:20260607T200000
DTSTAMP:20260423T054126
CREATED:20240319T082317Z
LAST-MODIFIED:20251227T161809Z
UID:10004551-1780855200-1780862400@gemeinde-neustadt.de
SUMMARY:AA | St. Pauli
DESCRIPTION:Anonyme Alkoholiker sind eine Gemeinschaft von Männern und Frauen\, die miteinander ihre Erfahrung\, Kraft und Hoffnung teilen\, um ihr gemeinsames Problem zu lösen und anderen zur Genesung vom Alkoholismus zu verhelfen. \nDie einzige Voraussetzung für die Zugehörigkeit ist der Wunsch\, mit dem Trinken aufzuhören.
URL:https://gemeinde-neustadt.de/event/aa-st-pauli-39/2026-06-07/
LOCATION:Gemeindezentrum St. Pauli\, Große Krankenstr. 11\, Bremen\, 28199\, Deutschland
CATEGORIES:Erwachsene,Selbsthilfe
END:VEVENT
BEGIN:VEVENT
DTSTART;TZID=Europe/Berlin:20260609T180000
DTEND;TZID=Europe/Berlin:20260609T200000
DTSTAMP:20260423T054126
CREATED:20240319T081120Z
LAST-MODIFIED:20251227T122743Z
UID:10003247-1781028000-1781035200@gemeinde-neustadt.de
SUMMARY:NA | St. Pauli
DESCRIPTION:NA (Narcotics Anonymous) sind eine Gemeinschaft von Männern und Frauen\, die miteinander ihre Erfahrung\, Kraft und Hoffnung teilen\, um ihr gemeinsames Problem zu lösen und anderen zur Genesung vom stofflichen Drogen zu verhelfen. \nDie einzige Voraussetzung für die Zugehörigkeit ist der Wunsch\, mit den Drogen aufzuhören.
URL:https://gemeinde-neustadt.de/event/na-st-pauli-21/2026-06-09/
LOCATION:Gemeindezentrum St. Pauli\, Große Krankenstr. 11\, Bremen\, 28199\, Deutschland
CATEGORIES:Erwachsene,Selbsthilfe
END:VEVENT
BEGIN:VEVENT
DTSTART;TZID=Europe/Berlin:20260610T190000
DTEND;TZID=Europe/Berlin:20260610T210000
DTSTAMP:20260423T054126
CREATED:20240319T081346Z
LAST-MODIFIED:20251229T141026Z
UID:10003769-1781118000-1781125200@gemeinde-neustadt.de
SUMMARY:GA | St. Pauli
DESCRIPTION:Anonyme Spieler (GA) sind eine Gemeinschaft von Frauen und Männern\, die ihre Erfahrung\, Kraft und Hoffnung miteinander teilen\, um ihr gemeinsames Problem zu lösen und anderen süchtigen Spielern bei ihrer Genesung zu helfen.\n\nDie einzige Bedingung für die Mitgliedschaft bei den Anonymen Spielern (GA) ist der aufrichtige Wunsch\, mit dem Spielen aufzuhören.
URL:https://gemeinde-neustadt.de/event/ga-st-pauli-28/2026-06-10/
LOCATION:Gemeindezentrum St. Pauli\, Große Krankenstr. 11\, Bremen\, 28199\, Deutschland
CATEGORIES:Erwachsene,Selbsthilfe
END:VEVENT
BEGIN:VEVENT
DTSTART;TZID=Europe/Berlin:20260611T193000
DTEND;TZID=Europe/Berlin:20260611T210000
DTSTAMP:20260423T054126
CREATED:20240319T081937Z
LAST-MODIFIED:20251229T140830Z
UID:10004030-1781206200-1781211600@gemeinde-neustadt.de
SUMMARY:NA | St. Pauli
DESCRIPTION:NA (Narcotics Anonymous) sind eine Gemeinschaft von Männern und Frauen\, die miteinander ihre Erfahrung\, Kraft und Hoffnung teilen\, um ihr gemeinsames Problem zu lösen und anderen zur Genesung vom stofflichen Drogen zu verhelfen. \nDie einzige Voraussetzung für die Zugehörigkeit ist der Wunsch\, mit den Drogen aufzuhören.
URL:https://gemeinde-neustadt.de/event/na-st-pauli-22/2026-06-11/
LOCATION:Gemeindezentrum St. Pauli\, Große Krankenstr. 11\, Bremen\, 28199\, Deutschland
CATEGORIES:Erwachsene,Selbsthilfe
END:VEVENT
BEGIN:VEVENT
DTSTART;TZID=Europe/Berlin:20260612T190000
DTEND;TZID=Europe/Berlin:20260612T210000
DTSTAMP:20260423T054126
CREATED:20240319T080920Z
LAST-MODIFIED:20251227T123616Z
UID:10002986-1781290800-1781298000@gemeinde-neustadt.de
SUMMARY:AA | St. Pauli
DESCRIPTION:Anonyme Alkoholiker sind eine Gemeinschaft von Männern und Frauen\, die miteinander ihre Erfahrung\, Kraft und Hoffnung teilen\, um ihr gemeinsames Problem zu lösen und anderen zur Genesung vom Alkoholismus zu verhelfen. \nDie einzige Voraussetzung für die Zugehörigkeit ist der Wunsch\, mit dem Trinken aufzuhören.
URL:https://gemeinde-neustadt.de/event/aa-st-pauli-37/2026-06-12/
LOCATION:Gemeindezentrum St. Pauli\, Große Krankenstr. 11\, Bremen\, 28199\, Deutschland
CATEGORIES:Erwachsene,Selbsthilfe
END:VEVENT
BEGIN:VEVENT
DTSTART;TZID=Europe/Berlin:20260614T170000
DTEND;TZID=Europe/Berlin:20260614T190000
DTSTAMP:20260423T054126
CREATED:20240319T082155Z
LAST-MODIFIED:20251227T161844Z
UID:10004291-1781456400-1781463600@gemeinde-neustadt.de
SUMMARY:GA | St. Pauli
DESCRIPTION:Anonyme Spieler (GA) sind eine Gemeinschaft von Frauen und Männern\, die ihre Erfahrung\, Kraft und Hoffnung miteinander teilen\, um ihr gemeinsames Problem zu lösen und anderen süchtigen Spielern bei ihrer Genesung zu helfen.\n\nDie einzige Bedingung für die Mitgliedschaft bei den Anonymen Spielern (GA) ist der aufrichtige Wunsch\, mit dem Spielen aufzuhören.
URL:https://gemeinde-neustadt.de/event/ga-st-pauli-29/2026-06-14/
LOCATION:Gemeindezentrum St. Pauli\, Große Krankenstr. 11\, Bremen\, 28199\, Deutschland
CATEGORIES:Erwachsene,Selbsthilfe
END:VEVENT
BEGIN:VEVENT
DTSTART;TZID=Europe/Berlin:20260614T180000
DTEND;TZID=Europe/Berlin:20260614T200000
DTSTAMP:20260423T054126
CREATED:20240319T082317Z
LAST-MODIFIED:20251227T161809Z
UID:10004552-1781460000-1781467200@gemeinde-neustadt.de
SUMMARY:AA | St. Pauli
DESCRIPTION:Anonyme Alkoholiker sind eine Gemeinschaft von Männern und Frauen\, die miteinander ihre Erfahrung\, Kraft und Hoffnung teilen\, um ihr gemeinsames Problem zu lösen und anderen zur Genesung vom Alkoholismus zu verhelfen. \nDie einzige Voraussetzung für die Zugehörigkeit ist der Wunsch\, mit dem Trinken aufzuhören.
URL:https://gemeinde-neustadt.de/event/aa-st-pauli-39/2026-06-14/
LOCATION:Gemeindezentrum St. Pauli\, Große Krankenstr. 11\, Bremen\, 28199\, Deutschland
CATEGORIES:Erwachsene,Selbsthilfe
END:VEVENT
BEGIN:VEVENT
DTSTART;TZID=Europe/Berlin:20260616T180000
DTEND;TZID=Europe/Berlin:20260616T200000
DTSTAMP:20260423T054126
CREATED:20240319T081120Z
LAST-MODIFIED:20251227T122743Z
UID:10003248-1781632800-1781640000@gemeinde-neustadt.de
SUMMARY:NA | St. Pauli
DESCRIPTION:NA (Narcotics Anonymous) sind eine Gemeinschaft von Männern und Frauen\, die miteinander ihre Erfahrung\, Kraft und Hoffnung teilen\, um ihr gemeinsames Problem zu lösen und anderen zur Genesung vom stofflichen Drogen zu verhelfen. \nDie einzige Voraussetzung für die Zugehörigkeit ist der Wunsch\, mit den Drogen aufzuhören.
URL:https://gemeinde-neustadt.de/event/na-st-pauli-21/2026-06-16/
LOCATION:Gemeindezentrum St. Pauli\, Große Krankenstr. 11\, Bremen\, 28199\, Deutschland
CATEGORIES:Erwachsene,Selbsthilfe
END:VEVENT
BEGIN:VEVENT
DTSTART;TZID=Europe/Berlin:20260617T190000
DTEND;TZID=Europe/Berlin:20260617T210000
DTSTAMP:20260423T054126
CREATED:20240319T081346Z
LAST-MODIFIED:20251229T141026Z
UID:10003770-1781722800-1781730000@gemeinde-neustadt.de
SUMMARY:GA | St. Pauli
DESCRIPTION:Anonyme Spieler (GA) sind eine Gemeinschaft von Frauen und Männern\, die ihre Erfahrung\, Kraft und Hoffnung miteinander teilen\, um ihr gemeinsames Problem zu lösen und anderen süchtigen Spielern bei ihrer Genesung zu helfen.\n\nDie einzige Bedingung für die Mitgliedschaft bei den Anonymen Spielern (GA) ist der aufrichtige Wunsch\, mit dem Spielen aufzuhören.
URL:https://gemeinde-neustadt.de/event/ga-st-pauli-28/2026-06-17/
LOCATION:Gemeindezentrum St. Pauli\, Große Krankenstr. 11\, Bremen\, 28199\, Deutschland
CATEGORIES:Erwachsene,Selbsthilfe
END:VEVENT
BEGIN:VEVENT
DTSTART;TZID=Europe/Berlin:20260618T193000
DTEND;TZID=Europe/Berlin:20260618T210000
DTSTAMP:20260423T054126
CREATED:20240319T081937Z
LAST-MODIFIED:20251229T140830Z
UID:10004031-1781811000-1781816400@gemeinde-neustadt.de
SUMMARY:NA | St. Pauli
DESCRIPTION:NA (Narcotics Anonymous) sind eine Gemeinschaft von Männern und Frauen\, die miteinander ihre Erfahrung\, Kraft und Hoffnung teilen\, um ihr gemeinsames Problem zu lösen und anderen zur Genesung vom stofflichen Drogen zu verhelfen. \nDie einzige Voraussetzung für die Zugehörigkeit ist der Wunsch\, mit den Drogen aufzuhören.
URL:https://gemeinde-neustadt.de/event/na-st-pauli-22/2026-06-18/
LOCATION:Gemeindezentrum St. Pauli\, Große Krankenstr. 11\, Bremen\, 28199\, Deutschland
CATEGORIES:Erwachsene,Selbsthilfe
END:VEVENT
BEGIN:VEVENT
DTSTART;TZID=Europe/Berlin:20260619T190000
DTEND;TZID=Europe/Berlin:20260619T210000
DTSTAMP:20260423T054126
CREATED:20240319T080920Z
LAST-MODIFIED:20251227T123616Z
UID:10002987-1781895600-1781902800@gemeinde-neustadt.de
SUMMARY:AA | St. Pauli
DESCRIPTION:Anonyme Alkoholiker sind eine Gemeinschaft von Männern und Frauen\, die miteinander ihre Erfahrung\, Kraft und Hoffnung teilen\, um ihr gemeinsames Problem zu lösen und anderen zur Genesung vom Alkoholismus zu verhelfen. \nDie einzige Voraussetzung für die Zugehörigkeit ist der Wunsch\, mit dem Trinken aufzuhören.
URL:https://gemeinde-neustadt.de/event/aa-st-pauli-37/2026-06-19/
LOCATION:Gemeindezentrum St. Pauli\, Große Krankenstr. 11\, Bremen\, 28199\, Deutschland
CATEGORIES:Erwachsene,Selbsthilfe
END:VEVENT
END:VCALENDAR