BEGIN:VCALENDAR
VERSION:2.0
PRODID:-//Gemeinde Bremen-Neustadt - ECPv6.14.2//NONSGML v1.0//EN
CALSCALE:GREGORIAN
METHOD:PUBLISH
X-ORIGINAL-URL:https://gemeinde-neustadt.de
X-WR-CALDESC:Veranstaltungen für Gemeinde Bremen-Neustadt
REFRESH-INTERVAL;VALUE=DURATION:PT1H
X-Robots-Tag:noindex
X-PUBLISHED-TTL:PT1H
BEGIN:VTIMEZONE
TZID:Europe/Berlin
BEGIN:DAYLIGHT
TZOFFSETFROM:+0100
TZOFFSETTO:+0200
TZNAME:CEST
DTSTART:20260329T010000
END:DAYLIGHT
BEGIN:STANDARD
TZOFFSETFROM:+0200
TZOFFSETTO:+0100
TZNAME:CET
DTSTART:20261025T010000
END:STANDARD
END:VTIMEZONE
BEGIN:VEVENT
DTSTART;TZID=Europe/Berlin:20260609T180000
DTEND;TZID=Europe/Berlin:20260609T200000
DTSTAMP:20260423T072936
CREATED:20240319T081120Z
LAST-MODIFIED:20251227T122743Z
UID:10003247-1781028000-1781035200@gemeinde-neustadt.de
SUMMARY:NA | St. Pauli
DESCRIPTION:NA (Narcotics Anonymous) sind eine Gemeinschaft von Männern und Frauen\, die miteinander ihre Erfahrung\, Kraft und Hoffnung teilen\, um ihr gemeinsames Problem zu lösen und anderen zur Genesung vom stofflichen Drogen zu verhelfen. \nDie einzige Voraussetzung für die Zugehörigkeit ist der Wunsch\, mit den Drogen aufzuhören.
URL:https://gemeinde-neustadt.de/event/na-st-pauli-21/2026-06-09/
LOCATION:Gemeindezentrum St. Pauli\, Große Krankenstr. 11\, Bremen\, 28199\, Deutschland
CATEGORIES:Erwachsene,Selbsthilfe
END:VEVENT
BEGIN:VEVENT
DTSTART;TZID=Europe/Berlin:20260610T190000
DTEND;TZID=Europe/Berlin:20260610T210000
DTSTAMP:20260423T072936
CREATED:20240319T081346Z
LAST-MODIFIED:20251229T141026Z
UID:10003769-1781118000-1781125200@gemeinde-neustadt.de
SUMMARY:GA | St. Pauli
DESCRIPTION:Anonyme Spieler (GA) sind eine Gemeinschaft von Frauen und Männern\, die ihre Erfahrung\, Kraft und Hoffnung miteinander teilen\, um ihr gemeinsames Problem zu lösen und anderen süchtigen Spielern bei ihrer Genesung zu helfen.\n\nDie einzige Bedingung für die Mitgliedschaft bei den Anonymen Spielern (GA) ist der aufrichtige Wunsch\, mit dem Spielen aufzuhören.
URL:https://gemeinde-neustadt.de/event/ga-st-pauli-28/2026-06-10/
LOCATION:Gemeindezentrum St. Pauli\, Große Krankenstr. 11\, Bremen\, 28199\, Deutschland
CATEGORIES:Erwachsene,Selbsthilfe
END:VEVENT
BEGIN:VEVENT
DTSTART;TZID=Europe/Berlin:20260611T193000
DTEND;TZID=Europe/Berlin:20260611T210000
DTSTAMP:20260423T072936
CREATED:20240319T081937Z
LAST-MODIFIED:20251229T140830Z
UID:10004030-1781206200-1781211600@gemeinde-neustadt.de
SUMMARY:NA | St. Pauli
DESCRIPTION:NA (Narcotics Anonymous) sind eine Gemeinschaft von Männern und Frauen\, die miteinander ihre Erfahrung\, Kraft und Hoffnung teilen\, um ihr gemeinsames Problem zu lösen und anderen zur Genesung vom stofflichen Drogen zu verhelfen. \nDie einzige Voraussetzung für die Zugehörigkeit ist der Wunsch\, mit den Drogen aufzuhören.
URL:https://gemeinde-neustadt.de/event/na-st-pauli-22/2026-06-11/
LOCATION:Gemeindezentrum St. Pauli\, Große Krankenstr. 11\, Bremen\, 28199\, Deutschland
CATEGORIES:Erwachsene,Selbsthilfe
END:VEVENT
BEGIN:VEVENT
DTSTART;TZID=Europe/Berlin:20260612T190000
DTEND;TZID=Europe/Berlin:20260612T210000
DTSTAMP:20260423T072936
CREATED:20240319T080920Z
LAST-MODIFIED:20251227T123616Z
UID:10002986-1781290800-1781298000@gemeinde-neustadt.de
SUMMARY:AA | St. Pauli
DESCRIPTION:Anonyme Alkoholiker sind eine Gemeinschaft von Männern und Frauen\, die miteinander ihre Erfahrung\, Kraft und Hoffnung teilen\, um ihr gemeinsames Problem zu lösen und anderen zur Genesung vom Alkoholismus zu verhelfen. \nDie einzige Voraussetzung für die Zugehörigkeit ist der Wunsch\, mit dem Trinken aufzuhören.
URL:https://gemeinde-neustadt.de/event/aa-st-pauli-37/2026-06-12/
LOCATION:Gemeindezentrum St. Pauli\, Große Krankenstr. 11\, Bremen\, 28199\, Deutschland
CATEGORIES:Erwachsene,Selbsthilfe
END:VEVENT
BEGIN:VEVENT
DTSTART;TZID=Europe/Berlin:20260614T170000
DTEND;TZID=Europe/Berlin:20260614T190000
DTSTAMP:20260423T072936
CREATED:20240319T082155Z
LAST-MODIFIED:20251227T161844Z
UID:10004291-1781456400-1781463600@gemeinde-neustadt.de
SUMMARY:GA | St. Pauli
DESCRIPTION:Anonyme Spieler (GA) sind eine Gemeinschaft von Frauen und Männern\, die ihre Erfahrung\, Kraft und Hoffnung miteinander teilen\, um ihr gemeinsames Problem zu lösen und anderen süchtigen Spielern bei ihrer Genesung zu helfen.\n\nDie einzige Bedingung für die Mitgliedschaft bei den Anonymen Spielern (GA) ist der aufrichtige Wunsch\, mit dem Spielen aufzuhören.
URL:https://gemeinde-neustadt.de/event/ga-st-pauli-29/2026-06-14/
LOCATION:Gemeindezentrum St. Pauli\, Große Krankenstr. 11\, Bremen\, 28199\, Deutschland
CATEGORIES:Erwachsene,Selbsthilfe
END:VEVENT
BEGIN:VEVENT
DTSTART;TZID=Europe/Berlin:20260614T180000
DTEND;TZID=Europe/Berlin:20260614T200000
DTSTAMP:20260423T072936
CREATED:20240319T082317Z
LAST-MODIFIED:20251227T161809Z
UID:10004552-1781460000-1781467200@gemeinde-neustadt.de
SUMMARY:AA | St. Pauli
DESCRIPTION:Anonyme Alkoholiker sind eine Gemeinschaft von Männern und Frauen\, die miteinander ihre Erfahrung\, Kraft und Hoffnung teilen\, um ihr gemeinsames Problem zu lösen und anderen zur Genesung vom Alkoholismus zu verhelfen. \nDie einzige Voraussetzung für die Zugehörigkeit ist der Wunsch\, mit dem Trinken aufzuhören.
URL:https://gemeinde-neustadt.de/event/aa-st-pauli-39/2026-06-14/
LOCATION:Gemeindezentrum St. Pauli\, Große Krankenstr. 11\, Bremen\, 28199\, Deutschland
CATEGORIES:Erwachsene,Selbsthilfe
END:VEVENT
BEGIN:VEVENT
DTSTART;TZID=Europe/Berlin:20260616T180000
DTEND;TZID=Europe/Berlin:20260616T200000
DTSTAMP:20260423T072936
CREATED:20240319T081120Z
LAST-MODIFIED:20251227T122743Z
UID:10003248-1781632800-1781640000@gemeinde-neustadt.de
SUMMARY:NA | St. Pauli
DESCRIPTION:NA (Narcotics Anonymous) sind eine Gemeinschaft von Männern und Frauen\, die miteinander ihre Erfahrung\, Kraft und Hoffnung teilen\, um ihr gemeinsames Problem zu lösen und anderen zur Genesung vom stofflichen Drogen zu verhelfen. \nDie einzige Voraussetzung für die Zugehörigkeit ist der Wunsch\, mit den Drogen aufzuhören.
URL:https://gemeinde-neustadt.de/event/na-st-pauli-21/2026-06-16/
LOCATION:Gemeindezentrum St. Pauli\, Große Krankenstr. 11\, Bremen\, 28199\, Deutschland
CATEGORIES:Erwachsene,Selbsthilfe
END:VEVENT
BEGIN:VEVENT
DTSTART;TZID=Europe/Berlin:20260617T190000
DTEND;TZID=Europe/Berlin:20260617T210000
DTSTAMP:20260423T072936
CREATED:20240319T081346Z
LAST-MODIFIED:20251229T141026Z
UID:10003770-1781722800-1781730000@gemeinde-neustadt.de
SUMMARY:GA | St. Pauli
DESCRIPTION:Anonyme Spieler (GA) sind eine Gemeinschaft von Frauen und Männern\, die ihre Erfahrung\, Kraft und Hoffnung miteinander teilen\, um ihr gemeinsames Problem zu lösen und anderen süchtigen Spielern bei ihrer Genesung zu helfen.\n\nDie einzige Bedingung für die Mitgliedschaft bei den Anonymen Spielern (GA) ist der aufrichtige Wunsch\, mit dem Spielen aufzuhören.
URL:https://gemeinde-neustadt.de/event/ga-st-pauli-28/2026-06-17/
LOCATION:Gemeindezentrum St. Pauli\, Große Krankenstr. 11\, Bremen\, 28199\, Deutschland
CATEGORIES:Erwachsene,Selbsthilfe
END:VEVENT
BEGIN:VEVENT
DTSTART;TZID=Europe/Berlin:20260618T193000
DTEND;TZID=Europe/Berlin:20260618T210000
DTSTAMP:20260423T072936
CREATED:20240319T081937Z
LAST-MODIFIED:20251229T140830Z
UID:10004031-1781811000-1781816400@gemeinde-neustadt.de
SUMMARY:NA | St. Pauli
DESCRIPTION:NA (Narcotics Anonymous) sind eine Gemeinschaft von Männern und Frauen\, die miteinander ihre Erfahrung\, Kraft und Hoffnung teilen\, um ihr gemeinsames Problem zu lösen und anderen zur Genesung vom stofflichen Drogen zu verhelfen. \nDie einzige Voraussetzung für die Zugehörigkeit ist der Wunsch\, mit den Drogen aufzuhören.
URL:https://gemeinde-neustadt.de/event/na-st-pauli-22/2026-06-18/
LOCATION:Gemeindezentrum St. Pauli\, Große Krankenstr. 11\, Bremen\, 28199\, Deutschland
CATEGORIES:Erwachsene,Selbsthilfe
END:VEVENT
BEGIN:VEVENT
DTSTART;TZID=Europe/Berlin:20260619T190000
DTEND;TZID=Europe/Berlin:20260619T210000
DTSTAMP:20260423T072936
CREATED:20240319T080920Z
LAST-MODIFIED:20251227T123616Z
UID:10002987-1781895600-1781902800@gemeinde-neustadt.de
SUMMARY:AA | St. Pauli
DESCRIPTION:Anonyme Alkoholiker sind eine Gemeinschaft von Männern und Frauen\, die miteinander ihre Erfahrung\, Kraft und Hoffnung teilen\, um ihr gemeinsames Problem zu lösen und anderen zur Genesung vom Alkoholismus zu verhelfen. \nDie einzige Voraussetzung für die Zugehörigkeit ist der Wunsch\, mit dem Trinken aufzuhören.
URL:https://gemeinde-neustadt.de/event/aa-st-pauli-37/2026-06-19/
LOCATION:Gemeindezentrum St. Pauli\, Große Krankenstr. 11\, Bremen\, 28199\, Deutschland
CATEGORIES:Erwachsene,Selbsthilfe
END:VEVENT
BEGIN:VEVENT
DTSTART;TZID=Europe/Berlin:20260621T170000
DTEND;TZID=Europe/Berlin:20260621T190000
DTSTAMP:20260423T072936
CREATED:20240319T082155Z
LAST-MODIFIED:20251227T161844Z
UID:10004292-1782061200-1782068400@gemeinde-neustadt.de
SUMMARY:GA | St. Pauli
DESCRIPTION:Anonyme Spieler (GA) sind eine Gemeinschaft von Frauen und Männern\, die ihre Erfahrung\, Kraft und Hoffnung miteinander teilen\, um ihr gemeinsames Problem zu lösen und anderen süchtigen Spielern bei ihrer Genesung zu helfen.\n\nDie einzige Bedingung für die Mitgliedschaft bei den Anonymen Spielern (GA) ist der aufrichtige Wunsch\, mit dem Spielen aufzuhören.
URL:https://gemeinde-neustadt.de/event/ga-st-pauli-29/2026-06-21/
LOCATION:Gemeindezentrum St. Pauli\, Große Krankenstr. 11\, Bremen\, 28199\, Deutschland
CATEGORIES:Erwachsene,Selbsthilfe
END:VEVENT
BEGIN:VEVENT
DTSTART;TZID=Europe/Berlin:20260621T180000
DTEND;TZID=Europe/Berlin:20260621T200000
DTSTAMP:20260423T072936
CREATED:20240319T082317Z
LAST-MODIFIED:20251227T161809Z
UID:10004553-1782064800-1782072000@gemeinde-neustadt.de
SUMMARY:AA | St. Pauli
DESCRIPTION:Anonyme Alkoholiker sind eine Gemeinschaft von Männern und Frauen\, die miteinander ihre Erfahrung\, Kraft und Hoffnung teilen\, um ihr gemeinsames Problem zu lösen und anderen zur Genesung vom Alkoholismus zu verhelfen. \nDie einzige Voraussetzung für die Zugehörigkeit ist der Wunsch\, mit dem Trinken aufzuhören.
URL:https://gemeinde-neustadt.de/event/aa-st-pauli-39/2026-06-21/
LOCATION:Gemeindezentrum St. Pauli\, Große Krankenstr. 11\, Bremen\, 28199\, Deutschland
CATEGORIES:Erwachsene,Selbsthilfe
END:VEVENT
BEGIN:VEVENT
DTSTART;TZID=Europe/Berlin:20260623T180000
DTEND;TZID=Europe/Berlin:20260623T200000
DTSTAMP:20260423T072936
CREATED:20240319T081120Z
LAST-MODIFIED:20251227T122743Z
UID:10003249-1782237600-1782244800@gemeinde-neustadt.de
SUMMARY:NA | St. Pauli
DESCRIPTION:NA (Narcotics Anonymous) sind eine Gemeinschaft von Männern und Frauen\, die miteinander ihre Erfahrung\, Kraft und Hoffnung teilen\, um ihr gemeinsames Problem zu lösen und anderen zur Genesung vom stofflichen Drogen zu verhelfen. \nDie einzige Voraussetzung für die Zugehörigkeit ist der Wunsch\, mit den Drogen aufzuhören.
URL:https://gemeinde-neustadt.de/event/na-st-pauli-21/2026-06-23/
LOCATION:Gemeindezentrum St. Pauli\, Große Krankenstr. 11\, Bremen\, 28199\, Deutschland
CATEGORIES:Erwachsene,Selbsthilfe
END:VEVENT
BEGIN:VEVENT
DTSTART;TZID=Europe/Berlin:20260624T190000
DTEND;TZID=Europe/Berlin:20260624T210000
DTSTAMP:20260423T072936
CREATED:20240319T081346Z
LAST-MODIFIED:20251229T141026Z
UID:10003771-1782327600-1782334800@gemeinde-neustadt.de
SUMMARY:GA | St. Pauli
DESCRIPTION:Anonyme Spieler (GA) sind eine Gemeinschaft von Frauen und Männern\, die ihre Erfahrung\, Kraft und Hoffnung miteinander teilen\, um ihr gemeinsames Problem zu lösen und anderen süchtigen Spielern bei ihrer Genesung zu helfen.\n\nDie einzige Bedingung für die Mitgliedschaft bei den Anonymen Spielern (GA) ist der aufrichtige Wunsch\, mit dem Spielen aufzuhören.
URL:https://gemeinde-neustadt.de/event/ga-st-pauli-28/2026-06-24/
LOCATION:Gemeindezentrum St. Pauli\, Große Krankenstr. 11\, Bremen\, 28199\, Deutschland
CATEGORIES:Erwachsene,Selbsthilfe
END:VEVENT
BEGIN:VEVENT
DTSTART;TZID=Europe/Berlin:20260625T193000
DTEND;TZID=Europe/Berlin:20260625T210000
DTSTAMP:20260423T072936
CREATED:20240319T081937Z
LAST-MODIFIED:20251229T140830Z
UID:10004032-1782415800-1782421200@gemeinde-neustadt.de
SUMMARY:NA | St. Pauli
DESCRIPTION:NA (Narcotics Anonymous) sind eine Gemeinschaft von Männern und Frauen\, die miteinander ihre Erfahrung\, Kraft und Hoffnung teilen\, um ihr gemeinsames Problem zu lösen und anderen zur Genesung vom stofflichen Drogen zu verhelfen. \nDie einzige Voraussetzung für die Zugehörigkeit ist der Wunsch\, mit den Drogen aufzuhören.
URL:https://gemeinde-neustadt.de/event/na-st-pauli-22/2026-06-25/
LOCATION:Gemeindezentrum St. Pauli\, Große Krankenstr. 11\, Bremen\, 28199\, Deutschland
CATEGORIES:Erwachsene,Selbsthilfe
END:VEVENT
BEGIN:VEVENT
DTSTART;TZID=Europe/Berlin:20260626T190000
DTEND;TZID=Europe/Berlin:20260626T210000
DTSTAMP:20260423T072936
CREATED:20240319T080920Z
LAST-MODIFIED:20251227T123616Z
UID:10002988-1782500400-1782507600@gemeinde-neustadt.de
SUMMARY:AA | St. Pauli
DESCRIPTION:Anonyme Alkoholiker sind eine Gemeinschaft von Männern und Frauen\, die miteinander ihre Erfahrung\, Kraft und Hoffnung teilen\, um ihr gemeinsames Problem zu lösen und anderen zur Genesung vom Alkoholismus zu verhelfen. \nDie einzige Voraussetzung für die Zugehörigkeit ist der Wunsch\, mit dem Trinken aufzuhören.
URL:https://gemeinde-neustadt.de/event/aa-st-pauli-37/2026-06-26/
LOCATION:Gemeindezentrum St. Pauli\, Große Krankenstr. 11\, Bremen\, 28199\, Deutschland
CATEGORIES:Erwachsene,Selbsthilfe
END:VEVENT
BEGIN:VEVENT
DTSTART;TZID=Europe/Berlin:20260628T170000
DTEND;TZID=Europe/Berlin:20260628T190000
DTSTAMP:20260423T072936
CREATED:20240319T082155Z
LAST-MODIFIED:20251227T161844Z
UID:10004293-1782666000-1782673200@gemeinde-neustadt.de
SUMMARY:GA | St. Pauli
DESCRIPTION:Anonyme Spieler (GA) sind eine Gemeinschaft von Frauen und Männern\, die ihre Erfahrung\, Kraft und Hoffnung miteinander teilen\, um ihr gemeinsames Problem zu lösen und anderen süchtigen Spielern bei ihrer Genesung zu helfen.\n\nDie einzige Bedingung für die Mitgliedschaft bei den Anonymen Spielern (GA) ist der aufrichtige Wunsch\, mit dem Spielen aufzuhören.
URL:https://gemeinde-neustadt.de/event/ga-st-pauli-29/2026-06-28/
LOCATION:Gemeindezentrum St. Pauli\, Große Krankenstr. 11\, Bremen\, 28199\, Deutschland
CATEGORIES:Erwachsene,Selbsthilfe
END:VEVENT
BEGIN:VEVENT
DTSTART;TZID=Europe/Berlin:20260628T180000
DTEND;TZID=Europe/Berlin:20260628T200000
DTSTAMP:20260423T072936
CREATED:20240319T082317Z
LAST-MODIFIED:20251227T161809Z
UID:10004554-1782669600-1782676800@gemeinde-neustadt.de
SUMMARY:AA | St. Pauli
DESCRIPTION:Anonyme Alkoholiker sind eine Gemeinschaft von Männern und Frauen\, die miteinander ihre Erfahrung\, Kraft und Hoffnung teilen\, um ihr gemeinsames Problem zu lösen und anderen zur Genesung vom Alkoholismus zu verhelfen. \nDie einzige Voraussetzung für die Zugehörigkeit ist der Wunsch\, mit dem Trinken aufzuhören.
URL:https://gemeinde-neustadt.de/event/aa-st-pauli-39/2026-06-28/
LOCATION:Gemeindezentrum St. Pauli\, Große Krankenstr. 11\, Bremen\, 28199\, Deutschland
CATEGORIES:Erwachsene,Selbsthilfe
END:VEVENT
BEGIN:VEVENT
DTSTART;TZID=Europe/Berlin:20260630T180000
DTEND;TZID=Europe/Berlin:20260630T200000
DTSTAMP:20260423T072936
CREATED:20240319T081120Z
LAST-MODIFIED:20251227T122743Z
UID:10003250-1782842400-1782849600@gemeinde-neustadt.de
SUMMARY:NA | St. Pauli
DESCRIPTION:NA (Narcotics Anonymous) sind eine Gemeinschaft von Männern und Frauen\, die miteinander ihre Erfahrung\, Kraft und Hoffnung teilen\, um ihr gemeinsames Problem zu lösen und anderen zur Genesung vom stofflichen Drogen zu verhelfen. \nDie einzige Voraussetzung für die Zugehörigkeit ist der Wunsch\, mit den Drogen aufzuhören.
URL:https://gemeinde-neustadt.de/event/na-st-pauli-21/2026-06-30/
LOCATION:Gemeindezentrum St. Pauli\, Große Krankenstr. 11\, Bremen\, 28199\, Deutschland
CATEGORIES:Erwachsene,Selbsthilfe
END:VEVENT
BEGIN:VEVENT
DTSTART;TZID=Europe/Berlin:20260701T190000
DTEND;TZID=Europe/Berlin:20260701T210000
DTSTAMP:20260423T072936
CREATED:20240319T081346Z
LAST-MODIFIED:20251229T141026Z
UID:10003772-1782932400-1782939600@gemeinde-neustadt.de
SUMMARY:GA | St. Pauli
DESCRIPTION:Anonyme Spieler (GA) sind eine Gemeinschaft von Frauen und Männern\, die ihre Erfahrung\, Kraft und Hoffnung miteinander teilen\, um ihr gemeinsames Problem zu lösen und anderen süchtigen Spielern bei ihrer Genesung zu helfen.\n\nDie einzige Bedingung für die Mitgliedschaft bei den Anonymen Spielern (GA) ist der aufrichtige Wunsch\, mit dem Spielen aufzuhören.
URL:https://gemeinde-neustadt.de/event/ga-st-pauli-28/2026-07-01/
LOCATION:Gemeindezentrum St. Pauli\, Große Krankenstr. 11\, Bremen\, 28199\, Deutschland
CATEGORIES:Erwachsene,Selbsthilfe
END:VEVENT
BEGIN:VEVENT
DTSTART;TZID=Europe/Berlin:20260702T193000
DTEND;TZID=Europe/Berlin:20260702T210000
DTSTAMP:20260423T072936
CREATED:20240319T081937Z
LAST-MODIFIED:20251229T140830Z
UID:10004033-1783020600-1783026000@gemeinde-neustadt.de
SUMMARY:NA | St. Pauli
DESCRIPTION:NA (Narcotics Anonymous) sind eine Gemeinschaft von Männern und Frauen\, die miteinander ihre Erfahrung\, Kraft und Hoffnung teilen\, um ihr gemeinsames Problem zu lösen und anderen zur Genesung vom stofflichen Drogen zu verhelfen. \nDie einzige Voraussetzung für die Zugehörigkeit ist der Wunsch\, mit den Drogen aufzuhören.
URL:https://gemeinde-neustadt.de/event/na-st-pauli-22/2026-07-02/
LOCATION:Gemeindezentrum St. Pauli\, Große Krankenstr. 11\, Bremen\, 28199\, Deutschland
CATEGORIES:Erwachsene,Selbsthilfe
END:VEVENT
BEGIN:VEVENT
DTSTART;TZID=Europe/Berlin:20260703T190000
DTEND;TZID=Europe/Berlin:20260703T210000
DTSTAMP:20260423T072936
CREATED:20240319T080920Z
LAST-MODIFIED:20251227T123616Z
UID:10002989-1783105200-1783112400@gemeinde-neustadt.de
SUMMARY:AA | St. Pauli
DESCRIPTION:Anonyme Alkoholiker sind eine Gemeinschaft von Männern und Frauen\, die miteinander ihre Erfahrung\, Kraft und Hoffnung teilen\, um ihr gemeinsames Problem zu lösen und anderen zur Genesung vom Alkoholismus zu verhelfen. \nDie einzige Voraussetzung für die Zugehörigkeit ist der Wunsch\, mit dem Trinken aufzuhören.
URL:https://gemeinde-neustadt.de/event/aa-st-pauli-37/2026-07-03/
LOCATION:Gemeindezentrum St. Pauli\, Große Krankenstr. 11\, Bremen\, 28199\, Deutschland
CATEGORIES:Erwachsene,Selbsthilfe
END:VEVENT
BEGIN:VEVENT
DTSTART;TZID=Europe/Berlin:20260705T170000
DTEND;TZID=Europe/Berlin:20260705T190000
DTSTAMP:20260423T072936
CREATED:20240319T082155Z
LAST-MODIFIED:20251227T161844Z
UID:10004294-1783270800-1783278000@gemeinde-neustadt.de
SUMMARY:GA | St. Pauli
DESCRIPTION:Anonyme Spieler (GA) sind eine Gemeinschaft von Frauen und Männern\, die ihre Erfahrung\, Kraft und Hoffnung miteinander teilen\, um ihr gemeinsames Problem zu lösen und anderen süchtigen Spielern bei ihrer Genesung zu helfen.\n\nDie einzige Bedingung für die Mitgliedschaft bei den Anonymen Spielern (GA) ist der aufrichtige Wunsch\, mit dem Spielen aufzuhören.
URL:https://gemeinde-neustadt.de/event/ga-st-pauli-29/2026-07-05/
LOCATION:Gemeindezentrum St. Pauli\, Große Krankenstr. 11\, Bremen\, 28199\, Deutschland
CATEGORIES:Erwachsene,Selbsthilfe
END:VEVENT
BEGIN:VEVENT
DTSTART;TZID=Europe/Berlin:20260705T180000
DTEND;TZID=Europe/Berlin:20260705T200000
DTSTAMP:20260423T072936
CREATED:20240319T082317Z
LAST-MODIFIED:20251227T161809Z
UID:10004555-1783274400-1783281600@gemeinde-neustadt.de
SUMMARY:AA | St. Pauli
DESCRIPTION:Anonyme Alkoholiker sind eine Gemeinschaft von Männern und Frauen\, die miteinander ihre Erfahrung\, Kraft und Hoffnung teilen\, um ihr gemeinsames Problem zu lösen und anderen zur Genesung vom Alkoholismus zu verhelfen. \nDie einzige Voraussetzung für die Zugehörigkeit ist der Wunsch\, mit dem Trinken aufzuhören.
URL:https://gemeinde-neustadt.de/event/aa-st-pauli-39/2026-07-05/
LOCATION:Gemeindezentrum St. Pauli\, Große Krankenstr. 11\, Bremen\, 28199\, Deutschland
CATEGORIES:Erwachsene,Selbsthilfe
END:VEVENT
BEGIN:VEVENT
DTSTART;TZID=Europe/Berlin:20260707T180000
DTEND;TZID=Europe/Berlin:20260707T200000
DTSTAMP:20260423T072936
CREATED:20240319T081120Z
LAST-MODIFIED:20251227T122743Z
UID:10003251-1783447200-1783454400@gemeinde-neustadt.de
SUMMARY:NA | St. Pauli
DESCRIPTION:NA (Narcotics Anonymous) sind eine Gemeinschaft von Männern und Frauen\, die miteinander ihre Erfahrung\, Kraft und Hoffnung teilen\, um ihr gemeinsames Problem zu lösen und anderen zur Genesung vom stofflichen Drogen zu verhelfen. \nDie einzige Voraussetzung für die Zugehörigkeit ist der Wunsch\, mit den Drogen aufzuhören.
URL:https://gemeinde-neustadt.de/event/na-st-pauli-21/2026-07-07/
LOCATION:Gemeindezentrum St. Pauli\, Große Krankenstr. 11\, Bremen\, 28199\, Deutschland
CATEGORIES:Erwachsene,Selbsthilfe
END:VEVENT
BEGIN:VEVENT
DTSTART;TZID=Europe/Berlin:20260708T190000
DTEND;TZID=Europe/Berlin:20260708T210000
DTSTAMP:20260423T072936
CREATED:20240319T081346Z
LAST-MODIFIED:20251229T141026Z
UID:10003773-1783537200-1783544400@gemeinde-neustadt.de
SUMMARY:GA | St. Pauli
DESCRIPTION:Anonyme Spieler (GA) sind eine Gemeinschaft von Frauen und Männern\, die ihre Erfahrung\, Kraft und Hoffnung miteinander teilen\, um ihr gemeinsames Problem zu lösen und anderen süchtigen Spielern bei ihrer Genesung zu helfen.\n\nDie einzige Bedingung für die Mitgliedschaft bei den Anonymen Spielern (GA) ist der aufrichtige Wunsch\, mit dem Spielen aufzuhören.
URL:https://gemeinde-neustadt.de/event/ga-st-pauli-28/2026-07-08/
LOCATION:Gemeindezentrum St. Pauli\, Große Krankenstr. 11\, Bremen\, 28199\, Deutschland
CATEGORIES:Erwachsene,Selbsthilfe
END:VEVENT
BEGIN:VEVENT
DTSTART;TZID=Europe/Berlin:20260709T193000
DTEND;TZID=Europe/Berlin:20260709T210000
DTSTAMP:20260423T072936
CREATED:20240319T081937Z
LAST-MODIFIED:20251229T140830Z
UID:10004034-1783625400-1783630800@gemeinde-neustadt.de
SUMMARY:NA | St. Pauli
DESCRIPTION:NA (Narcotics Anonymous) sind eine Gemeinschaft von Männern und Frauen\, die miteinander ihre Erfahrung\, Kraft und Hoffnung teilen\, um ihr gemeinsames Problem zu lösen und anderen zur Genesung vom stofflichen Drogen zu verhelfen. \nDie einzige Voraussetzung für die Zugehörigkeit ist der Wunsch\, mit den Drogen aufzuhören.
URL:https://gemeinde-neustadt.de/event/na-st-pauli-22/2026-07-09/
LOCATION:Gemeindezentrum St. Pauli\, Große Krankenstr. 11\, Bremen\, 28199\, Deutschland
CATEGORIES:Erwachsene,Selbsthilfe
END:VEVENT
BEGIN:VEVENT
DTSTART;TZID=Europe/Berlin:20260710T190000
DTEND;TZID=Europe/Berlin:20260710T210000
DTSTAMP:20260423T072936
CREATED:20240319T080920Z
LAST-MODIFIED:20251227T123616Z
UID:10002990-1783710000-1783717200@gemeinde-neustadt.de
SUMMARY:AA | St. Pauli
DESCRIPTION:Anonyme Alkoholiker sind eine Gemeinschaft von Männern und Frauen\, die miteinander ihre Erfahrung\, Kraft und Hoffnung teilen\, um ihr gemeinsames Problem zu lösen und anderen zur Genesung vom Alkoholismus zu verhelfen. \nDie einzige Voraussetzung für die Zugehörigkeit ist der Wunsch\, mit dem Trinken aufzuhören.
URL:https://gemeinde-neustadt.de/event/aa-st-pauli-37/2026-07-10/
LOCATION:Gemeindezentrum St. Pauli\, Große Krankenstr. 11\, Bremen\, 28199\, Deutschland
CATEGORIES:Erwachsene,Selbsthilfe
END:VEVENT
BEGIN:VEVENT
DTSTART;TZID=Europe/Berlin:20260712T170000
DTEND;TZID=Europe/Berlin:20260712T190000
DTSTAMP:20260423T072936
CREATED:20240319T082155Z
LAST-MODIFIED:20251227T161844Z
UID:10004295-1783875600-1783882800@gemeinde-neustadt.de
SUMMARY:GA | St. Pauli
DESCRIPTION:Anonyme Spieler (GA) sind eine Gemeinschaft von Frauen und Männern\, die ihre Erfahrung\, Kraft und Hoffnung miteinander teilen\, um ihr gemeinsames Problem zu lösen und anderen süchtigen Spielern bei ihrer Genesung zu helfen.\n\nDie einzige Bedingung für die Mitgliedschaft bei den Anonymen Spielern (GA) ist der aufrichtige Wunsch\, mit dem Spielen aufzuhören.
URL:https://gemeinde-neustadt.de/event/ga-st-pauli-29/2026-07-12/
LOCATION:Gemeindezentrum St. Pauli\, Große Krankenstr. 11\, Bremen\, 28199\, Deutschland
CATEGORIES:Erwachsene,Selbsthilfe
END:VEVENT
BEGIN:VEVENT
DTSTART;TZID=Europe/Berlin:20260712T180000
DTEND;TZID=Europe/Berlin:20260712T200000
DTSTAMP:20260423T072936
CREATED:20240319T082317Z
LAST-MODIFIED:20251227T161809Z
UID:10004556-1783879200-1783886400@gemeinde-neustadt.de
SUMMARY:AA | St. Pauli
DESCRIPTION:Anonyme Alkoholiker sind eine Gemeinschaft von Männern und Frauen\, die miteinander ihre Erfahrung\, Kraft und Hoffnung teilen\, um ihr gemeinsames Problem zu lösen und anderen zur Genesung vom Alkoholismus zu verhelfen. \nDie einzige Voraussetzung für die Zugehörigkeit ist der Wunsch\, mit dem Trinken aufzuhören.
URL:https://gemeinde-neustadt.de/event/aa-st-pauli-39/2026-07-12/
LOCATION:Gemeindezentrum St. Pauli\, Große Krankenstr. 11\, Bremen\, 28199\, Deutschland
CATEGORIES:Erwachsene,Selbsthilfe
END:VEVENT
END:VCALENDAR