BEGIN:VCALENDAR
VERSION:2.0
PRODID:-//Gemeinde Bremen-Neustadt - ECPv6.14.2//NONSGML v1.0//EN
CALSCALE:GREGORIAN
METHOD:PUBLISH
X-WR-CALNAME:Gemeinde Bremen-Neustadt
X-ORIGINAL-URL:https://gemeinde-neustadt.de
X-WR-CALDESC:Veranstaltungen für Gemeinde Bremen-Neustadt
REFRESH-INTERVAL;VALUE=DURATION:PT1H
X-Robots-Tag:noindex
X-PUBLISHED-TTL:PT1H
BEGIN:VTIMEZONE
TZID:UTC
BEGIN:STANDARD
TZOFFSETFROM:+0000
TZOFFSETTO:+0000
TZNAME:UTC
DTSTART:20260101T000000
END:STANDARD
END:VTIMEZONE
BEGIN:VTIMEZONE
TZID:Europe/Berlin
BEGIN:DAYLIGHT
TZOFFSETFROM:+0100
TZOFFSETTO:+0200
TZNAME:CEST
DTSTART:20260329T010000
END:DAYLIGHT
BEGIN:STANDARD
TZOFFSETFROM:+0200
TZOFFSETTO:+0100
TZNAME:CET
DTSTART:20261025T010000
END:STANDARD
END:VTIMEZONE
BEGIN:VEVENT
DTSTART;TZID=UTC:20260525T193000
DTEND;TZID=UTC:20260525T211500
DTSTAMP:20260420T160806
CREATED:20260126T150944Z
LAST-MODIFIED:20260402T121228Z
UID:10009521-1779737400-1779743700@gemeinde-neustadt.de
SUMMARY:Kantorei Bremen-Neustadt | St. Pauli
DESCRIPTION:Herzlich Willkommen in der Kantorei Bremen-Neustadt!\nDie Kantorei trifft sich zu regelmäßigen Chorproben mit Kantorin Nora Köhler als Leitung. Mit unseren Stimmen gestalten wir Gottesdienste\, Gemeindeveranstaltungen sowie Konzerte.  \nNähere Informationen bei Nora Köhler: kirchenmusik.neustadt@kirche-bremen.de \n 
URL:https://gemeinde-neustadt.de/event/kantorei-bremen-neustadt-st-pauli-6-2-2-3/2026-05-25/
LOCATION:Gemeindezentrum St. Pauli\, Große Krankenstr. 11\, Bremen\, 28199\, Deutschland
CATEGORIES:Chorprobe,Ehrenamt,Eltern,Erwachsene,Kirchenmusik,Musik,Probe
ORGANIZER;CN="Vereinigte ev. Gemeinde Bremen-Neustadt":MAILTO:neustadt@kirche-bremen.de
END:VEVENT
BEGIN:VEVENT
DTSTART;TZID=Europe/Berlin:20260526T131500
DTEND;TZID=Europe/Berlin:20260526T134500
DTSTAMP:20260420T160806
CREATED:20260316T220950Z
LAST-MODIFIED:20260316T220951Z
UID:10017133-1779801300-1779803100@gemeinde-neustadt.de
SUMMARY:Singspatzen | St. Pauli
DESCRIPTION:Bei den Singspatzen haben Kindergartenkinder ab 4 Jahre die Möglichkeit\, musikalische Erfahrungen zu sammeln. Der Schwerpunkt ist das Singen; verknüpft wird es mit Elementen der musikalischen Früherziehung\, mit Tanz und Bewegung. Es geht um Rhythmus und Melodie\, um Klang und Notenbilder. Die Stimmbildungsübungen werden verpackt in kindgerechte Geschichten. \nDie Singspatzen treten bei Familiengottesdiensten auf. Die Kinder können sich zeigen – mit ihrer Stimme und ihren Talenten.
URL:https://gemeinde-neustadt.de/event/singspatzen-st-pauli-2/2026-05-26/
LOCATION:Gemeindezentrum St. Pauli\, Große Krankenstr. 11\, Bremen\, 28199\, Deutschland
CATEGORIES:Chor,Chorprobe,Kinder,Kinderchor,Kirchenmusik,KITA,Musik,Musikalische Früherziehung,Singen
ORGANIZER;CN="Vereinigte ev. Gemeinde Bremen-Neustadt":MAILTO:neustadt@kirche-bremen.de
END:VEVENT
BEGIN:VEVENT
DTSTART;TZID=Europe/Berlin:20260526T160000
DTEND;TZID=Europe/Berlin:20260526T164500
DTSTAMP:20260420T160806
CREATED:20260316T220621Z
LAST-MODIFIED:20260316T222614Z
UID:10007556-1779811200-1779813900@gemeinde-neustadt.de
SUMMARY:Kinderchor | St. Pauli
DESCRIPTION:Komm und sing mit!\nFür Kinder von 6-10 Jahren.\nIm Kinderchor singen Kinder ab der ersten Klasse. In unserer Gemeinde gibt es zwei Kinderchorgruppen\, beide Gruppen proben einmal in der Woche – die eine in St. Pauli\, die andere in Matthias-Claudius. Für Auftritte und Ausfahrten werden beide Gruppen zusammengelegt. Die Kinder üben sich in Stimmführung und Rhythmus\, in Notenlesen und Gemeinschaft. \n\n\n\nDu bist herzlich willkommen! \nEs grüßt Dich Kantorin Nora Köhler! \nkirchenmusik.neustadt@kirche-bremen.de \n0421 69665613
URL:https://gemeinde-neustadt.de/event/kinderchor-st-pauli-2-2-2-2/2026-05-26/
LOCATION:Gemeindezentrum St. Pauli\, Große Krankenstr. 11\, Bremen\, 28199\, Deutschland
CATEGORIES:Chor,Chorprobe,Kinder,Kinderchor,Kirchenmusik,Musik,Probe
ORGANIZER;CN="Vereinigte ev. Gemeinde Bremen-Neustadt":MAILTO:neustadt@kirche-bremen.de
END:VEVENT
BEGIN:VEVENT
DTSTART;TZID=UTC:20260526T170000
DTEND;TZID=UTC:20260526T170000
DTSTAMP:20260420T160806
CREATED:20260316T220439Z
LAST-MODIFIED:20260316T222740Z
UID:10009256-1779814800-1779814800@gemeinde-neustadt.de
SUMMARY:Starling Voices | St. Pauli
DESCRIPTION:Bei den Starling Voices singen Jugendliche\, deren Hobby meist schon lange das Singen ist. Neben Musicals werden Lieder/Songs gesungen die Lust auf mehr machen. Ob christlich motiviert oder Songs aus dem Alltag der Kids. Ob Eingängig oder anspruchsvoll –  wir stellen uns jeder Herausforderung.\nUnterstützt werden wir stimmbildnerisch von Kristina Schönbeck. Neue Kinder/Jugendliche sind immer herzlich willkommen! Nach Absprache können Kinder ab der 4. Klasse in dieser Gruppe singen. \nKommt vorbei! Ich freue freue mich auf Euch! \nEure Kantorin Nora Köhler
URL:https://gemeinde-neustadt.de/event/starling-voices-st-pauli-11-2-2/2026-05-26/
LOCATION:Gemeindezentrum St. Pauli\, Große Krankenstr. 11\, Bremen\, 28199\, Deutschland
CATEGORIES:Chor,Chorprobe,Jugendarbeit,Kinder,Kirchenmusik,Musik,Probe
ORGANIZER;CN="Vereinigte ev. Gemeinde Bremen-Neustadt":MAILTO:neustadt@kirche-bremen.de
END:VEVENT
BEGIN:VEVENT
DTSTART;TZID=UTC:20260601T193000
DTEND;TZID=UTC:20260601T211500
DTSTAMP:20260420T160806
CREATED:20260126T150944Z
LAST-MODIFIED:20260402T121228Z
UID:10009522-1780342200-1780348500@gemeinde-neustadt.de
SUMMARY:Kantorei Bremen-Neustadt | St. Pauli
DESCRIPTION:Herzlich Willkommen in der Kantorei Bremen-Neustadt!\nDie Kantorei trifft sich zu regelmäßigen Chorproben mit Kantorin Nora Köhler als Leitung. Mit unseren Stimmen gestalten wir Gottesdienste\, Gemeindeveranstaltungen sowie Konzerte.  \nNähere Informationen bei Nora Köhler: kirchenmusik.neustadt@kirche-bremen.de \n 
URL:https://gemeinde-neustadt.de/event/kantorei-bremen-neustadt-st-pauli-6-2-2-3/2026-06-01/
LOCATION:Gemeindezentrum St. Pauli\, Große Krankenstr. 11\, Bremen\, 28199\, Deutschland
CATEGORIES:Chorprobe,Ehrenamt,Eltern,Erwachsene,Kirchenmusik,Musik,Probe
ORGANIZER;CN="Vereinigte ev. Gemeinde Bremen-Neustadt":MAILTO:neustadt@kirche-bremen.de
END:VEVENT
BEGIN:VEVENT
DTSTART;TZID=Europe/Berlin:20260602T131500
DTEND;TZID=Europe/Berlin:20260602T134500
DTSTAMP:20260420T160806
CREATED:20260316T220950Z
LAST-MODIFIED:20260316T220951Z
UID:10017134-1780406100-1780407900@gemeinde-neustadt.de
SUMMARY:Singspatzen | St. Pauli
DESCRIPTION:Bei den Singspatzen haben Kindergartenkinder ab 4 Jahre die Möglichkeit\, musikalische Erfahrungen zu sammeln. Der Schwerpunkt ist das Singen; verknüpft wird es mit Elementen der musikalischen Früherziehung\, mit Tanz und Bewegung. Es geht um Rhythmus und Melodie\, um Klang und Notenbilder. Die Stimmbildungsübungen werden verpackt in kindgerechte Geschichten. \nDie Singspatzen treten bei Familiengottesdiensten auf. Die Kinder können sich zeigen – mit ihrer Stimme und ihren Talenten.
URL:https://gemeinde-neustadt.de/event/singspatzen-st-pauli-2/2026-06-02/
LOCATION:Gemeindezentrum St. Pauli\, Große Krankenstr. 11\, Bremen\, 28199\, Deutschland
CATEGORIES:Chor,Chorprobe,Kinder,Kinderchor,Kirchenmusik,KITA,Musik,Musikalische Früherziehung,Singen
ORGANIZER;CN="Vereinigte ev. Gemeinde Bremen-Neustadt":MAILTO:neustadt@kirche-bremen.de
END:VEVENT
BEGIN:VEVENT
DTSTART;TZID=Europe/Berlin:20260602T160000
DTEND;TZID=Europe/Berlin:20260602T164500
DTSTAMP:20260420T160806
CREATED:20260316T220621Z
LAST-MODIFIED:20260316T222614Z
UID:10007557-1780416000-1780418700@gemeinde-neustadt.de
SUMMARY:Kinderchor | St. Pauli
DESCRIPTION:Komm und sing mit!\nFür Kinder von 6-10 Jahren.\nIm Kinderchor singen Kinder ab der ersten Klasse. In unserer Gemeinde gibt es zwei Kinderchorgruppen\, beide Gruppen proben einmal in der Woche – die eine in St. Pauli\, die andere in Matthias-Claudius. Für Auftritte und Ausfahrten werden beide Gruppen zusammengelegt. Die Kinder üben sich in Stimmführung und Rhythmus\, in Notenlesen und Gemeinschaft. \n\n\n\nDu bist herzlich willkommen! \nEs grüßt Dich Kantorin Nora Köhler! \nkirchenmusik.neustadt@kirche-bremen.de \n0421 69665613
URL:https://gemeinde-neustadt.de/event/kinderchor-st-pauli-2-2-2-2/2026-06-02/
LOCATION:Gemeindezentrum St. Pauli\, Große Krankenstr. 11\, Bremen\, 28199\, Deutschland
CATEGORIES:Chor,Chorprobe,Kinder,Kinderchor,Kirchenmusik,Musik,Probe
ORGANIZER;CN="Vereinigte ev. Gemeinde Bremen-Neustadt":MAILTO:neustadt@kirche-bremen.de
END:VEVENT
BEGIN:VEVENT
DTSTART;TZID=UTC:20260602T170000
DTEND;TZID=UTC:20260602T170000
DTSTAMP:20260420T160806
CREATED:20260316T220439Z
LAST-MODIFIED:20260316T222740Z
UID:10009257-1780419600-1780419600@gemeinde-neustadt.de
SUMMARY:Starling Voices | St. Pauli
DESCRIPTION:Bei den Starling Voices singen Jugendliche\, deren Hobby meist schon lange das Singen ist. Neben Musicals werden Lieder/Songs gesungen die Lust auf mehr machen. Ob christlich motiviert oder Songs aus dem Alltag der Kids. Ob Eingängig oder anspruchsvoll –  wir stellen uns jeder Herausforderung.\nUnterstützt werden wir stimmbildnerisch von Kristina Schönbeck. Neue Kinder/Jugendliche sind immer herzlich willkommen! Nach Absprache können Kinder ab der 4. Klasse in dieser Gruppe singen. \nKommt vorbei! Ich freue freue mich auf Euch! \nEure Kantorin Nora Köhler
URL:https://gemeinde-neustadt.de/event/starling-voices-st-pauli-11-2-2/2026-06-02/
LOCATION:Gemeindezentrum St. Pauli\, Große Krankenstr. 11\, Bremen\, 28199\, Deutschland
CATEGORIES:Chor,Chorprobe,Jugendarbeit,Kinder,Kirchenmusik,Musik,Probe
ORGANIZER;CN="Vereinigte ev. Gemeinde Bremen-Neustadt":MAILTO:neustadt@kirche-bremen.de
END:VEVENT
BEGIN:VEVENT
DTSTART;TZID=UTC:20260608T193000
DTEND;TZID=UTC:20260608T211500
DTSTAMP:20260420T160806
CREATED:20260126T150944Z
LAST-MODIFIED:20260402T121228Z
UID:10009523-1780947000-1780953300@gemeinde-neustadt.de
SUMMARY:Kantorei Bremen-Neustadt | St. Pauli
DESCRIPTION:Herzlich Willkommen in der Kantorei Bremen-Neustadt!\nDie Kantorei trifft sich zu regelmäßigen Chorproben mit Kantorin Nora Köhler als Leitung. Mit unseren Stimmen gestalten wir Gottesdienste\, Gemeindeveranstaltungen sowie Konzerte.  \nNähere Informationen bei Nora Köhler: kirchenmusik.neustadt@kirche-bremen.de \n 
URL:https://gemeinde-neustadt.de/event/kantorei-bremen-neustadt-st-pauli-6-2-2-3/2026-06-08/
LOCATION:Gemeindezentrum St. Pauli\, Große Krankenstr. 11\, Bremen\, 28199\, Deutschland
CATEGORIES:Chorprobe,Ehrenamt,Eltern,Erwachsene,Kirchenmusik,Musik,Probe
ORGANIZER;CN="Vereinigte ev. Gemeinde Bremen-Neustadt":MAILTO:neustadt@kirche-bremen.de
END:VEVENT
BEGIN:VEVENT
DTSTART;TZID=Europe/Berlin:20260609T131500
DTEND;TZID=Europe/Berlin:20260609T134500
DTSTAMP:20260420T160806
CREATED:20260316T220950Z
LAST-MODIFIED:20260316T220951Z
UID:10017135-1781010900-1781012700@gemeinde-neustadt.de
SUMMARY:Singspatzen | St. Pauli
DESCRIPTION:Bei den Singspatzen haben Kindergartenkinder ab 4 Jahre die Möglichkeit\, musikalische Erfahrungen zu sammeln. Der Schwerpunkt ist das Singen; verknüpft wird es mit Elementen der musikalischen Früherziehung\, mit Tanz und Bewegung. Es geht um Rhythmus und Melodie\, um Klang und Notenbilder. Die Stimmbildungsübungen werden verpackt in kindgerechte Geschichten. \nDie Singspatzen treten bei Familiengottesdiensten auf. Die Kinder können sich zeigen – mit ihrer Stimme und ihren Talenten.
URL:https://gemeinde-neustadt.de/event/singspatzen-st-pauli-2/2026-06-09/
LOCATION:Gemeindezentrum St. Pauli\, Große Krankenstr. 11\, Bremen\, 28199\, Deutschland
CATEGORIES:Chor,Chorprobe,Kinder,Kinderchor,Kirchenmusik,KITA,Musik,Musikalische Früherziehung,Singen
ORGANIZER;CN="Vereinigte ev. Gemeinde Bremen-Neustadt":MAILTO:neustadt@kirche-bremen.de
END:VEVENT
BEGIN:VEVENT
DTSTART;TZID=Europe/Berlin:20260609T160000
DTEND;TZID=Europe/Berlin:20260609T164500
DTSTAMP:20260420T160806
CREATED:20260316T220621Z
LAST-MODIFIED:20260316T222614Z
UID:10007558-1781020800-1781023500@gemeinde-neustadt.de
SUMMARY:Kinderchor | St. Pauli
DESCRIPTION:Komm und sing mit!\nFür Kinder von 6-10 Jahren.\nIm Kinderchor singen Kinder ab der ersten Klasse. In unserer Gemeinde gibt es zwei Kinderchorgruppen\, beide Gruppen proben einmal in der Woche – die eine in St. Pauli\, die andere in Matthias-Claudius. Für Auftritte und Ausfahrten werden beide Gruppen zusammengelegt. Die Kinder üben sich in Stimmführung und Rhythmus\, in Notenlesen und Gemeinschaft. \n\n\n\nDu bist herzlich willkommen! \nEs grüßt Dich Kantorin Nora Köhler! \nkirchenmusik.neustadt@kirche-bremen.de \n0421 69665613
URL:https://gemeinde-neustadt.de/event/kinderchor-st-pauli-2-2-2-2/2026-06-09/
LOCATION:Gemeindezentrum St. Pauli\, Große Krankenstr. 11\, Bremen\, 28199\, Deutschland
CATEGORIES:Chor,Chorprobe,Kinder,Kinderchor,Kirchenmusik,Musik,Probe
ORGANIZER;CN="Vereinigte ev. Gemeinde Bremen-Neustadt":MAILTO:neustadt@kirche-bremen.de
END:VEVENT
BEGIN:VEVENT
DTSTART;TZID=UTC:20260609T170000
DTEND;TZID=UTC:20260609T170000
DTSTAMP:20260420T160806
CREATED:20260316T220439Z
LAST-MODIFIED:20260316T222740Z
UID:10009258-1781024400-1781024400@gemeinde-neustadt.de
SUMMARY:Starling Voices | St. Pauli
DESCRIPTION:Bei den Starling Voices singen Jugendliche\, deren Hobby meist schon lange das Singen ist. Neben Musicals werden Lieder/Songs gesungen die Lust auf mehr machen. Ob christlich motiviert oder Songs aus dem Alltag der Kids. Ob Eingängig oder anspruchsvoll –  wir stellen uns jeder Herausforderung.\nUnterstützt werden wir stimmbildnerisch von Kristina Schönbeck. Neue Kinder/Jugendliche sind immer herzlich willkommen! Nach Absprache können Kinder ab der 4. Klasse in dieser Gruppe singen. \nKommt vorbei! Ich freue freue mich auf Euch! \nEure Kantorin Nora Köhler
URL:https://gemeinde-neustadt.de/event/starling-voices-st-pauli-11-2-2/2026-06-09/
LOCATION:Gemeindezentrum St. Pauli\, Große Krankenstr. 11\, Bremen\, 28199\, Deutschland
CATEGORIES:Chor,Chorprobe,Jugendarbeit,Kinder,Kirchenmusik,Musik,Probe
ORGANIZER;CN="Vereinigte ev. Gemeinde Bremen-Neustadt":MAILTO:neustadt@kirche-bremen.de
END:VEVENT
BEGIN:VEVENT
DTSTART;TZID=UTC:20260615T193000
DTEND;TZID=UTC:20260615T211500
DTSTAMP:20260420T160806
CREATED:20260126T150944Z
LAST-MODIFIED:20260402T121228Z
UID:10009524-1781551800-1781558100@gemeinde-neustadt.de
SUMMARY:Kantorei Bremen-Neustadt | St. Pauli
DESCRIPTION:Herzlich Willkommen in der Kantorei Bremen-Neustadt!\nDie Kantorei trifft sich zu regelmäßigen Chorproben mit Kantorin Nora Köhler als Leitung. Mit unseren Stimmen gestalten wir Gottesdienste\, Gemeindeveranstaltungen sowie Konzerte.  \nNähere Informationen bei Nora Köhler: kirchenmusik.neustadt@kirche-bremen.de \n 
URL:https://gemeinde-neustadt.de/event/kantorei-bremen-neustadt-st-pauli-6-2-2-3/2026-06-15/
LOCATION:Gemeindezentrum St. Pauli\, Große Krankenstr. 11\, Bremen\, 28199\, Deutschland
CATEGORIES:Chorprobe,Ehrenamt,Eltern,Erwachsene,Kirchenmusik,Musik,Probe
ORGANIZER;CN="Vereinigte ev. Gemeinde Bremen-Neustadt":MAILTO:neustadt@kirche-bremen.de
END:VEVENT
BEGIN:VEVENT
DTSTART;TZID=Europe/Berlin:20260616T131500
DTEND;TZID=Europe/Berlin:20260616T134500
DTSTAMP:20260420T160806
CREATED:20260316T220950Z
LAST-MODIFIED:20260316T220951Z
UID:10017136-1781615700-1781617500@gemeinde-neustadt.de
SUMMARY:Singspatzen | St. Pauli
DESCRIPTION:Bei den Singspatzen haben Kindergartenkinder ab 4 Jahre die Möglichkeit\, musikalische Erfahrungen zu sammeln. Der Schwerpunkt ist das Singen; verknüpft wird es mit Elementen der musikalischen Früherziehung\, mit Tanz und Bewegung. Es geht um Rhythmus und Melodie\, um Klang und Notenbilder. Die Stimmbildungsübungen werden verpackt in kindgerechte Geschichten. \nDie Singspatzen treten bei Familiengottesdiensten auf. Die Kinder können sich zeigen – mit ihrer Stimme und ihren Talenten.
URL:https://gemeinde-neustadt.de/event/singspatzen-st-pauli-2/2026-06-16/
LOCATION:Gemeindezentrum St. Pauli\, Große Krankenstr. 11\, Bremen\, 28199\, Deutschland
CATEGORIES:Chor,Chorprobe,Kinder,Kinderchor,Kirchenmusik,KITA,Musik,Musikalische Früherziehung,Singen
ORGANIZER;CN="Vereinigte ev. Gemeinde Bremen-Neustadt":MAILTO:neustadt@kirche-bremen.de
END:VEVENT
BEGIN:VEVENT
DTSTART;TZID=Europe/Berlin:20260616T160000
DTEND;TZID=Europe/Berlin:20260616T164500
DTSTAMP:20260420T160806
CREATED:20260316T220621Z
LAST-MODIFIED:20260316T222614Z
UID:10007559-1781625600-1781628300@gemeinde-neustadt.de
SUMMARY:Kinderchor | St. Pauli
DESCRIPTION:Komm und sing mit!\nFür Kinder von 6-10 Jahren.\nIm Kinderchor singen Kinder ab der ersten Klasse. In unserer Gemeinde gibt es zwei Kinderchorgruppen\, beide Gruppen proben einmal in der Woche – die eine in St. Pauli\, die andere in Matthias-Claudius. Für Auftritte und Ausfahrten werden beide Gruppen zusammengelegt. Die Kinder üben sich in Stimmführung und Rhythmus\, in Notenlesen und Gemeinschaft. \n\n\n\nDu bist herzlich willkommen! \nEs grüßt Dich Kantorin Nora Köhler! \nkirchenmusik.neustadt@kirche-bremen.de \n0421 69665613
URL:https://gemeinde-neustadt.de/event/kinderchor-st-pauli-2-2-2-2/2026-06-16/
LOCATION:Gemeindezentrum St. Pauli\, Große Krankenstr. 11\, Bremen\, 28199\, Deutschland
CATEGORIES:Chor,Chorprobe,Kinder,Kinderchor,Kirchenmusik,Musik,Probe
ORGANIZER;CN="Vereinigte ev. Gemeinde Bremen-Neustadt":MAILTO:neustadt@kirche-bremen.de
END:VEVENT
BEGIN:VEVENT
DTSTART;TZID=UTC:20260616T170000
DTEND;TZID=UTC:20260616T170000
DTSTAMP:20260420T160806
CREATED:20260316T220439Z
LAST-MODIFIED:20260316T222740Z
UID:10009259-1781629200-1781629200@gemeinde-neustadt.de
SUMMARY:Starling Voices | St. Pauli
DESCRIPTION:Bei den Starling Voices singen Jugendliche\, deren Hobby meist schon lange das Singen ist. Neben Musicals werden Lieder/Songs gesungen die Lust auf mehr machen. Ob christlich motiviert oder Songs aus dem Alltag der Kids. Ob Eingängig oder anspruchsvoll –  wir stellen uns jeder Herausforderung.\nUnterstützt werden wir stimmbildnerisch von Kristina Schönbeck. Neue Kinder/Jugendliche sind immer herzlich willkommen! Nach Absprache können Kinder ab der 4. Klasse in dieser Gruppe singen. \nKommt vorbei! Ich freue freue mich auf Euch! \nEure Kantorin Nora Köhler
URL:https://gemeinde-neustadt.de/event/starling-voices-st-pauli-11-2-2/2026-06-16/
LOCATION:Gemeindezentrum St. Pauli\, Große Krankenstr. 11\, Bremen\, 28199\, Deutschland
CATEGORIES:Chor,Chorprobe,Jugendarbeit,Kinder,Kirchenmusik,Musik,Probe
ORGANIZER;CN="Vereinigte ev. Gemeinde Bremen-Neustadt":MAILTO:neustadt@kirche-bremen.de
END:VEVENT
BEGIN:VEVENT
DTSTART;TZID=UTC:20260622T193000
DTEND;TZID=UTC:20260622T211500
DTSTAMP:20260420T160806
CREATED:20260126T150944Z
LAST-MODIFIED:20260402T121228Z
UID:10009525-1782156600-1782162900@gemeinde-neustadt.de
SUMMARY:Kantorei Bremen-Neustadt | St. Pauli
DESCRIPTION:Herzlich Willkommen in der Kantorei Bremen-Neustadt!\nDie Kantorei trifft sich zu regelmäßigen Chorproben mit Kantorin Nora Köhler als Leitung. Mit unseren Stimmen gestalten wir Gottesdienste\, Gemeindeveranstaltungen sowie Konzerte.  \nNähere Informationen bei Nora Köhler: kirchenmusik.neustadt@kirche-bremen.de \n 
URL:https://gemeinde-neustadt.de/event/kantorei-bremen-neustadt-st-pauli-6-2-2-3/2026-06-22/
LOCATION:Gemeindezentrum St. Pauli\, Große Krankenstr. 11\, Bremen\, 28199\, Deutschland
CATEGORIES:Chorprobe,Ehrenamt,Eltern,Erwachsene,Kirchenmusik,Musik,Probe
ORGANIZER;CN="Vereinigte ev. Gemeinde Bremen-Neustadt":MAILTO:neustadt@kirche-bremen.de
END:VEVENT
BEGIN:VEVENT
DTSTART;TZID=Europe/Berlin:20260623T131500
DTEND;TZID=Europe/Berlin:20260623T134500
DTSTAMP:20260420T160806
CREATED:20260316T220950Z
LAST-MODIFIED:20260316T220951Z
UID:10017137-1782220500-1782222300@gemeinde-neustadt.de
SUMMARY:Singspatzen | St. Pauli
DESCRIPTION:Bei den Singspatzen haben Kindergartenkinder ab 4 Jahre die Möglichkeit\, musikalische Erfahrungen zu sammeln. Der Schwerpunkt ist das Singen; verknüpft wird es mit Elementen der musikalischen Früherziehung\, mit Tanz und Bewegung. Es geht um Rhythmus und Melodie\, um Klang und Notenbilder. Die Stimmbildungsübungen werden verpackt in kindgerechte Geschichten. \nDie Singspatzen treten bei Familiengottesdiensten auf. Die Kinder können sich zeigen – mit ihrer Stimme und ihren Talenten.
URL:https://gemeinde-neustadt.de/event/singspatzen-st-pauli-2/2026-06-23/
LOCATION:Gemeindezentrum St. Pauli\, Große Krankenstr. 11\, Bremen\, 28199\, Deutschland
CATEGORIES:Chor,Chorprobe,Kinder,Kinderchor,Kirchenmusik,KITA,Musik,Musikalische Früherziehung,Singen
ORGANIZER;CN="Vereinigte ev. Gemeinde Bremen-Neustadt":MAILTO:neustadt@kirche-bremen.de
END:VEVENT
BEGIN:VEVENT
DTSTART;TZID=Europe/Berlin:20260623T160000
DTEND;TZID=Europe/Berlin:20260623T164500
DTSTAMP:20260420T160806
CREATED:20260316T220621Z
LAST-MODIFIED:20260316T222614Z
UID:10007560-1782230400-1782233100@gemeinde-neustadt.de
SUMMARY:Kinderchor | St. Pauli
DESCRIPTION:Komm und sing mit!\nFür Kinder von 6-10 Jahren.\nIm Kinderchor singen Kinder ab der ersten Klasse. In unserer Gemeinde gibt es zwei Kinderchorgruppen\, beide Gruppen proben einmal in der Woche – die eine in St. Pauli\, die andere in Matthias-Claudius. Für Auftritte und Ausfahrten werden beide Gruppen zusammengelegt. Die Kinder üben sich in Stimmführung und Rhythmus\, in Notenlesen und Gemeinschaft. \n\n\n\nDu bist herzlich willkommen! \nEs grüßt Dich Kantorin Nora Köhler! \nkirchenmusik.neustadt@kirche-bremen.de \n0421 69665613
URL:https://gemeinde-neustadt.de/event/kinderchor-st-pauli-2-2-2-2/2026-06-23/
LOCATION:Gemeindezentrum St. Pauli\, Große Krankenstr. 11\, Bremen\, 28199\, Deutschland
CATEGORIES:Chor,Chorprobe,Kinder,Kinderchor,Kirchenmusik,Musik,Probe
ORGANIZER;CN="Vereinigte ev. Gemeinde Bremen-Neustadt":MAILTO:neustadt@kirche-bremen.de
END:VEVENT
BEGIN:VEVENT
DTSTART;TZID=UTC:20260623T170000
DTEND;TZID=UTC:20260623T170000
DTSTAMP:20260420T160806
CREATED:20260316T220439Z
LAST-MODIFIED:20260316T222740Z
UID:10009260-1782234000-1782234000@gemeinde-neustadt.de
SUMMARY:Starling Voices | St. Pauli
DESCRIPTION:Bei den Starling Voices singen Jugendliche\, deren Hobby meist schon lange das Singen ist. Neben Musicals werden Lieder/Songs gesungen die Lust auf mehr machen. Ob christlich motiviert oder Songs aus dem Alltag der Kids. Ob Eingängig oder anspruchsvoll –  wir stellen uns jeder Herausforderung.\nUnterstützt werden wir stimmbildnerisch von Kristina Schönbeck. Neue Kinder/Jugendliche sind immer herzlich willkommen! Nach Absprache können Kinder ab der 4. Klasse in dieser Gruppe singen. \nKommt vorbei! Ich freue freue mich auf Euch! \nEure Kantorin Nora Köhler
URL:https://gemeinde-neustadt.de/event/starling-voices-st-pauli-11-2-2/2026-06-23/
LOCATION:Gemeindezentrum St. Pauli\, Große Krankenstr. 11\, Bremen\, 28199\, Deutschland
CATEGORIES:Chor,Chorprobe,Jugendarbeit,Kinder,Kirchenmusik,Musik,Probe
ORGANIZER;CN="Vereinigte ev. Gemeinde Bremen-Neustadt":MAILTO:neustadt@kirche-bremen.de
END:VEVENT
BEGIN:VEVENT
DTSTART;TZID=UTC:20260629T193000
DTEND;TZID=UTC:20260629T211500
DTSTAMP:20260420T160806
CREATED:20260126T150944Z
LAST-MODIFIED:20260402T121228Z
UID:10009526-1782761400-1782767700@gemeinde-neustadt.de
SUMMARY:Kantorei Bremen-Neustadt | St. Pauli
DESCRIPTION:Herzlich Willkommen in der Kantorei Bremen-Neustadt!\nDie Kantorei trifft sich zu regelmäßigen Chorproben mit Kantorin Nora Köhler als Leitung. Mit unseren Stimmen gestalten wir Gottesdienste\, Gemeindeveranstaltungen sowie Konzerte.  \nNähere Informationen bei Nora Köhler: kirchenmusik.neustadt@kirche-bremen.de \n 
URL:https://gemeinde-neustadt.de/event/kantorei-bremen-neustadt-st-pauli-6-2-2-3/2026-06-29/
LOCATION:Gemeindezentrum St. Pauli\, Große Krankenstr. 11\, Bremen\, 28199\, Deutschland
CATEGORIES:Chorprobe,Ehrenamt,Eltern,Erwachsene,Kirchenmusik,Musik,Probe
ORGANIZER;CN="Vereinigte ev. Gemeinde Bremen-Neustadt":MAILTO:neustadt@kirche-bremen.de
END:VEVENT
BEGIN:VEVENT
DTSTART;TZID=Europe/Berlin:20260630T131500
DTEND;TZID=Europe/Berlin:20260630T134500
DTSTAMP:20260420T160806
CREATED:20260316T220950Z
LAST-MODIFIED:20260316T220951Z
UID:10017138-1782825300-1782827100@gemeinde-neustadt.de
SUMMARY:Singspatzen | St. Pauli
DESCRIPTION:Bei den Singspatzen haben Kindergartenkinder ab 4 Jahre die Möglichkeit\, musikalische Erfahrungen zu sammeln. Der Schwerpunkt ist das Singen; verknüpft wird es mit Elementen der musikalischen Früherziehung\, mit Tanz und Bewegung. Es geht um Rhythmus und Melodie\, um Klang und Notenbilder. Die Stimmbildungsübungen werden verpackt in kindgerechte Geschichten. \nDie Singspatzen treten bei Familiengottesdiensten auf. Die Kinder können sich zeigen – mit ihrer Stimme und ihren Talenten.
URL:https://gemeinde-neustadt.de/event/singspatzen-st-pauli-2/2026-06-30/
LOCATION:Gemeindezentrum St. Pauli\, Große Krankenstr. 11\, Bremen\, 28199\, Deutschland
CATEGORIES:Chor,Chorprobe,Kinder,Kinderchor,Kirchenmusik,KITA,Musik,Musikalische Früherziehung,Singen
ORGANIZER;CN="Vereinigte ev. Gemeinde Bremen-Neustadt":MAILTO:neustadt@kirche-bremen.de
END:VEVENT
BEGIN:VEVENT
DTSTART;TZID=Europe/Berlin:20260630T160000
DTEND;TZID=Europe/Berlin:20260630T164500
DTSTAMP:20260420T160806
CREATED:20260316T220621Z
LAST-MODIFIED:20260316T222614Z
UID:10007561-1782835200-1782837900@gemeinde-neustadt.de
SUMMARY:Kinderchor | St. Pauli
DESCRIPTION:Komm und sing mit!\nFür Kinder von 6-10 Jahren.\nIm Kinderchor singen Kinder ab der ersten Klasse. In unserer Gemeinde gibt es zwei Kinderchorgruppen\, beide Gruppen proben einmal in der Woche – die eine in St. Pauli\, die andere in Matthias-Claudius. Für Auftritte und Ausfahrten werden beide Gruppen zusammengelegt. Die Kinder üben sich in Stimmführung und Rhythmus\, in Notenlesen und Gemeinschaft. \n\n\n\nDu bist herzlich willkommen! \nEs grüßt Dich Kantorin Nora Köhler! \nkirchenmusik.neustadt@kirche-bremen.de \n0421 69665613
URL:https://gemeinde-neustadt.de/event/kinderchor-st-pauli-2-2-2-2/2026-06-30/
LOCATION:Gemeindezentrum St. Pauli\, Große Krankenstr. 11\, Bremen\, 28199\, Deutschland
CATEGORIES:Chor,Chorprobe,Kinder,Kinderchor,Kirchenmusik,Musik,Probe
ORGANIZER;CN="Vereinigte ev. Gemeinde Bremen-Neustadt":MAILTO:neustadt@kirche-bremen.de
END:VEVENT
BEGIN:VEVENT
DTSTART;TZID=UTC:20260630T170000
DTEND;TZID=UTC:20260630T170000
DTSTAMP:20260420T160806
CREATED:20260316T220439Z
LAST-MODIFIED:20260316T222740Z
UID:10009261-1782838800-1782838800@gemeinde-neustadt.de
SUMMARY:Starling Voices | St. Pauli
DESCRIPTION:Bei den Starling Voices singen Jugendliche\, deren Hobby meist schon lange das Singen ist. Neben Musicals werden Lieder/Songs gesungen die Lust auf mehr machen. Ob christlich motiviert oder Songs aus dem Alltag der Kids. Ob Eingängig oder anspruchsvoll –  wir stellen uns jeder Herausforderung.\nUnterstützt werden wir stimmbildnerisch von Kristina Schönbeck. Neue Kinder/Jugendliche sind immer herzlich willkommen! Nach Absprache können Kinder ab der 4. Klasse in dieser Gruppe singen. \nKommt vorbei! Ich freue freue mich auf Euch! \nEure Kantorin Nora Köhler
URL:https://gemeinde-neustadt.de/event/starling-voices-st-pauli-11-2-2/2026-06-30/
LOCATION:Gemeindezentrum St. Pauli\, Große Krankenstr. 11\, Bremen\, 28199\, Deutschland
CATEGORIES:Chor,Chorprobe,Jugendarbeit,Kinder,Kirchenmusik,Musik,Probe
ORGANIZER;CN="Vereinigte ev. Gemeinde Bremen-Neustadt":MAILTO:neustadt@kirche-bremen.de
END:VEVENT
END:VCALENDAR