BEGIN:VCALENDAR
VERSION:2.0
PRODID:-//Gemeinde Bremen-Neustadt - ECPv6.14.2//NONSGML v1.0//EN
CALSCALE:GREGORIAN
METHOD:PUBLISH
X-WR-CALNAME:Gemeinde Bremen-Neustadt
X-ORIGINAL-URL:https://gemeinde-neustadt.de
X-WR-CALDESC:Veranstaltungen für Gemeinde Bremen-Neustadt
REFRESH-INTERVAL;VALUE=DURATION:PT1H
X-Robots-Tag:noindex
X-PUBLISHED-TTL:PT1H
BEGIN:VTIMEZONE
TZID:Europe/Berlin
BEGIN:DAYLIGHT
TZOFFSETFROM:+0100
TZOFFSETTO:+0200
TZNAME:CEST
DTSTART:20260329T010000
END:DAYLIGHT
BEGIN:STANDARD
TZOFFSETFROM:+0200
TZOFFSETTO:+0100
TZNAME:CET
DTSTART:20261025T010000
END:STANDARD
END:VTIMEZONE
BEGIN:VEVENT
DTSTART;TZID=Europe/Berlin:20260423T154500
DTEND;TZID=Europe/Berlin:20260423T161500
DTSTAMP:20260420T074442
CREATED:20260316T221339Z
LAST-MODIFIED:20260316T222400Z
UID:10017144-1776959100-1776960900@gemeinde-neustadt.de
SUMMARY:Singspatzen | Matthias Claudius
DESCRIPTION:Bei den Singspatzen haben Kindergartenkinder ab 4 Jahre die Möglichkeit\, musikalische Erfahrungen zu sammeln. Der Schwerpunkt ist das Singen; verknüpft wird es mit Elementen der musikalischen Früherziehung\, mit Tanz und Bewegung. Es geht um Rhythmus und Melodie\, um Klang und Notenbilder. Die Stimmbildungsübungen werden verpackt in kindgerechte Geschichten. \nDie Singspatzen treten bei Familiengottesdiensten auf. Die Kinder können sich zeigen – mit ihrer Stimme und ihren Talenten.
URL:https://gemeinde-neustadt.de/event/singspatzen-matthias-claudius-2-2-2/2026-04-23/
LOCATION:Gemeindezentrum Matthias Claudius\, Wilhelm-Raabe-Str. 1\, Bremen\, 28201
CATEGORIES:Chor,Chorprobe,Kinder,Kinderchor,Kirchenmusik,KITA,Musik,Musikalische Früherziehung
ORGANIZER;CN="Vereinigte ev. Gemeinde Bremen-Neustadt":MAILTO:neustadt@kirche-bremen.de
END:VEVENT
BEGIN:VEVENT
DTSTART;TZID=Europe/Berlin:20260423T163000
DTEND;TZID=Europe/Berlin:20260423T171500
DTSTAMP:20260420T074442
CREATED:20260316T220839Z
LAST-MODIFIED:20260316T222520Z
UID:10007798-1776961800-1776964500@gemeinde-neustadt.de
SUMMARY:Kinderchor | Matthias Claudius
DESCRIPTION:Komm und sing mit!\nFür Kinder von 6-10 Jahren.\nIm Kinderchor singen Kinder ab der ersten Klasse. In unserer Gemeinde gibt es zwei Kinderchorgruppen\, beide Gruppen proben einmal in der Woche – die eine in St. Pauli\, die andere in Matthias-Claudius. Für Auftritte und Ausfahrten werden beide Gruppen zusammengelegt. Die Kinder üben sich in Stimmführung und Rhythmus\, in Notenlesen und Gemeinschaft.  \n\n\n\nDu bist herzlich willkommen! \nEs grüßt Dich Kantorin Nora Köhler! \nkirchenmusik.neustadt@kirche-bremen.de \n0421 69665613
URL:https://gemeinde-neustadt.de/event/kinderchor-matthias-claudius-2-2/2026-04-23/
LOCATION:Gemeindezentrum Matthias Claudius\, Wilhelm-Raabe-Str. 1\, Bremen\, 28201
CATEGORIES:Chor,Chorprobe,Kinder,Kinderchor,Kirchenmusik,Musik,Probe
ORGANIZER;CN="Vereinigte ev. Gemeinde Bremen-Neustadt":MAILTO:neustadt@kirche-bremen.de
END:VEVENT
BEGIN:VEVENT
DTSTART;TZID=Europe/Berlin:20260428T130000
DTEND;TZID=Europe/Berlin:20260428T143000
DTSTAMP:20260420T074442
CREATED:20260328T132418Z
LAST-MODIFIED:20260328T132419Z
UID:10011780-1777381200-1777386600@gemeinde-neustadt.de
SUMMARY:MAK am Dienstag | Matthias-Claudius | 13 h
DESCRIPTION:Herzlich willkommen zur MAK\, unser Team mit Ehrenamtlichen und Hauptamtlichen und allen die Lust oder Ideen für das Mehrgenerationenhaus Matthias-Claudius haben. Hier organisieren wir gemeinsam\, was los sein soll in diesem Haus.
URL:https://gemeinde-neustadt.de/event/mak-am-dienstag-matthias-claudius-13-h-2/2026-04-28/
LOCATION:Gemeindezentrum Matthias Claudius\, Wilhelm-Raabe-Str. 1\, Bremen\, 28201
CATEGORIES:Ehrenamt,Erwachsene,Sitzung
END:VEVENT
BEGIN:VEVENT
DTSTART;TZID=Europe/Berlin:20260430T154500
DTEND;TZID=Europe/Berlin:20260430T161500
DTSTAMP:20260420T074442
CREATED:20260316T221339Z
LAST-MODIFIED:20260316T222400Z
UID:10017145-1777563900-1777565700@gemeinde-neustadt.de
SUMMARY:Singspatzen | Matthias Claudius
DESCRIPTION:Bei den Singspatzen haben Kindergartenkinder ab 4 Jahre die Möglichkeit\, musikalische Erfahrungen zu sammeln. Der Schwerpunkt ist das Singen; verknüpft wird es mit Elementen der musikalischen Früherziehung\, mit Tanz und Bewegung. Es geht um Rhythmus und Melodie\, um Klang und Notenbilder. Die Stimmbildungsübungen werden verpackt in kindgerechte Geschichten. \nDie Singspatzen treten bei Familiengottesdiensten auf. Die Kinder können sich zeigen – mit ihrer Stimme und ihren Talenten.
URL:https://gemeinde-neustadt.de/event/singspatzen-matthias-claudius-2-2-2/2026-04-30/
LOCATION:Gemeindezentrum Matthias Claudius\, Wilhelm-Raabe-Str. 1\, Bremen\, 28201
CATEGORIES:Chor,Chorprobe,Kinder,Kinderchor,Kirchenmusik,KITA,Musik,Musikalische Früherziehung
ORGANIZER;CN="Vereinigte ev. Gemeinde Bremen-Neustadt":MAILTO:neustadt@kirche-bremen.de
END:VEVENT
BEGIN:VEVENT
DTSTART;TZID=Europe/Berlin:20260430T163000
DTEND;TZID=Europe/Berlin:20260430T171500
DTSTAMP:20260420T074442
CREATED:20260316T220839Z
LAST-MODIFIED:20260316T222520Z
UID:10007799-1777566600-1777569300@gemeinde-neustadt.de
SUMMARY:Kinderchor | Matthias Claudius
DESCRIPTION:Komm und sing mit!\nFür Kinder von 6-10 Jahren.\nIm Kinderchor singen Kinder ab der ersten Klasse. In unserer Gemeinde gibt es zwei Kinderchorgruppen\, beide Gruppen proben einmal in der Woche – die eine in St. Pauli\, die andere in Matthias-Claudius. Für Auftritte und Ausfahrten werden beide Gruppen zusammengelegt. Die Kinder üben sich in Stimmführung und Rhythmus\, in Notenlesen und Gemeinschaft.  \n\n\n\nDu bist herzlich willkommen! \nEs grüßt Dich Kantorin Nora Köhler! \nkirchenmusik.neustadt@kirche-bremen.de \n0421 69665613
URL:https://gemeinde-neustadt.de/event/kinderchor-matthias-claudius-2-2/2026-04-30/
LOCATION:Gemeindezentrum Matthias Claudius\, Wilhelm-Raabe-Str. 1\, Bremen\, 28201
CATEGORIES:Chor,Chorprobe,Kinder,Kinderchor,Kirchenmusik,Musik,Probe
ORGANIZER;CN="Vereinigte ev. Gemeinde Bremen-Neustadt":MAILTO:neustadt@kirche-bremen.de
END:VEVENT
BEGIN:VEVENT
DTSTART;TZID=Europe/Berlin:20260507T154500
DTEND;TZID=Europe/Berlin:20260507T161500
DTSTAMP:20260420T074442
CREATED:20260316T221339Z
LAST-MODIFIED:20260316T222400Z
UID:10017146-1778168700-1778170500@gemeinde-neustadt.de
SUMMARY:Singspatzen | Matthias Claudius
DESCRIPTION:Bei den Singspatzen haben Kindergartenkinder ab 4 Jahre die Möglichkeit\, musikalische Erfahrungen zu sammeln. Der Schwerpunkt ist das Singen; verknüpft wird es mit Elementen der musikalischen Früherziehung\, mit Tanz und Bewegung. Es geht um Rhythmus und Melodie\, um Klang und Notenbilder. Die Stimmbildungsübungen werden verpackt in kindgerechte Geschichten. \nDie Singspatzen treten bei Familiengottesdiensten auf. Die Kinder können sich zeigen – mit ihrer Stimme und ihren Talenten.
URL:https://gemeinde-neustadt.de/event/singspatzen-matthias-claudius-2-2-2/2026-05-07/
LOCATION:Gemeindezentrum Matthias Claudius\, Wilhelm-Raabe-Str. 1\, Bremen\, 28201
CATEGORIES:Chor,Chorprobe,Kinder,Kinderchor,Kirchenmusik,KITA,Musik,Musikalische Früherziehung
ORGANIZER;CN="Vereinigte ev. Gemeinde Bremen-Neustadt":MAILTO:neustadt@kirche-bremen.de
END:VEVENT
BEGIN:VEVENT
DTSTART;TZID=Europe/Berlin:20260507T163000
DTEND;TZID=Europe/Berlin:20260507T171500
DTSTAMP:20260420T074442
CREATED:20260316T220839Z
LAST-MODIFIED:20260316T222520Z
UID:10007800-1778171400-1778174100@gemeinde-neustadt.de
SUMMARY:Kinderchor | Matthias Claudius
DESCRIPTION:Komm und sing mit!\nFür Kinder von 6-10 Jahren.\nIm Kinderchor singen Kinder ab der ersten Klasse. In unserer Gemeinde gibt es zwei Kinderchorgruppen\, beide Gruppen proben einmal in der Woche – die eine in St. Pauli\, die andere in Matthias-Claudius. Für Auftritte und Ausfahrten werden beide Gruppen zusammengelegt. Die Kinder üben sich in Stimmführung und Rhythmus\, in Notenlesen und Gemeinschaft.  \n\n\n\nDu bist herzlich willkommen! \nEs grüßt Dich Kantorin Nora Köhler! \nkirchenmusik.neustadt@kirche-bremen.de \n0421 69665613
URL:https://gemeinde-neustadt.de/event/kinderchor-matthias-claudius-2-2/2026-05-07/
LOCATION:Gemeindezentrum Matthias Claudius\, Wilhelm-Raabe-Str. 1\, Bremen\, 28201
CATEGORIES:Chor,Chorprobe,Kinder,Kinderchor,Kirchenmusik,Musik,Probe
ORGANIZER;CN="Vereinigte ev. Gemeinde Bremen-Neustadt":MAILTO:neustadt@kirche-bremen.de
END:VEVENT
BEGIN:VEVENT
DTSTART;TZID=Europe/Berlin:20260514T154500
DTEND;TZID=Europe/Berlin:20260514T161500
DTSTAMP:20260420T074442
CREATED:20260316T221339Z
LAST-MODIFIED:20260316T222400Z
UID:10017147-1778773500-1778775300@gemeinde-neustadt.de
SUMMARY:Singspatzen | Matthias Claudius
DESCRIPTION:Bei den Singspatzen haben Kindergartenkinder ab 4 Jahre die Möglichkeit\, musikalische Erfahrungen zu sammeln. Der Schwerpunkt ist das Singen; verknüpft wird es mit Elementen der musikalischen Früherziehung\, mit Tanz und Bewegung. Es geht um Rhythmus und Melodie\, um Klang und Notenbilder. Die Stimmbildungsübungen werden verpackt in kindgerechte Geschichten. \nDie Singspatzen treten bei Familiengottesdiensten auf. Die Kinder können sich zeigen – mit ihrer Stimme und ihren Talenten.
URL:https://gemeinde-neustadt.de/event/singspatzen-matthias-claudius-2-2-2/2026-05-14/
LOCATION:Gemeindezentrum Matthias Claudius\, Wilhelm-Raabe-Str. 1\, Bremen\, 28201
CATEGORIES:Chor,Chorprobe,Kinder,Kinderchor,Kirchenmusik,KITA,Musik,Musikalische Früherziehung
ORGANIZER;CN="Vereinigte ev. Gemeinde Bremen-Neustadt":MAILTO:neustadt@kirche-bremen.de
END:VEVENT
BEGIN:VEVENT
DTSTART;TZID=Europe/Berlin:20260514T163000
DTEND;TZID=Europe/Berlin:20260514T171500
DTSTAMP:20260420T074442
CREATED:20260316T220839Z
LAST-MODIFIED:20260316T222520Z
UID:10007801-1778776200-1778778900@gemeinde-neustadt.de
SUMMARY:Kinderchor | Matthias Claudius
DESCRIPTION:Komm und sing mit!\nFür Kinder von 6-10 Jahren.\nIm Kinderchor singen Kinder ab der ersten Klasse. In unserer Gemeinde gibt es zwei Kinderchorgruppen\, beide Gruppen proben einmal in der Woche – die eine in St. Pauli\, die andere in Matthias-Claudius. Für Auftritte und Ausfahrten werden beide Gruppen zusammengelegt. Die Kinder üben sich in Stimmführung und Rhythmus\, in Notenlesen und Gemeinschaft.  \n\n\n\nDu bist herzlich willkommen! \nEs grüßt Dich Kantorin Nora Köhler! \nkirchenmusik.neustadt@kirche-bremen.de \n0421 69665613
URL:https://gemeinde-neustadt.de/event/kinderchor-matthias-claudius-2-2/2026-05-14/
LOCATION:Gemeindezentrum Matthias Claudius\, Wilhelm-Raabe-Str. 1\, Bremen\, 28201
CATEGORIES:Chor,Chorprobe,Kinder,Kinderchor,Kirchenmusik,Musik,Probe
ORGANIZER;CN="Vereinigte ev. Gemeinde Bremen-Neustadt":MAILTO:neustadt@kirche-bremen.de
END:VEVENT
BEGIN:VEVENT
DTSTART;TZID=Europe/Berlin:20260521T154500
DTEND;TZID=Europe/Berlin:20260521T161500
DTSTAMP:20260420T074442
CREATED:20260316T221339Z
LAST-MODIFIED:20260316T222400Z
UID:10017148-1779378300-1779380100@gemeinde-neustadt.de
SUMMARY:Singspatzen | Matthias Claudius
DESCRIPTION:Bei den Singspatzen haben Kindergartenkinder ab 4 Jahre die Möglichkeit\, musikalische Erfahrungen zu sammeln. Der Schwerpunkt ist das Singen; verknüpft wird es mit Elementen der musikalischen Früherziehung\, mit Tanz und Bewegung. Es geht um Rhythmus und Melodie\, um Klang und Notenbilder. Die Stimmbildungsübungen werden verpackt in kindgerechte Geschichten. \nDie Singspatzen treten bei Familiengottesdiensten auf. Die Kinder können sich zeigen – mit ihrer Stimme und ihren Talenten.
URL:https://gemeinde-neustadt.de/event/singspatzen-matthias-claudius-2-2-2/2026-05-21/
LOCATION:Gemeindezentrum Matthias Claudius\, Wilhelm-Raabe-Str. 1\, Bremen\, 28201
CATEGORIES:Chor,Chorprobe,Kinder,Kinderchor,Kirchenmusik,KITA,Musik,Musikalische Früherziehung
ORGANIZER;CN="Vereinigte ev. Gemeinde Bremen-Neustadt":MAILTO:neustadt@kirche-bremen.de
END:VEVENT
BEGIN:VEVENT
DTSTART;TZID=Europe/Berlin:20260521T163000
DTEND;TZID=Europe/Berlin:20260521T171500
DTSTAMP:20260420T074442
CREATED:20260316T220839Z
LAST-MODIFIED:20260316T222520Z
UID:10007802-1779381000-1779383700@gemeinde-neustadt.de
SUMMARY:Kinderchor | Matthias Claudius
DESCRIPTION:Komm und sing mit!\nFür Kinder von 6-10 Jahren.\nIm Kinderchor singen Kinder ab der ersten Klasse. In unserer Gemeinde gibt es zwei Kinderchorgruppen\, beide Gruppen proben einmal in der Woche – die eine in St. Pauli\, die andere in Matthias-Claudius. Für Auftritte und Ausfahrten werden beide Gruppen zusammengelegt. Die Kinder üben sich in Stimmführung und Rhythmus\, in Notenlesen und Gemeinschaft.  \n\n\n\nDu bist herzlich willkommen! \nEs grüßt Dich Kantorin Nora Köhler! \nkirchenmusik.neustadt@kirche-bremen.de \n0421 69665613
URL:https://gemeinde-neustadt.de/event/kinderchor-matthias-claudius-2-2/2026-05-21/
LOCATION:Gemeindezentrum Matthias Claudius\, Wilhelm-Raabe-Str. 1\, Bremen\, 28201
CATEGORIES:Chor,Chorprobe,Kinder,Kinderchor,Kirchenmusik,Musik,Probe
ORGANIZER;CN="Vereinigte ev. Gemeinde Bremen-Neustadt":MAILTO:neustadt@kirche-bremen.de
END:VEVENT
BEGIN:VEVENT
DTSTART;TZID=Europe/Berlin:20260526T130000
DTEND;TZID=Europe/Berlin:20260526T143000
DTSTAMP:20260420T074442
CREATED:20260328T132418Z
LAST-MODIFIED:20260328T132419Z
UID:10017159-1779800400-1779805800@gemeinde-neustadt.de
SUMMARY:MAK am Dienstag | Matthias-Claudius | 13 h
DESCRIPTION:Herzlich willkommen zur MAK\, unser Team mit Ehrenamtlichen und Hauptamtlichen und allen die Lust oder Ideen für das Mehrgenerationenhaus Matthias-Claudius haben. Hier organisieren wir gemeinsam\, was los sein soll in diesem Haus.
URL:https://gemeinde-neustadt.de/event/mak-am-dienstag-matthias-claudius-13-h-2/2026-05-26/
LOCATION:Gemeindezentrum Matthias Claudius\, Wilhelm-Raabe-Str. 1\, Bremen\, 28201
CATEGORIES:Ehrenamt,Erwachsene,Sitzung
END:VEVENT
BEGIN:VEVENT
DTSTART;TZID=Europe/Berlin:20260528T154500
DTEND;TZID=Europe/Berlin:20260528T161500
DTSTAMP:20260420T074442
CREATED:20260316T221339Z
LAST-MODIFIED:20260316T222400Z
UID:10017149-1779983100-1779984900@gemeinde-neustadt.de
SUMMARY:Singspatzen | Matthias Claudius
DESCRIPTION:Bei den Singspatzen haben Kindergartenkinder ab 4 Jahre die Möglichkeit\, musikalische Erfahrungen zu sammeln. Der Schwerpunkt ist das Singen; verknüpft wird es mit Elementen der musikalischen Früherziehung\, mit Tanz und Bewegung. Es geht um Rhythmus und Melodie\, um Klang und Notenbilder. Die Stimmbildungsübungen werden verpackt in kindgerechte Geschichten. \nDie Singspatzen treten bei Familiengottesdiensten auf. Die Kinder können sich zeigen – mit ihrer Stimme und ihren Talenten.
URL:https://gemeinde-neustadt.de/event/singspatzen-matthias-claudius-2-2-2/2026-05-28/
LOCATION:Gemeindezentrum Matthias Claudius\, Wilhelm-Raabe-Str. 1\, Bremen\, 28201
CATEGORIES:Chor,Chorprobe,Kinder,Kinderchor,Kirchenmusik,KITA,Musik,Musikalische Früherziehung
ORGANIZER;CN="Vereinigte ev. Gemeinde Bremen-Neustadt":MAILTO:neustadt@kirche-bremen.de
END:VEVENT
BEGIN:VEVENT
DTSTART;TZID=Europe/Berlin:20260528T163000
DTEND;TZID=Europe/Berlin:20260528T171500
DTSTAMP:20260420T074442
CREATED:20260316T220839Z
LAST-MODIFIED:20260316T222520Z
UID:10007803-1779985800-1779988500@gemeinde-neustadt.de
SUMMARY:Kinderchor | Matthias Claudius
DESCRIPTION:Komm und sing mit!\nFür Kinder von 6-10 Jahren.\nIm Kinderchor singen Kinder ab der ersten Klasse. In unserer Gemeinde gibt es zwei Kinderchorgruppen\, beide Gruppen proben einmal in der Woche – die eine in St. Pauli\, die andere in Matthias-Claudius. Für Auftritte und Ausfahrten werden beide Gruppen zusammengelegt. Die Kinder üben sich in Stimmführung und Rhythmus\, in Notenlesen und Gemeinschaft.  \n\n\n\nDu bist herzlich willkommen! \nEs grüßt Dich Kantorin Nora Köhler! \nkirchenmusik.neustadt@kirche-bremen.de \n0421 69665613
URL:https://gemeinde-neustadt.de/event/kinderchor-matthias-claudius-2-2/2026-05-28/
LOCATION:Gemeindezentrum Matthias Claudius\, Wilhelm-Raabe-Str. 1\, Bremen\, 28201
CATEGORIES:Chor,Chorprobe,Kinder,Kinderchor,Kirchenmusik,Musik,Probe
ORGANIZER;CN="Vereinigte ev. Gemeinde Bremen-Neustadt":MAILTO:neustadt@kirche-bremen.de
END:VEVENT
BEGIN:VEVENT
DTSTART;TZID=Europe/Berlin:20260604T154500
DTEND;TZID=Europe/Berlin:20260604T161500
DTSTAMP:20260420T074442
CREATED:20260316T221339Z
LAST-MODIFIED:20260316T222400Z
UID:10017150-1780587900-1780589700@gemeinde-neustadt.de
SUMMARY:Singspatzen | Matthias Claudius
DESCRIPTION:Bei den Singspatzen haben Kindergartenkinder ab 4 Jahre die Möglichkeit\, musikalische Erfahrungen zu sammeln. Der Schwerpunkt ist das Singen; verknüpft wird es mit Elementen der musikalischen Früherziehung\, mit Tanz und Bewegung. Es geht um Rhythmus und Melodie\, um Klang und Notenbilder. Die Stimmbildungsübungen werden verpackt in kindgerechte Geschichten. \nDie Singspatzen treten bei Familiengottesdiensten auf. Die Kinder können sich zeigen – mit ihrer Stimme und ihren Talenten.
URL:https://gemeinde-neustadt.de/event/singspatzen-matthias-claudius-2-2-2/2026-06-04/
LOCATION:Gemeindezentrum Matthias Claudius\, Wilhelm-Raabe-Str. 1\, Bremen\, 28201
CATEGORIES:Chor,Chorprobe,Kinder,Kinderchor,Kirchenmusik,KITA,Musik,Musikalische Früherziehung
ORGANIZER;CN="Vereinigte ev. Gemeinde Bremen-Neustadt":MAILTO:neustadt@kirche-bremen.de
END:VEVENT
BEGIN:VEVENT
DTSTART;TZID=Europe/Berlin:20260604T163000
DTEND;TZID=Europe/Berlin:20260604T171500
DTSTAMP:20260420T074442
CREATED:20260316T220839Z
LAST-MODIFIED:20260316T222520Z
UID:10007804-1780590600-1780593300@gemeinde-neustadt.de
SUMMARY:Kinderchor | Matthias Claudius
DESCRIPTION:Komm und sing mit!\nFür Kinder von 6-10 Jahren.\nIm Kinderchor singen Kinder ab der ersten Klasse. In unserer Gemeinde gibt es zwei Kinderchorgruppen\, beide Gruppen proben einmal in der Woche – die eine in St. Pauli\, die andere in Matthias-Claudius. Für Auftritte und Ausfahrten werden beide Gruppen zusammengelegt. Die Kinder üben sich in Stimmführung und Rhythmus\, in Notenlesen und Gemeinschaft.  \n\n\n\nDu bist herzlich willkommen! \nEs grüßt Dich Kantorin Nora Köhler! \nkirchenmusik.neustadt@kirche-bremen.de \n0421 69665613
URL:https://gemeinde-neustadt.de/event/kinderchor-matthias-claudius-2-2/2026-06-04/
LOCATION:Gemeindezentrum Matthias Claudius\, Wilhelm-Raabe-Str. 1\, Bremen\, 28201
CATEGORIES:Chor,Chorprobe,Kinder,Kinderchor,Kirchenmusik,Musik,Probe
ORGANIZER;CN="Vereinigte ev. Gemeinde Bremen-Neustadt":MAILTO:neustadt@kirche-bremen.de
END:VEVENT
BEGIN:VEVENT
DTSTART;TZID=Europe/Berlin:20260611T154500
DTEND;TZID=Europe/Berlin:20260611T161500
DTSTAMP:20260420T074442
CREATED:20260316T221339Z
LAST-MODIFIED:20260316T222400Z
UID:10017151-1781192700-1781194500@gemeinde-neustadt.de
SUMMARY:Singspatzen | Matthias Claudius
DESCRIPTION:Bei den Singspatzen haben Kindergartenkinder ab 4 Jahre die Möglichkeit\, musikalische Erfahrungen zu sammeln. Der Schwerpunkt ist das Singen; verknüpft wird es mit Elementen der musikalischen Früherziehung\, mit Tanz und Bewegung. Es geht um Rhythmus und Melodie\, um Klang und Notenbilder. Die Stimmbildungsübungen werden verpackt in kindgerechte Geschichten. \nDie Singspatzen treten bei Familiengottesdiensten auf. Die Kinder können sich zeigen – mit ihrer Stimme und ihren Talenten.
URL:https://gemeinde-neustadt.de/event/singspatzen-matthias-claudius-2-2-2/2026-06-11/
LOCATION:Gemeindezentrum Matthias Claudius\, Wilhelm-Raabe-Str. 1\, Bremen\, 28201
CATEGORIES:Chor,Chorprobe,Kinder,Kinderchor,Kirchenmusik,KITA,Musik,Musikalische Früherziehung
ORGANIZER;CN="Vereinigte ev. Gemeinde Bremen-Neustadt":MAILTO:neustadt@kirche-bremen.de
END:VEVENT
BEGIN:VEVENT
DTSTART;TZID=Europe/Berlin:20260611T163000
DTEND;TZID=Europe/Berlin:20260611T171500
DTSTAMP:20260420T074442
CREATED:20260316T220839Z
LAST-MODIFIED:20260316T222520Z
UID:10007805-1781195400-1781198100@gemeinde-neustadt.de
SUMMARY:Kinderchor | Matthias Claudius
DESCRIPTION:Komm und sing mit!\nFür Kinder von 6-10 Jahren.\nIm Kinderchor singen Kinder ab der ersten Klasse. In unserer Gemeinde gibt es zwei Kinderchorgruppen\, beide Gruppen proben einmal in der Woche – die eine in St. Pauli\, die andere in Matthias-Claudius. Für Auftritte und Ausfahrten werden beide Gruppen zusammengelegt. Die Kinder üben sich in Stimmführung und Rhythmus\, in Notenlesen und Gemeinschaft.  \n\n\n\nDu bist herzlich willkommen! \nEs grüßt Dich Kantorin Nora Köhler! \nkirchenmusik.neustadt@kirche-bremen.de \n0421 69665613
URL:https://gemeinde-neustadt.de/event/kinderchor-matthias-claudius-2-2/2026-06-11/
LOCATION:Gemeindezentrum Matthias Claudius\, Wilhelm-Raabe-Str. 1\, Bremen\, 28201
CATEGORIES:Chor,Chorprobe,Kinder,Kinderchor,Kirchenmusik,Musik,Probe
ORGANIZER;CN="Vereinigte ev. Gemeinde Bremen-Neustadt":MAILTO:neustadt@kirche-bremen.de
END:VEVENT
BEGIN:VEVENT
DTSTART;TZID=Europe/Berlin:20260618T154500
DTEND;TZID=Europe/Berlin:20260618T161500
DTSTAMP:20260420T074442
CREATED:20260316T221339Z
LAST-MODIFIED:20260316T222400Z
UID:10017152-1781797500-1781799300@gemeinde-neustadt.de
SUMMARY:Singspatzen | Matthias Claudius
DESCRIPTION:Bei den Singspatzen haben Kindergartenkinder ab 4 Jahre die Möglichkeit\, musikalische Erfahrungen zu sammeln. Der Schwerpunkt ist das Singen; verknüpft wird es mit Elementen der musikalischen Früherziehung\, mit Tanz und Bewegung. Es geht um Rhythmus und Melodie\, um Klang und Notenbilder. Die Stimmbildungsübungen werden verpackt in kindgerechte Geschichten. \nDie Singspatzen treten bei Familiengottesdiensten auf. Die Kinder können sich zeigen – mit ihrer Stimme und ihren Talenten.
URL:https://gemeinde-neustadt.de/event/singspatzen-matthias-claudius-2-2-2/2026-06-18/
LOCATION:Gemeindezentrum Matthias Claudius\, Wilhelm-Raabe-Str. 1\, Bremen\, 28201
CATEGORIES:Chor,Chorprobe,Kinder,Kinderchor,Kirchenmusik,KITA,Musik,Musikalische Früherziehung
ORGANIZER;CN="Vereinigte ev. Gemeinde Bremen-Neustadt":MAILTO:neustadt@kirche-bremen.de
END:VEVENT
BEGIN:VEVENT
DTSTART;TZID=Europe/Berlin:20260618T163000
DTEND;TZID=Europe/Berlin:20260618T171500
DTSTAMP:20260420T074442
CREATED:20260316T220839Z
LAST-MODIFIED:20260316T222520Z
UID:10007806-1781800200-1781802900@gemeinde-neustadt.de
SUMMARY:Kinderchor | Matthias Claudius
DESCRIPTION:Komm und sing mit!\nFür Kinder von 6-10 Jahren.\nIm Kinderchor singen Kinder ab der ersten Klasse. In unserer Gemeinde gibt es zwei Kinderchorgruppen\, beide Gruppen proben einmal in der Woche – die eine in St. Pauli\, die andere in Matthias-Claudius. Für Auftritte und Ausfahrten werden beide Gruppen zusammengelegt. Die Kinder üben sich in Stimmführung und Rhythmus\, in Notenlesen und Gemeinschaft.  \n\n\n\nDu bist herzlich willkommen! \nEs grüßt Dich Kantorin Nora Köhler! \nkirchenmusik.neustadt@kirche-bremen.de \n0421 69665613
URL:https://gemeinde-neustadt.de/event/kinderchor-matthias-claudius-2-2/2026-06-18/
LOCATION:Gemeindezentrum Matthias Claudius\, Wilhelm-Raabe-Str. 1\, Bremen\, 28201
CATEGORIES:Chor,Chorprobe,Kinder,Kinderchor,Kirchenmusik,Musik,Probe
ORGANIZER;CN="Vereinigte ev. Gemeinde Bremen-Neustadt":MAILTO:neustadt@kirche-bremen.de
END:VEVENT
BEGIN:VEVENT
DTSTART;TZID=Europe/Berlin:20260623T130000
DTEND;TZID=Europe/Berlin:20260623T143000
DTSTAMP:20260420T074442
CREATED:20260328T132418Z
LAST-MODIFIED:20260328T132419Z
UID:10017160-1782219600-1782225000@gemeinde-neustadt.de
SUMMARY:MAK am Dienstag | Matthias-Claudius | 13 h
DESCRIPTION:Herzlich willkommen zur MAK\, unser Team mit Ehrenamtlichen und Hauptamtlichen und allen die Lust oder Ideen für das Mehrgenerationenhaus Matthias-Claudius haben. Hier organisieren wir gemeinsam\, was los sein soll in diesem Haus.
URL:https://gemeinde-neustadt.de/event/mak-am-dienstag-matthias-claudius-13-h-2/2026-06-23/
LOCATION:Gemeindezentrum Matthias Claudius\, Wilhelm-Raabe-Str. 1\, Bremen\, 28201
CATEGORIES:Ehrenamt,Erwachsene,Sitzung
END:VEVENT
BEGIN:VEVENT
DTSTART;TZID=Europe/Berlin:20260625T154500
DTEND;TZID=Europe/Berlin:20260625T161500
DTSTAMP:20260420T074442
CREATED:20260316T221339Z
LAST-MODIFIED:20260316T222400Z
UID:10017153-1782402300-1782404100@gemeinde-neustadt.de
SUMMARY:Singspatzen | Matthias Claudius
DESCRIPTION:Bei den Singspatzen haben Kindergartenkinder ab 4 Jahre die Möglichkeit\, musikalische Erfahrungen zu sammeln. Der Schwerpunkt ist das Singen; verknüpft wird es mit Elementen der musikalischen Früherziehung\, mit Tanz und Bewegung. Es geht um Rhythmus und Melodie\, um Klang und Notenbilder. Die Stimmbildungsübungen werden verpackt in kindgerechte Geschichten. \nDie Singspatzen treten bei Familiengottesdiensten auf. Die Kinder können sich zeigen – mit ihrer Stimme und ihren Talenten.
URL:https://gemeinde-neustadt.de/event/singspatzen-matthias-claudius-2-2-2/2026-06-25/
LOCATION:Gemeindezentrum Matthias Claudius\, Wilhelm-Raabe-Str. 1\, Bremen\, 28201
CATEGORIES:Chor,Chorprobe,Kinder,Kinderchor,Kirchenmusik,KITA,Musik,Musikalische Früherziehung
ORGANIZER;CN="Vereinigte ev. Gemeinde Bremen-Neustadt":MAILTO:neustadt@kirche-bremen.de
END:VEVENT
BEGIN:VEVENT
DTSTART;TZID=Europe/Berlin:20260625T163000
DTEND;TZID=Europe/Berlin:20260625T171500
DTSTAMP:20260420T074442
CREATED:20260316T220839Z
LAST-MODIFIED:20260316T222520Z
UID:10007807-1782405000-1782407700@gemeinde-neustadt.de
SUMMARY:Kinderchor | Matthias Claudius
DESCRIPTION:Komm und sing mit!\nFür Kinder von 6-10 Jahren.\nIm Kinderchor singen Kinder ab der ersten Klasse. In unserer Gemeinde gibt es zwei Kinderchorgruppen\, beide Gruppen proben einmal in der Woche – die eine in St. Pauli\, die andere in Matthias-Claudius. Für Auftritte und Ausfahrten werden beide Gruppen zusammengelegt. Die Kinder üben sich in Stimmführung und Rhythmus\, in Notenlesen und Gemeinschaft.  \n\n\n\nDu bist herzlich willkommen! \nEs grüßt Dich Kantorin Nora Köhler! \nkirchenmusik.neustadt@kirche-bremen.de \n0421 69665613
URL:https://gemeinde-neustadt.de/event/kinderchor-matthias-claudius-2-2/2026-06-25/
LOCATION:Gemeindezentrum Matthias Claudius\, Wilhelm-Raabe-Str. 1\, Bremen\, 28201
CATEGORIES:Chor,Chorprobe,Kinder,Kinderchor,Kirchenmusik,Musik,Probe
ORGANIZER;CN="Vereinigte ev. Gemeinde Bremen-Neustadt":MAILTO:neustadt@kirche-bremen.de
END:VEVENT
END:VCALENDAR