BEGIN:VCALENDAR
VERSION:2.0
PRODID:-//Gemeinde Bremen-Neustadt - ECPv6.14.2//NONSGML v1.0//EN
CALSCALE:GREGORIAN
METHOD:PUBLISH
X-WR-CALNAME:Gemeinde Bremen-Neustadt
X-ORIGINAL-URL:https://gemeinde-neustadt.de
X-WR-CALDESC:Veranstaltungen für Gemeinde Bremen-Neustadt
REFRESH-INTERVAL;VALUE=DURATION:PT1H
X-Robots-Tag:noindex
X-PUBLISHED-TTL:PT1H
BEGIN:VTIMEZONE
TZID:Europe/Berlin
BEGIN:DAYLIGHT
TZOFFSETFROM:+0100
TZOFFSETTO:+0200
TZNAME:CEST
DTSTART:20260329T010000
END:DAYLIGHT
BEGIN:STANDARD
TZOFFSETFROM:+0200
TZOFFSETTO:+0100
TZNAME:CET
DTSTART:20261025T010000
END:STANDARD
END:VTIMEZONE
BEGIN:VEVENT
DTSTART;TZID=Europe/Berlin:20260513T170000
DTEND;TZID=Europe/Berlin:20260513T183000
DTSTAMP:20260422T154513
CREATED:20260328T132025Z
LAST-MODIFIED:20260328T132154Z
UID:10017157-1778691600-1778697000@gemeinde-neustadt.de
SUMMARY:MAK am Mittwoch | Matthias-Claudius
DESCRIPTION:Die Ideenschmiede für das Mehrgenerationenhaus Matthias-Claudius! MAK bedeutet MitArbeitendenKonferenz und meint alle Haupt- und Ehrenamtlichen – und Leute\, die einfach Lust haben\, ein Projekt zu verwirklichen. Herzlich willkommen! LG Birgit
URL:https://gemeinde-neustadt.de/event/mak-matthias-claudius-3-2-2-2/2026-05-13/
LOCATION:Mehrgeneraionenhaus Matthias-Claudius\, Wilhem-Raabe Strasse 1\, Bremen
CATEGORIES:Erwachsene
END:VEVENT
BEGIN:VEVENT
DTSTART;TZID=Europe/Berlin:20260610T170000
DTEND;TZID=Europe/Berlin:20260610T183000
DTSTAMP:20260422T154513
CREATED:20260328T132025Z
LAST-MODIFIED:20260328T132154Z
UID:10017158-1781110800-1781116200@gemeinde-neustadt.de
SUMMARY:MAK am Mittwoch | Matthias-Claudius
DESCRIPTION:Die Ideenschmiede für das Mehrgenerationenhaus Matthias-Claudius! MAK bedeutet MitArbeitendenKonferenz und meint alle Haupt- und Ehrenamtlichen – und Leute\, die einfach Lust haben\, ein Projekt zu verwirklichen. Herzlich willkommen! LG Birgit
URL:https://gemeinde-neustadt.de/event/mak-matthias-claudius-3-2-2-2/2026-06-10/
LOCATION:Mehrgeneraionenhaus Matthias-Claudius\, Wilhem-Raabe Strasse 1\, Bremen
CATEGORIES:Erwachsene
END:VEVENT
END:VCALENDAR