BEGIN:VCALENDAR
VERSION:2.0
PRODID:-//Gemeinde Bremen-Neustadt - ECPv6.14.2//NONSGML v1.0//EN
CALSCALE:GREGORIAN
METHOD:PUBLISH
X-ORIGINAL-URL:https://gemeinde-neustadt.de
X-WR-CALDESC:Veranstaltungen für Gemeinde Bremen-Neustadt
REFRESH-INTERVAL;VALUE=DURATION:PT1H
X-Robots-Tag:noindex
X-PUBLISHED-TTL:PT1H
BEGIN:VTIMEZONE
TZID:Europe/Berlin
BEGIN:DAYLIGHT
TZOFFSETFROM:+0100
TZOFFSETTO:+0200
TZNAME:CEST
DTSTART:20260329T010000
END:DAYLIGHT
BEGIN:STANDARD
TZOFFSETFROM:+0200
TZOFFSETTO:+0100
TZNAME:CET
DTSTART:20261025T010000
END:STANDARD
END:VTIMEZONE
BEGIN:VTIMEZONE
TZID:UTC
BEGIN:STANDARD
TZOFFSETFROM:+0000
TZOFFSETTO:+0000
TZNAME:UTC
DTSTART:20260101T000000
END:STANDARD
END:VTIMEZONE
BEGIN:VEVENT
DTSTART;TZID=Europe/Berlin:20260420T140000
DTEND;TZID=Europe/Berlin:20260420T170000
DTSTAMP:20260420T061517
CREATED:20250728T185321Z
LAST-MODIFIED:20260402T120721Z
UID:10016344-1776693600-1776704400@gemeinde-neustadt.de
SUMMARY:Räuber-Rommé mit Lydia | Zion
DESCRIPTION:Immer montags laden wir ab 14:00 Uhr in das Gemeindezentrum Zion zum Spielen von Gesellschafts-Spielen ein. Wir fangen an mit Rommé oder Canasta\, Mensch-ärgere-dich-nicht oder andere Spiele sind aber auch möglich. Jede und jeder ist willkommen. Die Treffen finden im Kaminraum statt. Haben Sie Fragen\, rufen Sie gerne bei Pastor Lieberum an: 0421-59769521.
URL:https://gemeinde-neustadt.de/event/lesung-von-astrid-goltz-zion-2-2/2026-04-20/
LOCATION:Gemeindezentrum Zion\, Kornstraße 31\, Bremen\, Bremen\, 28201\, Deutschland
CATEGORIES:Erwachsene,Lesung,Musik,Vortrag
ORGANIZER;CN="Vereinigte ev. Gemeinde Bremen-Neustadt":MAILTO:neustadt@kirche-bremen.de
END:VEVENT
BEGIN:VEVENT
DTSTART;TZID=Europe/Berlin:20260420T193000
DTEND;TZID=Europe/Berlin:20260420T220000
DTSTAMP:20260420T061517
CREATED:20250729T130725Z
LAST-MODIFIED:20260402T120650Z
UID:10016292-1776713400-1776722400@gemeinde-neustadt.de
SUMMARY:"Theater der Ziongemeinde" | Zion
DESCRIPTION:Jeden Montag probt das „Theater der Zionsgemeinde“ im Theatersaal in Zion. Alle zwei Jahre gibt es eine Aufführung mit eigenen Stücken. Das Zion-Theater ist eine unserer ältesten Gemeindegruppen und wurde Ende der 50er Jahre vom damaligen Pastor Gerlach gegründet. Haben Sie Interesse an der Arbeit\, melden Sie sich bitte bei Robert Schlemmer: 0421-531860.
URL:https://gemeinde-neustadt.de/event/probe-zion-theater-zion-2-2/2026-04-20/
LOCATION:Gemeindezentrum Zion\, Kornstraße 31\, Bremen\, Bremen\, 28201\, Deutschland
CATEGORIES:Ehrenamt,Erwachsene,Kunst,Probe,Theater
ORGANIZER;CN="Vereinigte ev. Gemeinde Bremen-Neustadt":MAILTO:neustadt@kirche-bremen.de
END:VEVENT
BEGIN:VEVENT
DTSTART;TZID=UTC:20260421T150000
DTEND;TZID=UTC:20260421T160000
DTSTAMP:20260420T061517
CREATED:20251227T120029Z
LAST-MODIFIED:20260313T205239Z
UID:10015948-1776783600-1776787200@gemeinde-neustadt.de
SUMMARY:Yoga im Sitzen | Zion
DESCRIPTION:Jeden Dienstag bieten wir in Zion Yoga im Sitzen an\, von 15:00-16:00 Uhr im Theatersaal. Kommen Sie gerne dazu!
URL:https://gemeinde-neustadt.de/event/yoga-im-sitzen-zion-2-2-2-2-2/2026-04-21/
LOCATION:Gemeindezentrum Zion\, Kornstraße 31\, Bremen\, Bremen\, 28201\, Deutschland
CATEGORIES:Senior*innen,Sport
ORGANIZER;CN="Vereinigte ev. Gemeinde Bremen-Neustadt":MAILTO:neustadt@kirche-bremen.de
END:VEVENT
BEGIN:VEVENT
DTSTART;TZID=Europe/Berlin:20260421T150000
DTEND;TZID=Europe/Berlin:20260421T180000
DTSTAMP:20260420T061517
CREATED:20251227T160733Z
LAST-MODIFIED:20251227T160819Z
UID:10016165-1776783600-1776794400@gemeinde-neustadt.de
SUMMARY:Umtausch Bezahlkarte | Zion
DESCRIPTION:Unter dem Slogan „Nein zur Schikanekarte“ gibt es jeden Dienstag von 15-18 Uhr die Möglichkeit\, Geflüchteten für ihre Bezahlkarten-Gutscheine Geld zu geben. Die Ausgabe erfolgt im ehemaligen Bandraum\, der Eingang ist von der Kantstraße.
URL:https://gemeinde-neustadt.de/event/letzte-generation-zion-2-2/2026-04-21/
LOCATION:Gemeindezentrum Zion\, Kornstraße 31\, Bremen\, Bremen\, 28201\, Deutschland
CATEGORIES:Ehrenamt,Sitzung
ORGANIZER;CN="Vereinigte ev. Gemeinde Bremen-Neustadt":MAILTO:neustadt@kirche-bremen.de
END:VEVENT
BEGIN:VEVENT
DTSTART;TZID=Europe/Berlin:20260421T173000
DTEND;TZID=Europe/Berlin:20260421T203000
DTSTAMP:20260420T061517
CREATED:20251227T120146Z
LAST-MODIFIED:20260319T194603Z
UID:10015972-1776792600-1776803400@gemeinde-neustadt.de
SUMMARY:Offene Jugendarbeit | Zion
DESCRIPTION:Jeden Dienstag (außer in den Ferien) lädt die „Rote Zitadelle“ Jugendliche aus dem Stadtteil ein. Geöffnet ist ab 17:30 Uhr\, jede und jeder ist willkommen!
URL:https://gemeinde-neustadt.de/event/offene-jugendarbeit-zion-2-2-2/2026-04-21/
LOCATION:Gemeindezentrum Zion\, Kornstraße 31\, Bremen\, Bremen\, 28201\, Deutschland
CATEGORIES:Essen und Trinken,interkulturell,Jugendarbeit,Kreativ,Party
ORGANIZER;CN="Vereinigte ev. Gemeinde Bremen-Neustadt":MAILTO:neustadt@kirche-bremen.de
END:VEVENT
BEGIN:VEVENT
DTSTART;TZID=UTC:20260421T193000
DTEND;TZID=UTC:20260421T220000
DTSTAMP:20260420T061517
CREATED:20251227T120723Z
LAST-MODIFIED:20251227T120757Z
UID:10016021-1776799800-1776808800@gemeinde-neustadt.de
SUMMARY:Sangklubb | Zion
DESCRIPTION:Jeden Dienstag probt ab 20:00 Uhr der Chor Sangklubb unter der Leitung von Ole Schmitt im Theatersaal in Zion. Interessierte können gerne vorbeischauen.
URL:https://gemeinde-neustadt.de/event/chorprobe-sangklubb-zion-2-2-2-2/2026-04-21/
LOCATION:Gemeindezentrum Zion\, Kornstraße 31\, Bremen\, Bremen\, 28201\, Deutschland
CATEGORIES:Chorprobe
ORGANIZER;CN="Vereinigte ev. Gemeinde Bremen-Neustadt":MAILTO:neustadt@kirche-bremen.de
END:VEVENT
BEGIN:VEVENT
DTSTART;TZID=Europe/Berlin:20260422T150000
DTEND;TZID=Europe/Berlin:20260422T163000
DTSTAMP:20260420T061517
CREATED:20240810T164729Z
LAST-MODIFIED:20260311T162626Z
UID:10011515-1776870000-1776875400@gemeinde-neustadt.de
SUMMARY:Schnack um drei | Zion
DESCRIPTION:Von 15:00-16:30 Uhr sind alle Älteren aus dem Stadtteil nach Zion eingeladen. Bei Kaffee und Kuchen kommen wir miteinander ins Gespräch\, klönen und singen miteinander. Pastor Thomas Lieberum ist bei dem Treffen dabei.
URL:https://gemeinde-neustadt.de/event/schnack-um-drei-zion-2/
LOCATION:Gemeindezentrum Zion\, Kornstraße 31\, Bremen\, Bremen\, 28201\, Deutschland
CATEGORIES:Essen und Trinken,Senior*innen
ORGANIZER;CN="Vereinigte ev. Gemeinde Bremen-Neustadt":MAILTO:neustadt@kirche-bremen.de
END:VEVENT
BEGIN:VEVENT
DTSTART;TZID=UTC:20260422T153000
DTEND;TZID=UTC:20260422T190000
DTSTAMP:20260420T061517
CREATED:20251219T070556Z
LAST-MODIFIED:20260319T194735Z
UID:10015797-1776871800-1776884400@gemeinde-neustadt.de
SUMMARY:Ballett für Kinder | Zion
DESCRIPTION:Unseren Theatersaal in Zion stellen wir regelmäßig für Ballett-Unterricht zur Verfügung. Unter Leitung der Tanzpädagogin Julia Schneider proben Kinder und Jugendliche und führen immer wieder Stücke auf. Haben Sie Interesse? Dann wenden Sie sich bitte direkt an Julia Schneider: 0421-67322027. Informationen gibt auch Pastor Thomas Lieberum: 0421-59769521.
URL:https://gemeinde-neustadt.de/event/ballett-fuer-kinder-zion-2-2-2-2-2/2026-04-22/
LOCATION:Gemeindezentrum Zion\, Kornstraße 31\, Bremen\, Bremen\, 28201\, Deutschland
CATEGORIES:Jugendarbeit,Kinder,Sport,Tanz
ORGANIZER;CN="Vereinigte ev. Gemeinde Bremen-Neustadt":MAILTO:neustadt@kirche-bremen.de
END:VEVENT
BEGIN:VEVENT
DTSTART;TZID=UTC:20260422T160000
DTEND;TZID=UTC:20260422T190000
DTSTAMP:20260420T061517
CREATED:20251227T120901Z
LAST-MODIFIED:20251227T120951Z
UID:10016061-1776873600-1776884400@gemeinde-neustadt.de
SUMMARY:Fahrräder für Geflüchtete | Zion
DESCRIPTION:Jeden Mittwoch und Donnerstag ist die Fahrrad-Werkstatt im Keller von Zion geöffnet. Interessierte Flüchtlinge (bzw. Unterstützer*innen) können zwischen 15:00-18:00 Uhr vorbeikommen und sich nach Fahrrädern oder Reparaturen erkundigen.
URL:https://gemeinde-neustadt.de/event/info-veranstaltung-super-coop-zion-2-2-3-2-2/2026-04-22/
LOCATION:Gemeindezentrum Zion\, Kornstraße 31\, Bremen\, Bremen\, 28201\, Deutschland
CATEGORIES:Ehrenamt,Selbsthilfe
ORGANIZER;CN="Vereinigte ev. Gemeinde Bremen-Neustadt":MAILTO:neustadt@kirche-bremen.de
END:VEVENT
BEGIN:VEVENT
DTSTART;TZID=UTC:20260422T173000
DTEND;TZID=UTC:20260422T203000
DTSTAMP:20260420T061517
CREATED:20251227T115837Z
LAST-MODIFIED:20260319T194458Z
UID:10015925-1776879000-1776889800@gemeinde-neustadt.de
SUMMARY:Rollenspielgruppe | Zion
DESCRIPTION:Jeden Mittwoch trifft sich in der Roten Zitadelle (im Jugendheim) die Rollenspielgruppe. Sie wird geleitet von Tim Bonßdorf. Mitmachen können Jugendliche ab 14 Jahren. Information oder Anmeldung: 0179-9601727.
URL:https://gemeinde-neustadt.de/event/rollenspielgruppe-zion-2-2-2-2/2026-04-22/
LOCATION:Gemeindezentrum Zion\, Kornstraße 31\, Bremen\, Bremen\, 28201\, Deutschland
CATEGORIES:Jugendarbeit,Spiele
ORGANIZER;CN="Vereinigte ev. Gemeinde Bremen-Neustadt":MAILTO:neustadt@kirche-bremen.de
END:VEVENT
BEGIN:VEVENT
DTSTART;TZID=UTC:20260422T190000
DTEND;TZID=UTC:20260422T210000
DTSTAMP:20260420T061517
CREATED:20251227T155721Z
LAST-MODIFIED:20251227T155831Z
UID:10016090-1776884400-1776891600@gemeinde-neustadt.de
SUMMARY:Guttempler-Treffen | Zion
DESCRIPTION:Alle 14 Tage treffen sich die Guttempler im Kaminraum in Zion. Haben Sie Interesse an dieser Gruppe\, die sich mit dem Thema Sucht auseinandersetzt\, melden Sie sich gerne bei der Leiterin der Gruppe Marieanne Häuschen: 0421-385217
URL:https://gemeinde-neustadt.de/event/adventsmarkt-st-pauli-2-2-2-2/2026-04-22/
LOCATION:Gemeindezentrum Zion\, Kornstraße 31\, Bremen\, Bremen\, 28201\, Deutschland
CATEGORIES:Selbsthilfe,Sitzung
ORGANIZER;CN="Vereinigte ev. Gemeinde Bremen-Neustadt":MAILTO:neustadt@kirche-bremen.de
END:VEVENT
BEGIN:VEVENT
DTSTART;TZID=UTC:20260422T193000
DTEND;TZID=UTC:20260422T220000
DTSTAMP:20260420T061517
CREATED:20251227T160519Z
LAST-MODIFIED:20251227T160601Z
UID:10016136-1776886200-1776895200@gemeinde-neustadt.de
SUMMARY:Tanzclub Bremer Süden | Zion
DESCRIPTION:Jeden Mittwoch treffen sich Tänzerinnen und Tänzer in Zion. Jede und jeder ist willkommen! Bitte schauen Sie auf die Homepage von tcbs und nehmen Sie Kontakt mit den Verantwortlichen auf.
URL:https://gemeinde-neustadt.de/event/tanzclub-bremer-sueden-zion-2-2-2-2/2026-04-22/
LOCATION:Gemeindezentrum Zion\, Kornstraße 31\, Bremen\, Bremen\, 28201\, Deutschland
CATEGORIES:Erwachsene,Musik,Probe,Tanz
ORGANIZER;CN="Vereinigte ev. Gemeinde Bremen-Neustadt":MAILTO:neustadt@kirche-bremen.de
END:VEVENT
BEGIN:VEVENT
DTSTART;TZID=Europe/Berlin:20260423T100000
DTEND;TZID=Europe/Berlin:20260423T120000
DTSTAMP:20260420T061517
CREATED:20260204T094534Z
LAST-MODIFIED:20260403T160526Z
UID:10016111-1776938400-1776945600@gemeinde-neustadt.de
SUMMARY:Hauskonferenz | Zion
DESCRIPTION:Jeden zweiten Donnerstag treffen sich Mitarbeitende und Ehrenamtliche und besprechen alle Themen\, die mit dem Gemeindezentrum Zion zu tun haben. Interessierte und Gäste sind herzlich willkommen und können bei allen Fragen mitdiskutieren! Wir treffen uns von 10:00-12:00 Uhr im Garten oder im Raum Solidarität. \nWeitere Informationen bei Pastor Thomas Lieberum (0421-59769521) oder thomas.lieberum@kirche-bremen.de
URL:https://gemeinde-neustadt.de/event/hauskonferenz-zion-2-3-2-2-2-2/2026-04-23/
LOCATION:Gemeindezentrum Zion\, Kornstraße 31\, Bremen\, Bremen\, 28201\, Deutschland
CATEGORIES:Ehrenamt,Erwachsene
ORGANIZER;CN="Vereinigte ev. Gemeinde Bremen-Neustadt":MAILTO:neustadt@kirche-bremen.de
END:VEVENT
BEGIN:VEVENT
DTSTART;TZID=UTC:20260423T160000
DTEND;TZID=UTC:20260423T190000
DTSTAMP:20260420T061517
CREATED:20251227T120901Z
LAST-MODIFIED:20251227T120951Z
UID:10016062-1776960000-1776970800@gemeinde-neustadt.de
SUMMARY:Fahrräder für Geflüchtete | Zion
DESCRIPTION:Jeden Mittwoch und Donnerstag ist die Fahrrad-Werkstatt im Keller von Zion geöffnet. Interessierte Flüchtlinge (bzw. Unterstützer*innen) können zwischen 15:00-18:00 Uhr vorbeikommen und sich nach Fahrrädern oder Reparaturen erkundigen.
URL:https://gemeinde-neustadt.de/event/info-veranstaltung-super-coop-zion-2-2-3-2-2/2026-04-23/
LOCATION:Gemeindezentrum Zion\, Kornstraße 31\, Bremen\, Bremen\, 28201\, Deutschland
CATEGORIES:Ehrenamt,Selbsthilfe
ORGANIZER;CN="Vereinigte ev. Gemeinde Bremen-Neustadt":MAILTO:neustadt@kirche-bremen.de
END:VEVENT
BEGIN:VEVENT
DTSTART;TZID=UTC:20260423T183000
DTEND;TZID=UTC:20260423T220000
DTSTAMP:20260420T061517
CREATED:20251227T120524Z
LAST-MODIFIED:20260331T152646Z
UID:10015997-1776969000-1776981600@gemeinde-neustadt.de
SUMMARY:Tanzen macht Spaß | Zion
DESCRIPTION:Jeden Donnerstag treffen sich abends im Theatersaal in Zion Paare zum Tanzen. Susanne Seufert als Tanzlehrerin führt durch die Veranstaltung. Haben Sie Interesse\, melden Sie sich bei ihr: 0421-71857. Tanzen macht Spaß!
URL:https://gemeinde-neustadt.de/event/tanzen-macht-spass-zion-2-2-2-2/2026-04-23/
LOCATION:Gemeindezentrum Zion\, Kornstraße 31\, Bremen\, Bremen\, 28201\, Deutschland
CATEGORIES:Erwachsene,Musik,Tanz
ORGANIZER;CN="Vereinigte ev. Gemeinde Bremen-Neustadt":MAILTO:neustadt@kirche-bremen.de
END:VEVENT
BEGIN:VEVENT
DTSTART;TZID=UTC:20260423T190000
DTEND;TZID=UTC:20260423T210000
DTSTAMP:20260420T061517
CREATED:20250729T130421Z
LAST-MODIFIED:20251229T140726Z
UID:10016229-1776970800-1776978000@gemeinde-neustadt.de
SUMMARY:Suchtkrankenhilfe | Zion
DESCRIPTION:Jeden Donnerstag treffen sich Menschen im Rahmen der Neustädter Suchtkrankenhilfe im Gemeindezentrum Zion (im Kaminraum). Interessierte sind herzlich eingeladen vorbeizukommen.
URL:https://gemeinde-neustadt.de/event/suchtkrankenhilfe-zion-2-2/2026-04-23/
LOCATION:Gemeindezentrum Zion\, Kornstraße 31\, Bremen\, Bremen\, 28201\, Deutschland
CATEGORIES:Erwachsene,Sitzung
ORGANIZER;CN="Vereinigte ev. Gemeinde Bremen-Neustadt":MAILTO:neustadt@kirche-bremen.de
END:VEVENT
BEGIN:VEVENT
DTSTART;TZID=Europe/Berlin:20260424T170000
DTEND;TZID=Europe/Berlin:20260424T190000
DTSTAMP:20260420T061517
CREATED:20210215T180519Z
LAST-MODIFIED:20260227T222930Z
UID:10001920-1777050000-1777057200@gemeinde-neustadt.de
SUMMARY:Trauergesprächskreis "Weiterleben" | Zion
DESCRIPTION:Der Trauergesprächskreis ist offen für alle\, die über den Verlust eines nahen Menschen trauern. Jede und jeder ist willkommen. Der Todesfall kann auch schon länger zurückliegen.\nWir treffen uns einmal im Monat freitags von 17:00-19:00 Uhr in Zion (im Kaminraum). \nDas nächste Treffen wird am Freitag\, dem 24.04.2026 stattfinden. \nInformationen gibt es bei Pastor Thomas Lieberum: 0421-59769521. Melden Sie sich gerne!
URL:https://gemeinde-neustadt.de/event/trauergespraechskreis-weiterleben/
LOCATION:Gemeindezentrum Zion\, Kornstraße 31\, Bremen\, Bremen\, 28201\, Deutschland
CATEGORIES:Erwachsene
ORGANIZER;CN="Vereinigte ev. Gemeinde Bremen-Neustadt":MAILTO:neustadt@kirche-bremen.de
END:VEVENT
BEGIN:VEVENT
DTSTART;TZID=Europe/Berlin:20260424T170000
DTEND;TZID=Europe/Berlin:20260424T210000
DTSTAMP:20260420T061517
CREATED:20250728T191512Z
LAST-MODIFIED:20251227T161630Z
UID:10016261-1777050000-1777064400@gemeinde-neustadt.de
SUMMARY:Internationales Musikcafé | Zion
DESCRIPTION:Jeden Freitag trifft sich ab 17:00 Uhr das „Internationale Musikcafé Bremen“ im Theatersaal im Gemeindezentrum Zion. Musikinteressierte aller Länder sind herzlich willkommen – kommt einfach dazu. Neben dem gemeinsamen Musizieren gibt es Kaffee\, Tee und frisch gebackenen Kuchen! Aus den Proben heraus entwickeln sich immer wieder Konzerte.
URL:https://gemeinde-neustadt.de/event/internationales-musikcafe-i-zion-2-3-2/2026-04-24/
LOCATION:Gemeindezentrum Zion\, Kornstraße 31\, Bremen\, Bremen\, 28201\, Deutschland
CATEGORIES:Erwachsene,Kirchenmusik,Konzerte,Kunst
ORGANIZER;CN="Vereinigte ev. Gemeinde Bremen-Neustadt":MAILTO:neustadt@kirche-bremen.de
END:VEVENT
BEGIN:VEVENT
DTSTART;TZID=Europe/Berlin:20260427T140000
DTEND;TZID=Europe/Berlin:20260427T170000
DTSTAMP:20260420T061517
CREATED:20250728T185321Z
LAST-MODIFIED:20260402T120721Z
UID:10016345-1777298400-1777309200@gemeinde-neustadt.de
SUMMARY:Räuber-Rommé mit Lydia | Zion
DESCRIPTION:Immer montags laden wir ab 14:00 Uhr in das Gemeindezentrum Zion zum Spielen von Gesellschafts-Spielen ein. Wir fangen an mit Rommé oder Canasta\, Mensch-ärgere-dich-nicht oder andere Spiele sind aber auch möglich. Jede und jeder ist willkommen. Die Treffen finden im Kaminraum statt. Haben Sie Fragen\, rufen Sie gerne bei Pastor Lieberum an: 0421-59769521.
URL:https://gemeinde-neustadt.de/event/lesung-von-astrid-goltz-zion-2-2/2026-04-27/
LOCATION:Gemeindezentrum Zion\, Kornstraße 31\, Bremen\, Bremen\, 28201\, Deutschland
CATEGORIES:Erwachsene,Lesung,Musik,Vortrag
ORGANIZER;CN="Vereinigte ev. Gemeinde Bremen-Neustadt":MAILTO:neustadt@kirche-bremen.de
END:VEVENT
BEGIN:VEVENT
DTSTART;TZID=Europe/Berlin:20260427T193000
DTEND;TZID=Europe/Berlin:20260427T220000
DTSTAMP:20260420T061517
CREATED:20250729T130725Z
LAST-MODIFIED:20260402T120650Z
UID:10016293-1777318200-1777327200@gemeinde-neustadt.de
SUMMARY:"Theater der Ziongemeinde" | Zion
DESCRIPTION:Jeden Montag probt das „Theater der Zionsgemeinde“ im Theatersaal in Zion. Alle zwei Jahre gibt es eine Aufführung mit eigenen Stücken. Das Zion-Theater ist eine unserer ältesten Gemeindegruppen und wurde Ende der 50er Jahre vom damaligen Pastor Gerlach gegründet. Haben Sie Interesse an der Arbeit\, melden Sie sich bitte bei Robert Schlemmer: 0421-531860.
URL:https://gemeinde-neustadt.de/event/probe-zion-theater-zion-2-2/2026-04-27/
LOCATION:Gemeindezentrum Zion\, Kornstraße 31\, Bremen\, Bremen\, 28201\, Deutschland
CATEGORIES:Ehrenamt,Erwachsene,Kunst,Probe,Theater
ORGANIZER;CN="Vereinigte ev. Gemeinde Bremen-Neustadt":MAILTO:neustadt@kirche-bremen.de
END:VEVENT
BEGIN:VEVENT
DTSTART;TZID=UTC:20260428T150000
DTEND;TZID=UTC:20260428T160000
DTSTAMP:20260420T061517
CREATED:20251227T120029Z
LAST-MODIFIED:20260313T205239Z
UID:10015949-1777388400-1777392000@gemeinde-neustadt.de
SUMMARY:Yoga im Sitzen | Zion
DESCRIPTION:Jeden Dienstag bieten wir in Zion Yoga im Sitzen an\, von 15:00-16:00 Uhr im Theatersaal. Kommen Sie gerne dazu!
URL:https://gemeinde-neustadt.de/event/yoga-im-sitzen-zion-2-2-2-2-2/2026-04-28/
LOCATION:Gemeindezentrum Zion\, Kornstraße 31\, Bremen\, Bremen\, 28201\, Deutschland
CATEGORIES:Senior*innen,Sport
ORGANIZER;CN="Vereinigte ev. Gemeinde Bremen-Neustadt":MAILTO:neustadt@kirche-bremen.de
END:VEVENT
BEGIN:VEVENT
DTSTART;TZID=Europe/Berlin:20260428T150000
DTEND;TZID=Europe/Berlin:20260428T180000
DTSTAMP:20260420T061517
CREATED:20251227T160733Z
LAST-MODIFIED:20251227T160819Z
UID:10016166-1777388400-1777399200@gemeinde-neustadt.de
SUMMARY:Umtausch Bezahlkarte | Zion
DESCRIPTION:Unter dem Slogan „Nein zur Schikanekarte“ gibt es jeden Dienstag von 15-18 Uhr die Möglichkeit\, Geflüchteten für ihre Bezahlkarten-Gutscheine Geld zu geben. Die Ausgabe erfolgt im ehemaligen Bandraum\, der Eingang ist von der Kantstraße.
URL:https://gemeinde-neustadt.de/event/letzte-generation-zion-2-2/2026-04-28/
LOCATION:Gemeindezentrum Zion\, Kornstraße 31\, Bremen\, Bremen\, 28201\, Deutschland
CATEGORIES:Ehrenamt,Sitzung
ORGANIZER;CN="Vereinigte ev. Gemeinde Bremen-Neustadt":MAILTO:neustadt@kirche-bremen.de
END:VEVENT
BEGIN:VEVENT
DTSTART;TZID=Europe/Berlin:20260428T173000
DTEND;TZID=Europe/Berlin:20260428T203000
DTSTAMP:20260420T061517
CREATED:20251227T120146Z
LAST-MODIFIED:20260319T194603Z
UID:10015973-1777397400-1777408200@gemeinde-neustadt.de
SUMMARY:Offene Jugendarbeit | Zion
DESCRIPTION:Jeden Dienstag (außer in den Ferien) lädt die „Rote Zitadelle“ Jugendliche aus dem Stadtteil ein. Geöffnet ist ab 17:30 Uhr\, jede und jeder ist willkommen!
URL:https://gemeinde-neustadt.de/event/offene-jugendarbeit-zion-2-2-2/2026-04-28/
LOCATION:Gemeindezentrum Zion\, Kornstraße 31\, Bremen\, Bremen\, 28201\, Deutschland
CATEGORIES:Essen und Trinken,interkulturell,Jugendarbeit,Kreativ,Party
ORGANIZER;CN="Vereinigte ev. Gemeinde Bremen-Neustadt":MAILTO:neustadt@kirche-bremen.de
END:VEVENT
BEGIN:VEVENT
DTSTART;TZID=Europe/Berlin:20260428T193000
DTEND;TZID=Europe/Berlin:20260428T213000
DTSTAMP:20260420T061517
CREATED:20251212T202753Z
LAST-MODIFIED:20251212T202753Z
UID:10015721-1777404600-1777411800@gemeinde-neustadt.de
SUMMARY:Glaube & Gesellschaft | Zion
DESCRIPTION:Jeweils am letzten Dienstag des Monats laden wir zu Gespräch und Diskussion über aktuelle theologisch-gesellschaftliche Themen. Die Treffen finden im Kaminraum in Zion statt. Wir beginnen um 19:30 Uhr und bleiben so lange\, wie wir Lust haben. Es gibt Getränke und etwas zu Knabbern. Herzlich willkommen!
URL:https://gemeinde-neustadt.de/event/glaube-gesellschaft-zion/2026-04-28/
LOCATION:Gemeindezentrum Zion\, Kornstraße 31\, Bremen\, Bremen\, 28201\, Deutschland
CATEGORIES:Erwachsene
ORGANIZER;CN="Vereinigte ev. Gemeinde Bremen-Neustadt":MAILTO:neustadt@kirche-bremen.de
END:VEVENT
BEGIN:VEVENT
DTSTART;TZID=UTC:20260428T193000
DTEND;TZID=UTC:20260428T220000
DTSTAMP:20260420T061517
CREATED:20251227T120723Z
LAST-MODIFIED:20251227T120757Z
UID:10016022-1777404600-1777413600@gemeinde-neustadt.de
SUMMARY:Sangklubb | Zion
DESCRIPTION:Jeden Dienstag probt ab 20:00 Uhr der Chor Sangklubb unter der Leitung von Ole Schmitt im Theatersaal in Zion. Interessierte können gerne vorbeischauen.
URL:https://gemeinde-neustadt.de/event/chorprobe-sangklubb-zion-2-2-2-2/2026-04-28/
LOCATION:Gemeindezentrum Zion\, Kornstraße 31\, Bremen\, Bremen\, 28201\, Deutschland
CATEGORIES:Chorprobe
ORGANIZER;CN="Vereinigte ev. Gemeinde Bremen-Neustadt":MAILTO:neustadt@kirche-bremen.de
END:VEVENT
BEGIN:VEVENT
DTSTART;TZID=Europe/Berlin:20260429T123000
DTEND;TZID=Europe/Berlin:20260429T133000
DTSTAMP:20260420T061517
CREATED:20250918T193158Z
LAST-MODIFIED:20260331T151425Z
UID:10015348-1777465800-1777469400@gemeinde-neustadt.de
SUMMARY:Mittagessen | Zion
DESCRIPTION:Um 12:30 Uhr laden wir im Theatersaal in Zion zum gemeinsamen Mittagessen. Alle sind herzlich willkommen!
URL:https://gemeinde-neustadt.de/event/mittagessen-zion/
LOCATION:Gemeindezentrum Zion\, Kornstraße 31\, Bremen\, Bremen\, 28201\, Deutschland
CATEGORIES:Essen und Trinken
ORGANIZER;CN="Vereinigte ev. Gemeinde Bremen-Neustadt":MAILTO:neustadt@kirche-bremen.de
END:VEVENT
BEGIN:VEVENT
DTSTART;TZID=UTC:20260429T153000
DTEND;TZID=UTC:20260429T190000
DTSTAMP:20260420T061517
CREATED:20251219T070556Z
LAST-MODIFIED:20260319T194735Z
UID:10015798-1777476600-1777489200@gemeinde-neustadt.de
SUMMARY:Ballett für Kinder | Zion
DESCRIPTION:Unseren Theatersaal in Zion stellen wir regelmäßig für Ballett-Unterricht zur Verfügung. Unter Leitung der Tanzpädagogin Julia Schneider proben Kinder und Jugendliche und führen immer wieder Stücke auf. Haben Sie Interesse? Dann wenden Sie sich bitte direkt an Julia Schneider: 0421-67322027. Informationen gibt auch Pastor Thomas Lieberum: 0421-59769521.
URL:https://gemeinde-neustadt.de/event/ballett-fuer-kinder-zion-2-2-2-2-2/2026-04-29/
LOCATION:Gemeindezentrum Zion\, Kornstraße 31\, Bremen\, Bremen\, 28201\, Deutschland
CATEGORIES:Jugendarbeit,Kinder,Sport,Tanz
ORGANIZER;CN="Vereinigte ev. Gemeinde Bremen-Neustadt":MAILTO:neustadt@kirche-bremen.de
END:VEVENT
BEGIN:VEVENT
DTSTART;TZID=UTC:20260429T160000
DTEND;TZID=UTC:20260429T190000
DTSTAMP:20260420T061517
CREATED:20251227T120901Z
LAST-MODIFIED:20251227T120951Z
UID:10016063-1777478400-1777489200@gemeinde-neustadt.de
SUMMARY:Fahrräder für Geflüchtete | Zion
DESCRIPTION:Jeden Mittwoch und Donnerstag ist die Fahrrad-Werkstatt im Keller von Zion geöffnet. Interessierte Flüchtlinge (bzw. Unterstützer*innen) können zwischen 15:00-18:00 Uhr vorbeikommen und sich nach Fahrrädern oder Reparaturen erkundigen.
URL:https://gemeinde-neustadt.de/event/info-veranstaltung-super-coop-zion-2-2-3-2-2/2026-04-29/
LOCATION:Gemeindezentrum Zion\, Kornstraße 31\, Bremen\, Bremen\, 28201\, Deutschland
CATEGORIES:Ehrenamt,Selbsthilfe
ORGANIZER;CN="Vereinigte ev. Gemeinde Bremen-Neustadt":MAILTO:neustadt@kirche-bremen.de
END:VEVENT
BEGIN:VEVENT
DTSTART;TZID=UTC:20260429T173000
DTEND;TZID=UTC:20260429T203000
DTSTAMP:20260420T061517
CREATED:20251227T115837Z
LAST-MODIFIED:20260319T194458Z
UID:10015926-1777483800-1777494600@gemeinde-neustadt.de
SUMMARY:Rollenspielgruppe | Zion
DESCRIPTION:Jeden Mittwoch trifft sich in der Roten Zitadelle (im Jugendheim) die Rollenspielgruppe. Sie wird geleitet von Tim Bonßdorf. Mitmachen können Jugendliche ab 14 Jahren. Information oder Anmeldung: 0179-9601727.
URL:https://gemeinde-neustadt.de/event/rollenspielgruppe-zion-2-2-2-2/2026-04-29/
LOCATION:Gemeindezentrum Zion\, Kornstraße 31\, Bremen\, Bremen\, 28201\, Deutschland
CATEGORIES:Jugendarbeit,Spiele
ORGANIZER;CN="Vereinigte ev. Gemeinde Bremen-Neustadt":MAILTO:neustadt@kirche-bremen.de
END:VEVENT
BEGIN:VEVENT
DTSTART;TZID=UTC:20260429T193000
DTEND;TZID=UTC:20260429T220000
DTSTAMP:20260420T061517
CREATED:20251227T160519Z
LAST-MODIFIED:20251227T160601Z
UID:10016137-1777491000-1777500000@gemeinde-neustadt.de
SUMMARY:Tanzclub Bremer Süden | Zion
DESCRIPTION:Jeden Mittwoch treffen sich Tänzerinnen und Tänzer in Zion. Jede und jeder ist willkommen! Bitte schauen Sie auf die Homepage von tcbs und nehmen Sie Kontakt mit den Verantwortlichen auf.
URL:https://gemeinde-neustadt.de/event/tanzclub-bremer-sueden-zion-2-2-2-2/2026-04-29/
LOCATION:Gemeindezentrum Zion\, Kornstraße 31\, Bremen\, Bremen\, 28201\, Deutschland
CATEGORIES:Erwachsene,Musik,Probe,Tanz
ORGANIZER;CN="Vereinigte ev. Gemeinde Bremen-Neustadt":MAILTO:neustadt@kirche-bremen.de
END:VEVENT
END:VCALENDAR