BEGIN:VCALENDAR
VERSION:2.0
PRODID:-//Gemeinde Bremen-Neustadt - ECPv6.14.2//NONSGML v1.0//EN
CALSCALE:GREGORIAN
METHOD:PUBLISH
X-WR-CALNAME:Gemeinde Bremen-Neustadt
X-ORIGINAL-URL:https://gemeinde-neustadt.de
X-WR-CALDESC:Veranstaltungen für Gemeinde Bremen-Neustadt
REFRESH-INTERVAL;VALUE=DURATION:PT1H
X-Robots-Tag:noindex
X-PUBLISHED-TTL:PT1H
BEGIN:VTIMEZONE
TZID:UTC
BEGIN:STANDARD
TZOFFSETFROM:+0000
TZOFFSETTO:+0000
TZNAME:UTC
DTSTART:20250101T000000
END:STANDARD
END:VTIMEZONE
BEGIN:VTIMEZONE
TZID:Europe/Berlin
BEGIN:DAYLIGHT
TZOFFSETFROM:+0100
TZOFFSETTO:+0200
TZNAME:CEST
DTSTART:20250330T010000
END:DAYLIGHT
BEGIN:STANDARD
TZOFFSETFROM:+0200
TZOFFSETTO:+0100
TZNAME:CET
DTSTART:20251026T010000
END:STANDARD
BEGIN:DAYLIGHT
TZOFFSETFROM:+0100
TZOFFSETTO:+0200
TZNAME:CEST
DTSTART:20260329T010000
END:DAYLIGHT
BEGIN:STANDARD
TZOFFSETFROM:+0200
TZOFFSETTO:+0100
TZNAME:CET
DTSTART:20261025T010000
END:STANDARD
END:VTIMEZONE
BEGIN:VEVENT
DTSTART;TZID=UTC:20260107T160000
DTEND;TZID=UTC:20260107T190000
DTSTAMP:20260423T005834
CREATED:20251227T120901Z
LAST-MODIFIED:20251227T120951Z
UID:10015006-1767801600-1767812400@gemeinde-neustadt.de
SUMMARY:Fahrräder für Geflüchtete | Zion
DESCRIPTION:Jeden Mittwoch und Donnerstag ist die Fahrrad-Werkstatt im Keller von Zion geöffnet. Interessierte Flüchtlinge (bzw. Unterstützer*innen) können zwischen 15:00-18:00 Uhr vorbeikommen und sich nach Fahrrädern oder Reparaturen erkundigen.
URL:https://gemeinde-neustadt.de/event/info-veranstaltung-super-coop-zion-2-2-3-2-2/2026-01-07/
LOCATION:Gemeindezentrum Zion\, Kornstraße 31\, Bremen\, Bremen\, 28201\, Deutschland
CATEGORIES:Ehrenamt,Selbsthilfe
ORGANIZER;CN="Vereinigte ev. Gemeinde Bremen-Neustadt":MAILTO:neustadt@kirche-bremen.de
END:VEVENT
BEGIN:VEVENT
DTSTART;TZID=Europe/Berlin:20260107T160000
DTEND;TZID=Europe/Berlin:20260107T170000
DTSTAMP:20260423T005834
CREATED:20251202T124729Z
LAST-MODIFIED:20251227T115148Z
UID:10014876-1767801600-1767805200@gemeinde-neustadt.de
SUMMARY:Offenes Singen für Jung und alt | Zion
DESCRIPTION:Jeden ersten Mittwoch im Monat laden wir von 16:00-17:00 Uhr zum Offenen Singen in das Gemeindezentrum Zion ein. Wir singen Lieder querbeet\, von Volksliedern über Schlager bis zu Chorälen. Die Lieder werden am Klavier oder an der Gitarre begleitet. Kommen Sie einfach dazu!
URL:https://gemeinde-neustadt.de/event/offenes-singen-fuer-jung-und-alt-zion-2-2-2/2026-01-07/
LOCATION:Gemeindezentrum Zion\, Kornstraße 31\, Bremen\, Bremen\, 28201\, Deutschland
CATEGORIES:Chor,Erwachsene,Musik,Senior*innen,Singen
ORGANIZER;CN="Vereinigte ev. Gemeinde Bremen-Neustadt":MAILTO:neustadt@kirche-bremen.de
END:VEVENT
BEGIN:VEVENT
DTSTART;TZID=UTC:20260107T153000
DTEND;TZID=UTC:20260107T190000
DTSTAMP:20260423T005834
CREATED:20251219T070556Z
LAST-MODIFIED:20260319T194735Z
UID:10015346-1767799800-1767812400@gemeinde-neustadt.de
SUMMARY:Ballett für Kinder | Zion
DESCRIPTION:Unseren Theatersaal in Zion stellen wir regelmäßig für Ballett-Unterricht zur Verfügung. Unter Leitung der Tanzpädagogin Julia Schneider proben Kinder und Jugendliche und führen immer wieder Stücke auf. Haben Sie Interesse? Dann wenden Sie sich bitte direkt an Julia Schneider: 0421-67322027. Informationen gibt auch Pastor Thomas Lieberum: 0421-59769521.
URL:https://gemeinde-neustadt.de/event/ballett-fuer-kinder-zion-2-2-2-2-2/2026-01-07/
LOCATION:Gemeindezentrum Zion\, Kornstraße 31\, Bremen\, Bremen\, 28201\, Deutschland
CATEGORIES:Jugendarbeit,Kinder,Sport,Tanz
ORGANIZER;CN="Vereinigte ev. Gemeinde Bremen-Neustadt":MAILTO:neustadt@kirche-bremen.de
END:VEVENT
BEGIN:VEVENT
DTSTART;TZID=UTC:20260106T193000
DTEND;TZID=UTC:20260106T220000
DTSTAMP:20260423T005834
CREATED:20251227T120723Z
LAST-MODIFIED:20251227T120757Z
UID:10014909-1767727800-1767736800@gemeinde-neustadt.de
SUMMARY:Sangklubb | Zion
DESCRIPTION:Jeden Dienstag probt ab 20:00 Uhr der Chor Sangklubb unter der Leitung von Ole Schmitt im Theatersaal in Zion. Interessierte können gerne vorbeischauen.
URL:https://gemeinde-neustadt.de/event/chorprobe-sangklubb-zion-2-2-2-2/2026-01-06/
LOCATION:Gemeindezentrum Zion\, Kornstraße 31\, Bremen\, Bremen\, 28201\, Deutschland
CATEGORIES:Chorprobe
ORGANIZER;CN="Vereinigte ev. Gemeinde Bremen-Neustadt":MAILTO:neustadt@kirche-bremen.de
END:VEVENT
BEGIN:VEVENT
DTSTART;TZID=Europe/Berlin:20260106T150000
DTEND;TZID=Europe/Berlin:20260106T180000
DTSTAMP:20260423T005834
CREATED:20251227T160733Z
LAST-MODIFIED:20251227T160819Z
UID:10014587-1767711600-1767722400@gemeinde-neustadt.de
SUMMARY:Umtausch Bezahlkarte | Zion
DESCRIPTION:Unter dem Slogan „Nein zur Schikanekarte“ gibt es jeden Dienstag von 15-18 Uhr die Möglichkeit\, Geflüchteten für ihre Bezahlkarten-Gutscheine Geld zu geben. Die Ausgabe erfolgt im ehemaligen Bandraum\, der Eingang ist von der Kantstraße.
URL:https://gemeinde-neustadt.de/event/letzte-generation-zion-2-2/2026-01-06/
LOCATION:Gemeindezentrum Zion\, Kornstraße 31\, Bremen\, Bremen\, 28201\, Deutschland
CATEGORIES:Ehrenamt,Sitzung
ORGANIZER;CN="Vereinigte ev. Gemeinde Bremen-Neustadt":MAILTO:neustadt@kirche-bremen.de
END:VEVENT
BEGIN:VEVENT
DTSTART;TZID=Europe/Berlin:20260105T193000
DTEND;TZID=Europe/Berlin:20260105T220000
DTSTAMP:20260423T005834
CREATED:20250729T130725Z
LAST-MODIFIED:20260402T120650Z
UID:10016277-1767641400-1767650400@gemeinde-neustadt.de
SUMMARY:"Theater der Ziongemeinde" | Zion
DESCRIPTION:Jeden Montag probt das „Theater der Zionsgemeinde“ im Theatersaal in Zion. Alle zwei Jahre gibt es eine Aufführung mit eigenen Stücken. Das Zion-Theater ist eine unserer ältesten Gemeindegruppen und wurde Ende der 50er Jahre vom damaligen Pastor Gerlach gegründet. Haben Sie Interesse an der Arbeit\, melden Sie sich bitte bei Robert Schlemmer: 0421-531860.
URL:https://gemeinde-neustadt.de/event/probe-zion-theater-zion-2-2/2026-01-05/
LOCATION:Gemeindezentrum Zion\, Kornstraße 31\, Bremen\, Bremen\, 28201\, Deutschland
CATEGORIES:Ehrenamt,Erwachsene,Kunst,Probe,Theater
ORGANIZER;CN="Vereinigte ev. Gemeinde Bremen-Neustadt":MAILTO:neustadt@kirche-bremen.de
END:VEVENT
BEGIN:VEVENT
DTSTART;TZID=Europe/Berlin:20260105T140000
DTEND;TZID=Europe/Berlin:20260105T170000
DTSTAMP:20260423T005834
CREATED:20250728T185321Z
LAST-MODIFIED:20260402T120721Z
UID:10016329-1767621600-1767632400@gemeinde-neustadt.de
SUMMARY:Räuber-Rommé mit Lydia | Zion
DESCRIPTION:Immer montags laden wir ab 14:00 Uhr in das Gemeindezentrum Zion zum Spielen von Gesellschafts-Spielen ein. Wir fangen an mit Rommé oder Canasta\, Mensch-ärgere-dich-nicht oder andere Spiele sind aber auch möglich. Jede und jeder ist willkommen. Die Treffen finden im Kaminraum statt. Haben Sie Fragen\, rufen Sie gerne bei Pastor Lieberum an: 0421-59769521.
URL:https://gemeinde-neustadt.de/event/lesung-von-astrid-goltz-zion-2-2/2026-01-05/
LOCATION:Gemeindezentrum Zion\, Kornstraße 31\, Bremen\, Bremen\, 28201\, Deutschland
CATEGORIES:Erwachsene,Lesung,Musik,Vortrag
ORGANIZER;CN="Vereinigte ev. Gemeinde Bremen-Neustadt":MAILTO:neustadt@kirche-bremen.de
END:VEVENT
BEGIN:VEVENT
DTSTART;TZID=Europe/Berlin:20260102T170000
DTEND;TZID=Europe/Berlin:20260102T210000
DTSTAMP:20260423T005834
CREATED:20250728T191512Z
LAST-MODIFIED:20251227T161630Z
UID:10016245-1767373200-1767387600@gemeinde-neustadt.de
SUMMARY:Internationales Musikcafé | Zion
DESCRIPTION:Jeden Freitag trifft sich ab 17:00 Uhr das „Internationale Musikcafé Bremen“ im Theatersaal im Gemeindezentrum Zion. Musikinteressierte aller Länder sind herzlich willkommen – kommt einfach dazu. Neben dem gemeinsamen Musizieren gibt es Kaffee\, Tee und frisch gebackenen Kuchen! Aus den Proben heraus entwickeln sich immer wieder Konzerte.
URL:https://gemeinde-neustadt.de/event/internationales-musikcafe-i-zion-2-3-2/2026-01-02/
LOCATION:Gemeindezentrum Zion\, Kornstraße 31\, Bremen\, Bremen\, 28201\, Deutschland
CATEGORIES:Erwachsene,Kirchenmusik,Konzerte,Kunst
ORGANIZER;CN="Vereinigte ev. Gemeinde Bremen-Neustadt":MAILTO:neustadt@kirche-bremen.de
END:VEVENT
BEGIN:VEVENT
DTSTART;TZID=Europe/Berlin:20251229T193000
DTEND;TZID=Europe/Berlin:20251229T220000
DTSTAMP:20260423T005834
CREATED:20250729T130725Z
LAST-MODIFIED:20260402T120650Z
UID:10017163-1767036600-1767045600@gemeinde-neustadt.de
SUMMARY:"Theater der Ziongemeinde" | Zion
DESCRIPTION:Jeden Montag probt das „Theater der Zionsgemeinde“ im Theatersaal in Zion. Alle zwei Jahre gibt es eine Aufführung mit eigenen Stücken. Das Zion-Theater ist eine unserer ältesten Gemeindegruppen und wurde Ende der 50er Jahre vom damaligen Pastor Gerlach gegründet. Haben Sie Interesse an der Arbeit\, melden Sie sich bitte bei Robert Schlemmer: 0421-531860.
URL:https://gemeinde-neustadt.de/event/probe-zion-theater-zion-2-2/2025-12-29/
LOCATION:Gemeindezentrum Zion\, Kornstraße 31\, Bremen\, Bremen\, 28201\, Deutschland
CATEGORIES:Ehrenamt,Erwachsene,Kunst,Probe,Theater
ORGANIZER;CN="Vereinigte ev. Gemeinde Bremen-Neustadt":MAILTO:neustadt@kirche-bremen.de
END:VEVENT
BEGIN:VEVENT
DTSTART;TZID=Europe/Berlin:20251229T140000
DTEND;TZID=Europe/Berlin:20251229T170000
DTSTAMP:20260423T005834
CREATED:20250728T185321Z
LAST-MODIFIED:20260402T120721Z
UID:10017164-1767016800-1767027600@gemeinde-neustadt.de
SUMMARY:Räuber-Rommé mit Lydia | Zion
DESCRIPTION:Immer montags laden wir ab 14:00 Uhr in das Gemeindezentrum Zion zum Spielen von Gesellschafts-Spielen ein. Wir fangen an mit Rommé oder Canasta\, Mensch-ärgere-dich-nicht oder andere Spiele sind aber auch möglich. Jede und jeder ist willkommen. Die Treffen finden im Kaminraum statt. Haben Sie Fragen\, rufen Sie gerne bei Pastor Lieberum an: 0421-59769521.
URL:https://gemeinde-neustadt.de/event/lesung-von-astrid-goltz-zion-2-2/2025-12-29/
LOCATION:Gemeindezentrum Zion\, Kornstraße 31\, Bremen\, Bremen\, 28201\, Deutschland
CATEGORIES:Erwachsene,Lesung,Musik,Vortrag
ORGANIZER;CN="Vereinigte ev. Gemeinde Bremen-Neustadt":MAILTO:neustadt@kirche-bremen.de
END:VEVENT
BEGIN:VEVENT
DTSTART;TZID=Europe/Berlin:20251226T170000
DTEND;TZID=Europe/Berlin:20251226T210000
DTSTAMP:20260423T005834
CREATED:20250728T191512Z
LAST-MODIFIED:20251227T161630Z
UID:10016244-1766768400-1766782800@gemeinde-neustadt.de
SUMMARY:Internationales Musikcafé | Zion
DESCRIPTION:Jeden Freitag trifft sich ab 17:00 Uhr das „Internationale Musikcafé Bremen“ im Theatersaal im Gemeindezentrum Zion. Musikinteressierte aller Länder sind herzlich willkommen – kommt einfach dazu. Neben dem gemeinsamen Musizieren gibt es Kaffee\, Tee und frisch gebackenen Kuchen! Aus den Proben heraus entwickeln sich immer wieder Konzerte.
URL:https://gemeinde-neustadt.de/event/internationales-musikcafe-i-zion-2-3-2/2025-12-26/
LOCATION:Gemeindezentrum Zion\, Kornstraße 31\, Bremen\, Bremen\, 28201\, Deutschland
CATEGORIES:Erwachsene,Kirchenmusik,Konzerte,Kunst
ORGANIZER;CN="Vereinigte ev. Gemeinde Bremen-Neustadt":MAILTO:neustadt@kirche-bremen.de
END:VEVENT
BEGIN:VEVENT
DTSTART;TZID=UTC:20251225T190000
DTEND;TZID=UTC:20251225T210000
DTSTAMP:20260423T005834
CREATED:20250729T130421Z
LAST-MODIFIED:20251229T140726Z
UID:10014986-1766689200-1766696400@gemeinde-neustadt.de
SUMMARY:Suchtkrankenhilfe | Zion
DESCRIPTION:Jeden Donnerstag treffen sich Menschen im Rahmen der Neustädter Suchtkrankenhilfe im Gemeindezentrum Zion (im Kaminraum). Interessierte sind herzlich eingeladen vorbeizukommen.
URL:https://gemeinde-neustadt.de/event/suchtkrankenhilfe-zion-2-2/2025-12-25/
LOCATION:Gemeindezentrum Zion\, Kornstraße 31\, Bremen\, Bremen\, 28201\, Deutschland
CATEGORIES:Erwachsene,Sitzung
ORGANIZER;CN="Vereinigte ev. Gemeinde Bremen-Neustadt":MAILTO:neustadt@kirche-bremen.de
END:VEVENT
BEGIN:VEVENT
DTSTART;TZID=Europe/Berlin:20251222T193000
DTEND;TZID=Europe/Berlin:20251222T220000
DTSTAMP:20260423T005834
CREATED:20250729T130725Z
LAST-MODIFIED:20260402T120650Z
UID:10015123-1766431800-1766440800@gemeinde-neustadt.de
SUMMARY:"Theater der Ziongemeinde" | Zion
DESCRIPTION:Jeden Montag probt das „Theater der Zionsgemeinde“ im Theatersaal in Zion. Alle zwei Jahre gibt es eine Aufführung mit eigenen Stücken. Das Zion-Theater ist eine unserer ältesten Gemeindegruppen und wurde Ende der 50er Jahre vom damaligen Pastor Gerlach gegründet. Haben Sie Interesse an der Arbeit\, melden Sie sich bitte bei Robert Schlemmer: 0421-531860.
URL:https://gemeinde-neustadt.de/event/probe-zion-theater-zion-2-2/2025-12-22/
LOCATION:Gemeindezentrum Zion\, Kornstraße 31\, Bremen\, Bremen\, 28201\, Deutschland
CATEGORIES:Ehrenamt,Erwachsene,Kunst,Probe,Theater
ORGANIZER;CN="Vereinigte ev. Gemeinde Bremen-Neustadt":MAILTO:neustadt@kirche-bremen.de
END:VEVENT
BEGIN:VEVENT
DTSTART;TZID=Europe/Berlin:20251222T140000
DTEND;TZID=Europe/Berlin:20251222T170000
DTSTAMP:20260423T005834
CREATED:20250728T185321Z
LAST-MODIFIED:20260402T120721Z
UID:10014872-1766412000-1766422800@gemeinde-neustadt.de
SUMMARY:Räuber-Rommé mit Lydia | Zion
DESCRIPTION:Immer montags laden wir ab 14:00 Uhr in das Gemeindezentrum Zion zum Spielen von Gesellschafts-Spielen ein. Wir fangen an mit Rommé oder Canasta\, Mensch-ärgere-dich-nicht oder andere Spiele sind aber auch möglich. Jede und jeder ist willkommen. Die Treffen finden im Kaminraum statt. Haben Sie Fragen\, rufen Sie gerne bei Pastor Lieberum an: 0421-59769521.
URL:https://gemeinde-neustadt.de/event/lesung-von-astrid-goltz-zion-2-2/2025-12-22/
LOCATION:Gemeindezentrum Zion\, Kornstraße 31\, Bremen\, Bremen\, 28201\, Deutschland
CATEGORIES:Erwachsene,Lesung,Musik,Vortrag
ORGANIZER;CN="Vereinigte ev. Gemeinde Bremen-Neustadt":MAILTO:neustadt@kirche-bremen.de
END:VEVENT
BEGIN:VEVENT
DTSTART;TZID=Europe/Berlin:20251219T170000
DTEND;TZID=Europe/Berlin:20251219T210000
DTSTAMP:20260423T005834
CREATED:20250728T191512Z
LAST-MODIFIED:20251227T161630Z
UID:10014946-1766163600-1766178000@gemeinde-neustadt.de
SUMMARY:Internationales Musikcafé | Zion
DESCRIPTION:Jeden Freitag trifft sich ab 17:00 Uhr das „Internationale Musikcafé Bremen“ im Theatersaal im Gemeindezentrum Zion. Musikinteressierte aller Länder sind herzlich willkommen – kommt einfach dazu. Neben dem gemeinsamen Musizieren gibt es Kaffee\, Tee und frisch gebackenen Kuchen! Aus den Proben heraus entwickeln sich immer wieder Konzerte.
URL:https://gemeinde-neustadt.de/event/internationales-musikcafe-i-zion-2-3-2/2025-12-19/
LOCATION:Gemeindezentrum Zion\, Kornstraße 31\, Bremen\, Bremen\, 28201\, Deutschland
CATEGORIES:Erwachsene,Kirchenmusik,Konzerte,Kunst
ORGANIZER;CN="Vereinigte ev. Gemeinde Bremen-Neustadt":MAILTO:neustadt@kirche-bremen.de
END:VEVENT
BEGIN:VEVENT
DTSTART;TZID=UTC:20251218T190000
DTEND;TZID=UTC:20251218T210000
DTSTAMP:20260423T005834
CREATED:20250729T130421Z
LAST-MODIFIED:20251229T140726Z
UID:10014985-1766084400-1766091600@gemeinde-neustadt.de
SUMMARY:Suchtkrankenhilfe | Zion
DESCRIPTION:Jeden Donnerstag treffen sich Menschen im Rahmen der Neustädter Suchtkrankenhilfe im Gemeindezentrum Zion (im Kaminraum). Interessierte sind herzlich eingeladen vorbeizukommen.
URL:https://gemeinde-neustadt.de/event/suchtkrankenhilfe-zion-2-2/2025-12-18/
LOCATION:Gemeindezentrum Zion\, Kornstraße 31\, Bremen\, Bremen\, 28201\, Deutschland
CATEGORIES:Erwachsene,Sitzung
ORGANIZER;CN="Vereinigte ev. Gemeinde Bremen-Neustadt":MAILTO:neustadt@kirche-bremen.de
END:VEVENT
BEGIN:VEVENT
DTSTART;TZID=Europe/Berlin:20251215T193000
DTEND;TZID=Europe/Berlin:20251215T220000
DTSTAMP:20260423T005834
CREATED:20250729T130725Z
LAST-MODIFIED:20260402T120650Z
UID:10015122-1765827000-1765836000@gemeinde-neustadt.de
SUMMARY:"Theater der Ziongemeinde" | Zion
DESCRIPTION:Jeden Montag probt das „Theater der Zionsgemeinde“ im Theatersaal in Zion. Alle zwei Jahre gibt es eine Aufführung mit eigenen Stücken. Das Zion-Theater ist eine unserer ältesten Gemeindegruppen und wurde Ende der 50er Jahre vom damaligen Pastor Gerlach gegründet. Haben Sie Interesse an der Arbeit\, melden Sie sich bitte bei Robert Schlemmer: 0421-531860.
URL:https://gemeinde-neustadt.de/event/probe-zion-theater-zion-2-2/2025-12-15/
LOCATION:Gemeindezentrum Zion\, Kornstraße 31\, Bremen\, Bremen\, 28201\, Deutschland
CATEGORIES:Ehrenamt,Erwachsene,Kunst,Probe,Theater
ORGANIZER;CN="Vereinigte ev. Gemeinde Bremen-Neustadt":MAILTO:neustadt@kirche-bremen.de
END:VEVENT
BEGIN:VEVENT
DTSTART;TZID=Europe/Berlin:20251215T140000
DTEND;TZID=Europe/Berlin:20251215T170000
DTSTAMP:20260423T005834
CREATED:20250728T185321Z
LAST-MODIFIED:20260402T120721Z
UID:10014871-1765807200-1765818000@gemeinde-neustadt.de
SUMMARY:Räuber-Rommé mit Lydia | Zion
DESCRIPTION:Immer montags laden wir ab 14:00 Uhr in das Gemeindezentrum Zion zum Spielen von Gesellschafts-Spielen ein. Wir fangen an mit Rommé oder Canasta\, Mensch-ärgere-dich-nicht oder andere Spiele sind aber auch möglich. Jede und jeder ist willkommen. Die Treffen finden im Kaminraum statt. Haben Sie Fragen\, rufen Sie gerne bei Pastor Lieberum an: 0421-59769521.
URL:https://gemeinde-neustadt.de/event/lesung-von-astrid-goltz-zion-2-2/2025-12-15/
LOCATION:Gemeindezentrum Zion\, Kornstraße 31\, Bremen\, Bremen\, 28201\, Deutschland
CATEGORIES:Erwachsene,Lesung,Musik,Vortrag
ORGANIZER;CN="Vereinigte ev. Gemeinde Bremen-Neustadt":MAILTO:neustadt@kirche-bremen.de
END:VEVENT
BEGIN:VEVENT
DTSTART;TZID=Europe/Berlin:20251212T170000
DTEND;TZID=Europe/Berlin:20251212T210000
DTSTAMP:20260423T005834
CREATED:20250728T191512Z
LAST-MODIFIED:20251227T161630Z
UID:10014945-1765558800-1765573200@gemeinde-neustadt.de
SUMMARY:Internationales Musikcafé | Zion
DESCRIPTION:Jeden Freitag trifft sich ab 17:00 Uhr das „Internationale Musikcafé Bremen“ im Theatersaal im Gemeindezentrum Zion. Musikinteressierte aller Länder sind herzlich willkommen – kommt einfach dazu. Neben dem gemeinsamen Musizieren gibt es Kaffee\, Tee und frisch gebackenen Kuchen! Aus den Proben heraus entwickeln sich immer wieder Konzerte.
URL:https://gemeinde-neustadt.de/event/internationales-musikcafe-i-zion-2-3-2/2025-12-12/
LOCATION:Gemeindezentrum Zion\, Kornstraße 31\, Bremen\, Bremen\, 28201\, Deutschland
CATEGORIES:Erwachsene,Kirchenmusik,Konzerte,Kunst
ORGANIZER;CN="Vereinigte ev. Gemeinde Bremen-Neustadt":MAILTO:neustadt@kirche-bremen.de
END:VEVENT
BEGIN:VEVENT
DTSTART;TZID=UTC:20251211T190000
DTEND;TZID=UTC:20251211T210000
DTSTAMP:20260423T005834
CREATED:20250729T130421Z
LAST-MODIFIED:20251229T140726Z
UID:10014984-1765479600-1765486800@gemeinde-neustadt.de
SUMMARY:Suchtkrankenhilfe | Zion
DESCRIPTION:Jeden Donnerstag treffen sich Menschen im Rahmen der Neustädter Suchtkrankenhilfe im Gemeindezentrum Zion (im Kaminraum). Interessierte sind herzlich eingeladen vorbeizukommen.
URL:https://gemeinde-neustadt.de/event/suchtkrankenhilfe-zion-2-2/2025-12-11/
LOCATION:Gemeindezentrum Zion\, Kornstraße 31\, Bremen\, Bremen\, 28201\, Deutschland
CATEGORIES:Erwachsene,Sitzung
ORGANIZER;CN="Vereinigte ev. Gemeinde Bremen-Neustadt":MAILTO:neustadt@kirche-bremen.de
END:VEVENT
BEGIN:VEVENT
DTSTART;TZID=Europe/Berlin:20251208T193000
DTEND;TZID=Europe/Berlin:20251208T220000
DTSTAMP:20260423T005834
CREATED:20250729T130725Z
LAST-MODIFIED:20260402T120650Z
UID:10015121-1765222200-1765231200@gemeinde-neustadt.de
SUMMARY:"Theater der Ziongemeinde" | Zion
DESCRIPTION:Jeden Montag probt das „Theater der Zionsgemeinde“ im Theatersaal in Zion. Alle zwei Jahre gibt es eine Aufführung mit eigenen Stücken. Das Zion-Theater ist eine unserer ältesten Gemeindegruppen und wurde Ende der 50er Jahre vom damaligen Pastor Gerlach gegründet. Haben Sie Interesse an der Arbeit\, melden Sie sich bitte bei Robert Schlemmer: 0421-531860.
URL:https://gemeinde-neustadt.de/event/probe-zion-theater-zion-2-2/2025-12-08/
LOCATION:Gemeindezentrum Zion\, Kornstraße 31\, Bremen\, Bremen\, 28201\, Deutschland
CATEGORIES:Ehrenamt,Erwachsene,Kunst,Probe,Theater
ORGANIZER;CN="Vereinigte ev. Gemeinde Bremen-Neustadt":MAILTO:neustadt@kirche-bremen.de
END:VEVENT
BEGIN:VEVENT
DTSTART;TZID=Europe/Berlin:20251208T140000
DTEND;TZID=Europe/Berlin:20251208T170000
DTSTAMP:20260423T005834
CREATED:20250728T185321Z
LAST-MODIFIED:20260402T120721Z
UID:10014870-1765202400-1765213200@gemeinde-neustadt.de
SUMMARY:Räuber-Rommé mit Lydia | Zion
DESCRIPTION:Immer montags laden wir ab 14:00 Uhr in das Gemeindezentrum Zion zum Spielen von Gesellschafts-Spielen ein. Wir fangen an mit Rommé oder Canasta\, Mensch-ärgere-dich-nicht oder andere Spiele sind aber auch möglich. Jede und jeder ist willkommen. Die Treffen finden im Kaminraum statt. Haben Sie Fragen\, rufen Sie gerne bei Pastor Lieberum an: 0421-59769521.
URL:https://gemeinde-neustadt.de/event/lesung-von-astrid-goltz-zion-2-2/2025-12-08/
LOCATION:Gemeindezentrum Zion\, Kornstraße 31\, Bremen\, Bremen\, 28201\, Deutschland
CATEGORIES:Erwachsene,Lesung,Musik,Vortrag
ORGANIZER;CN="Vereinigte ev. Gemeinde Bremen-Neustadt":MAILTO:neustadt@kirche-bremen.de
END:VEVENT
BEGIN:VEVENT
DTSTART;TZID=Europe/Berlin:20251205T170000
DTEND;TZID=Europe/Berlin:20251205T210000
DTSTAMP:20260423T005834
CREATED:20250728T191512Z
LAST-MODIFIED:20251227T161630Z
UID:10014944-1764954000-1764968400@gemeinde-neustadt.de
SUMMARY:Internationales Musikcafé | Zion
DESCRIPTION:Jeden Freitag trifft sich ab 17:00 Uhr das „Internationale Musikcafé Bremen“ im Theatersaal im Gemeindezentrum Zion. Musikinteressierte aller Länder sind herzlich willkommen – kommt einfach dazu. Neben dem gemeinsamen Musizieren gibt es Kaffee\, Tee und frisch gebackenen Kuchen! Aus den Proben heraus entwickeln sich immer wieder Konzerte.
URL:https://gemeinde-neustadt.de/event/internationales-musikcafe-i-zion-2-3-2/2025-12-05/
LOCATION:Gemeindezentrum Zion\, Kornstraße 31\, Bremen\, Bremen\, 28201\, Deutschland
CATEGORIES:Erwachsene,Kirchenmusik,Konzerte,Kunst
ORGANIZER;CN="Vereinigte ev. Gemeinde Bremen-Neustadt":MAILTO:neustadt@kirche-bremen.de
END:VEVENT
BEGIN:VEVENT
DTSTART;TZID=UTC:20251204T190000
DTEND;TZID=UTC:20251204T210000
DTSTAMP:20260423T005834
CREATED:20250729T130421Z
LAST-MODIFIED:20251229T140726Z
UID:10014983-1764874800-1764882000@gemeinde-neustadt.de
SUMMARY:Suchtkrankenhilfe | Zion
DESCRIPTION:Jeden Donnerstag treffen sich Menschen im Rahmen der Neustädter Suchtkrankenhilfe im Gemeindezentrum Zion (im Kaminraum). Interessierte sind herzlich eingeladen vorbeizukommen.
URL:https://gemeinde-neustadt.de/event/suchtkrankenhilfe-zion-2-2/2025-12-04/
LOCATION:Gemeindezentrum Zion\, Kornstraße 31\, Bremen\, Bremen\, 28201\, Deutschland
CATEGORIES:Erwachsene,Sitzung
ORGANIZER;CN="Vereinigte ev. Gemeinde Bremen-Neustadt":MAILTO:neustadt@kirche-bremen.de
END:VEVENT
BEGIN:VEVENT
DTSTART;TZID=Europe/Berlin:20251201T193000
DTEND;TZID=Europe/Berlin:20251201T220000
DTSTAMP:20260423T005834
CREATED:20250729T130725Z
LAST-MODIFIED:20260402T120650Z
UID:10015120-1764617400-1764626400@gemeinde-neustadt.de
SUMMARY:"Theater der Ziongemeinde" | Zion
DESCRIPTION:Jeden Montag probt das „Theater der Zionsgemeinde“ im Theatersaal in Zion. Alle zwei Jahre gibt es eine Aufführung mit eigenen Stücken. Das Zion-Theater ist eine unserer ältesten Gemeindegruppen und wurde Ende der 50er Jahre vom damaligen Pastor Gerlach gegründet. Haben Sie Interesse an der Arbeit\, melden Sie sich bitte bei Robert Schlemmer: 0421-531860.
URL:https://gemeinde-neustadt.de/event/probe-zion-theater-zion-2-2/2025-12-01/
LOCATION:Gemeindezentrum Zion\, Kornstraße 31\, Bremen\, Bremen\, 28201\, Deutschland
CATEGORIES:Ehrenamt,Erwachsene,Kunst,Probe,Theater
ORGANIZER;CN="Vereinigte ev. Gemeinde Bremen-Neustadt":MAILTO:neustadt@kirche-bremen.de
END:VEVENT
BEGIN:VEVENT
DTSTART;TZID=Europe/Berlin:20251201T140000
DTEND;TZID=Europe/Berlin:20251201T170000
DTSTAMP:20260423T005834
CREATED:20250728T185321Z
LAST-MODIFIED:20260402T120721Z
UID:10014869-1764597600-1764608400@gemeinde-neustadt.de
SUMMARY:Räuber-Rommé mit Lydia | Zion
DESCRIPTION:Immer montags laden wir ab 14:00 Uhr in das Gemeindezentrum Zion zum Spielen von Gesellschafts-Spielen ein. Wir fangen an mit Rommé oder Canasta\, Mensch-ärgere-dich-nicht oder andere Spiele sind aber auch möglich. Jede und jeder ist willkommen. Die Treffen finden im Kaminraum statt. Haben Sie Fragen\, rufen Sie gerne bei Pastor Lieberum an: 0421-59769521.
URL:https://gemeinde-neustadt.de/event/lesung-von-astrid-goltz-zion-2-2/2025-12-01/
LOCATION:Gemeindezentrum Zion\, Kornstraße 31\, Bremen\, Bremen\, 28201\, Deutschland
CATEGORIES:Erwachsene,Lesung,Musik,Vortrag
ORGANIZER;CN="Vereinigte ev. Gemeinde Bremen-Neustadt":MAILTO:neustadt@kirche-bremen.de
END:VEVENT
BEGIN:VEVENT
DTSTART;TZID=Europe/Berlin:20251128T170000
DTEND;TZID=Europe/Berlin:20251128T210000
DTSTAMP:20260423T005834
CREATED:20250728T191512Z
LAST-MODIFIED:20251227T161630Z
UID:10014943-1764349200-1764363600@gemeinde-neustadt.de
SUMMARY:Internationales Musikcafé | Zion
DESCRIPTION:Jeden Freitag trifft sich ab 17:00 Uhr das „Internationale Musikcafé Bremen“ im Theatersaal im Gemeindezentrum Zion. Musikinteressierte aller Länder sind herzlich willkommen – kommt einfach dazu. Neben dem gemeinsamen Musizieren gibt es Kaffee\, Tee und frisch gebackenen Kuchen! Aus den Proben heraus entwickeln sich immer wieder Konzerte.
URL:https://gemeinde-neustadt.de/event/internationales-musikcafe-i-zion-2-3-2/2025-11-28/
LOCATION:Gemeindezentrum Zion\, Kornstraße 31\, Bremen\, Bremen\, 28201\, Deutschland
CATEGORIES:Erwachsene,Kirchenmusik,Konzerte,Kunst
ORGANIZER;CN="Vereinigte ev. Gemeinde Bremen-Neustadt":MAILTO:neustadt@kirche-bremen.de
END:VEVENT
BEGIN:VEVENT
DTSTART;TZID=UTC:20251127T190000
DTEND;TZID=UTC:20251127T210000
DTSTAMP:20260423T005834
CREATED:20250729T130421Z
LAST-MODIFIED:20251229T140726Z
UID:10014982-1764270000-1764277200@gemeinde-neustadt.de
SUMMARY:Suchtkrankenhilfe | Zion
DESCRIPTION:Jeden Donnerstag treffen sich Menschen im Rahmen der Neustädter Suchtkrankenhilfe im Gemeindezentrum Zion (im Kaminraum). Interessierte sind herzlich eingeladen vorbeizukommen.
URL:https://gemeinde-neustadt.de/event/suchtkrankenhilfe-zion-2-2/2025-11-27/
LOCATION:Gemeindezentrum Zion\, Kornstraße 31\, Bremen\, Bremen\, 28201\, Deutschland
CATEGORIES:Erwachsene,Sitzung
ORGANIZER;CN="Vereinigte ev. Gemeinde Bremen-Neustadt":MAILTO:neustadt@kirche-bremen.de
END:VEVENT
BEGIN:VEVENT
DTSTART;TZID=Europe/Berlin:20251124T193000
DTEND;TZID=Europe/Berlin:20251124T220000
DTSTAMP:20260423T005834
CREATED:20250729T130725Z
LAST-MODIFIED:20260402T120650Z
UID:10015119-1764012600-1764021600@gemeinde-neustadt.de
SUMMARY:"Theater der Ziongemeinde" | Zion
DESCRIPTION:Jeden Montag probt das „Theater der Zionsgemeinde“ im Theatersaal in Zion. Alle zwei Jahre gibt es eine Aufführung mit eigenen Stücken. Das Zion-Theater ist eine unserer ältesten Gemeindegruppen und wurde Ende der 50er Jahre vom damaligen Pastor Gerlach gegründet. Haben Sie Interesse an der Arbeit\, melden Sie sich bitte bei Robert Schlemmer: 0421-531860.
URL:https://gemeinde-neustadt.de/event/probe-zion-theater-zion-2-2/2025-11-24/
LOCATION:Gemeindezentrum Zion\, Kornstraße 31\, Bremen\, Bremen\, 28201\, Deutschland
CATEGORIES:Ehrenamt,Erwachsene,Kunst,Probe,Theater
ORGANIZER;CN="Vereinigte ev. Gemeinde Bremen-Neustadt":MAILTO:neustadt@kirche-bremen.de
END:VEVENT
BEGIN:VEVENT
DTSTART;TZID=Europe/Berlin:20251124T140000
DTEND;TZID=Europe/Berlin:20251124T170000
DTSTAMP:20260423T005834
CREATED:20250728T185321Z
LAST-MODIFIED:20260402T120721Z
UID:10014868-1763992800-1764003600@gemeinde-neustadt.de
SUMMARY:Räuber-Rommé mit Lydia | Zion
DESCRIPTION:Immer montags laden wir ab 14:00 Uhr in das Gemeindezentrum Zion zum Spielen von Gesellschafts-Spielen ein. Wir fangen an mit Rommé oder Canasta\, Mensch-ärgere-dich-nicht oder andere Spiele sind aber auch möglich. Jede und jeder ist willkommen. Die Treffen finden im Kaminraum statt. Haben Sie Fragen\, rufen Sie gerne bei Pastor Lieberum an: 0421-59769521.
URL:https://gemeinde-neustadt.de/event/lesung-von-astrid-goltz-zion-2-2/2025-11-24/
LOCATION:Gemeindezentrum Zion\, Kornstraße 31\, Bremen\, Bremen\, 28201\, Deutschland
CATEGORIES:Erwachsene,Lesung,Musik,Vortrag
ORGANIZER;CN="Vereinigte ev. Gemeinde Bremen-Neustadt":MAILTO:neustadt@kirche-bremen.de
END:VEVENT
END:VCALENDAR