BEGIN:VCALENDAR
VERSION:2.0
PRODID:-//Gemeinde Bremen-Neustadt - ECPv6.14.2//NONSGML v1.0//EN
CALSCALE:GREGORIAN
METHOD:PUBLISH
X-WR-CALNAME:Gemeinde Bremen-Neustadt
X-ORIGINAL-URL:https://gemeinde-neustadt.de
X-WR-CALDESC:Veranstaltungen für Gemeinde Bremen-Neustadt
REFRESH-INTERVAL;VALUE=DURATION:PT1H
X-Robots-Tag:noindex
X-PUBLISHED-TTL:PT1H
BEGIN:VTIMEZONE
TZID:Europe/Berlin
BEGIN:DAYLIGHT
TZOFFSETFROM:+0100
TZOFFSETTO:+0200
TZNAME:CEST
DTSTART:20250330T010000
END:DAYLIGHT
BEGIN:STANDARD
TZOFFSETFROM:+0200
TZOFFSETTO:+0100
TZNAME:CET
DTSTART:20251026T010000
END:STANDARD
END:VTIMEZONE
BEGIN:VTIMEZONE
TZID:UTC
BEGIN:STANDARD
TZOFFSETFROM:+0000
TZOFFSETTO:+0000
TZNAME:UTC
DTSTART:20250101T000000
END:STANDARD
END:VTIMEZONE
BEGIN:VEVENT
DTSTART;TZID=Europe/Berlin:20251103T193000
DTEND;TZID=Europe/Berlin:20251103T220000
DTSTAMP:20260423T041517
CREATED:20250729T130725Z
LAST-MODIFIED:20260402T120650Z
UID:10015116-1762198200-1762207200@gemeinde-neustadt.de
SUMMARY:"Theater der Ziongemeinde" | Zion
DESCRIPTION:Jeden Montag probt das „Theater der Zionsgemeinde“ im Theatersaal in Zion. Alle zwei Jahre gibt es eine Aufführung mit eigenen Stücken. Das Zion-Theater ist eine unserer ältesten Gemeindegruppen und wurde Ende der 50er Jahre vom damaligen Pastor Gerlach gegründet. Haben Sie Interesse an der Arbeit\, melden Sie sich bitte bei Robert Schlemmer: 0421-531860.
URL:https://gemeinde-neustadt.de/event/probe-zion-theater-zion-2-2/2025-11-03/
LOCATION:Gemeindezentrum Zion\, Kornstraße 31\, Bremen\, Bremen\, 28201\, Deutschland
CATEGORIES:Ehrenamt,Erwachsene,Kunst,Probe,Theater
ORGANIZER;CN="Vereinigte ev. Gemeinde Bremen-Neustadt":MAILTO:neustadt@kirche-bremen.de
END:VEVENT
BEGIN:VEVENT
DTSTART;TZID=Europe/Berlin:20251103T140000
DTEND;TZID=Europe/Berlin:20251103T170000
DTSTAMP:20260423T041517
CREATED:20250728T185321Z
LAST-MODIFIED:20260402T120721Z
UID:10014865-1762178400-1762189200@gemeinde-neustadt.de
SUMMARY:Räuber-Rommé mit Lydia | Zion
DESCRIPTION:Immer montags laden wir ab 14:00 Uhr in das Gemeindezentrum Zion zum Spielen von Gesellschafts-Spielen ein. Wir fangen an mit Rommé oder Canasta\, Mensch-ärgere-dich-nicht oder andere Spiele sind aber auch möglich. Jede und jeder ist willkommen. Die Treffen finden im Kaminraum statt. Haben Sie Fragen\, rufen Sie gerne bei Pastor Lieberum an: 0421-59769521.
URL:https://gemeinde-neustadt.de/event/lesung-von-astrid-goltz-zion-2-2/2025-11-03/
LOCATION:Gemeindezentrum Zion\, Kornstraße 31\, Bremen\, Bremen\, 28201\, Deutschland
CATEGORIES:Erwachsene,Lesung,Musik,Vortrag
ORGANIZER;CN="Vereinigte ev. Gemeinde Bremen-Neustadt":MAILTO:neustadt@kirche-bremen.de
END:VEVENT
BEGIN:VEVENT
DTSTART;TZID=Europe/Berlin:20251031T170000
DTEND;TZID=Europe/Berlin:20251031T210000
DTSTAMP:20260423T041517
CREATED:20250728T191512Z
LAST-MODIFIED:20251227T161630Z
UID:10014939-1761930000-1761944400@gemeinde-neustadt.de
SUMMARY:Internationales Musikcafé | Zion
DESCRIPTION:Jeden Freitag trifft sich ab 17:00 Uhr das „Internationale Musikcafé Bremen“ im Theatersaal im Gemeindezentrum Zion. Musikinteressierte aller Länder sind herzlich willkommen – kommt einfach dazu. Neben dem gemeinsamen Musizieren gibt es Kaffee\, Tee und frisch gebackenen Kuchen! Aus den Proben heraus entwickeln sich immer wieder Konzerte.
URL:https://gemeinde-neustadt.de/event/internationales-musikcafe-i-zion-2-3-2/2025-10-31/
LOCATION:Gemeindezentrum Zion\, Kornstraße 31\, Bremen\, Bremen\, 28201\, Deutschland
CATEGORIES:Erwachsene,Kirchenmusik,Konzerte,Kunst
ORGANIZER;CN="Vereinigte ev. Gemeinde Bremen-Neustadt":MAILTO:neustadt@kirche-bremen.de
END:VEVENT
BEGIN:VEVENT
DTSTART;TZID=UTC:20251030T190000
DTEND;TZID=UTC:20251030T210000
DTSTAMP:20260423T041517
CREATED:20250729T130421Z
LAST-MODIFIED:20251229T140726Z
UID:10014978-1761850800-1761858000@gemeinde-neustadt.de
SUMMARY:Suchtkrankenhilfe | Zion
DESCRIPTION:Jeden Donnerstag treffen sich Menschen im Rahmen der Neustädter Suchtkrankenhilfe im Gemeindezentrum Zion (im Kaminraum). Interessierte sind herzlich eingeladen vorbeizukommen.
URL:https://gemeinde-neustadt.de/event/suchtkrankenhilfe-zion-2-2/2025-10-30/
LOCATION:Gemeindezentrum Zion\, Kornstraße 31\, Bremen\, Bremen\, 28201\, Deutschland
CATEGORIES:Erwachsene,Sitzung
ORGANIZER;CN="Vereinigte ev. Gemeinde Bremen-Neustadt":MAILTO:neustadt@kirche-bremen.de
END:VEVENT
BEGIN:VEVENT
DTSTART;TZID=Europe/Berlin:20251027T193000
DTEND;TZID=Europe/Berlin:20251027T220000
DTSTAMP:20260423T041517
CREATED:20250729T130725Z
LAST-MODIFIED:20260402T120650Z
UID:10015115-1761593400-1761602400@gemeinde-neustadt.de
SUMMARY:"Theater der Ziongemeinde" | Zion
DESCRIPTION:Jeden Montag probt das „Theater der Zionsgemeinde“ im Theatersaal in Zion. Alle zwei Jahre gibt es eine Aufführung mit eigenen Stücken. Das Zion-Theater ist eine unserer ältesten Gemeindegruppen und wurde Ende der 50er Jahre vom damaligen Pastor Gerlach gegründet. Haben Sie Interesse an der Arbeit\, melden Sie sich bitte bei Robert Schlemmer: 0421-531860.
URL:https://gemeinde-neustadt.de/event/probe-zion-theater-zion-2-2/2025-10-27/
LOCATION:Gemeindezentrum Zion\, Kornstraße 31\, Bremen\, Bremen\, 28201\, Deutschland
CATEGORIES:Ehrenamt,Erwachsene,Kunst,Probe,Theater
ORGANIZER;CN="Vereinigte ev. Gemeinde Bremen-Neustadt":MAILTO:neustadt@kirche-bremen.de
END:VEVENT
BEGIN:VEVENT
DTSTART;TZID=Europe/Berlin:20251027T140000
DTEND;TZID=Europe/Berlin:20251027T170000
DTSTAMP:20260423T041517
CREATED:20250728T185321Z
LAST-MODIFIED:20260402T120721Z
UID:10014864-1761573600-1761584400@gemeinde-neustadt.de
SUMMARY:Räuber-Rommé mit Lydia | Zion
DESCRIPTION:Immer montags laden wir ab 14:00 Uhr in das Gemeindezentrum Zion zum Spielen von Gesellschafts-Spielen ein. Wir fangen an mit Rommé oder Canasta\, Mensch-ärgere-dich-nicht oder andere Spiele sind aber auch möglich. Jede und jeder ist willkommen. Die Treffen finden im Kaminraum statt. Haben Sie Fragen\, rufen Sie gerne bei Pastor Lieberum an: 0421-59769521.
URL:https://gemeinde-neustadt.de/event/lesung-von-astrid-goltz-zion-2-2/2025-10-27/
LOCATION:Gemeindezentrum Zion\, Kornstraße 31\, Bremen\, Bremen\, 28201\, Deutschland
CATEGORIES:Erwachsene,Lesung,Musik,Vortrag
ORGANIZER;CN="Vereinigte ev. Gemeinde Bremen-Neustadt":MAILTO:neustadt@kirche-bremen.de
END:VEVENT
BEGIN:VEVENT
DTSTART;TZID=Europe/Berlin:20251024T170000
DTEND;TZID=Europe/Berlin:20251024T210000
DTSTAMP:20260423T041517
CREATED:20250728T191512Z
LAST-MODIFIED:20251227T161630Z
UID:10014938-1761325200-1761339600@gemeinde-neustadt.de
SUMMARY:Internationales Musikcafé | Zion
DESCRIPTION:Jeden Freitag trifft sich ab 17:00 Uhr das „Internationale Musikcafé Bremen“ im Theatersaal im Gemeindezentrum Zion. Musikinteressierte aller Länder sind herzlich willkommen – kommt einfach dazu. Neben dem gemeinsamen Musizieren gibt es Kaffee\, Tee und frisch gebackenen Kuchen! Aus den Proben heraus entwickeln sich immer wieder Konzerte.
URL:https://gemeinde-neustadt.de/event/internationales-musikcafe-i-zion-2-3-2/2025-10-24/
LOCATION:Gemeindezentrum Zion\, Kornstraße 31\, Bremen\, Bremen\, 28201\, Deutschland
CATEGORIES:Erwachsene,Kirchenmusik,Konzerte,Kunst
ORGANIZER;CN="Vereinigte ev. Gemeinde Bremen-Neustadt":MAILTO:neustadt@kirche-bremen.de
END:VEVENT
BEGIN:VEVENT
DTSTART;TZID=UTC:20251023T190000
DTEND;TZID=UTC:20251023T210000
DTSTAMP:20260423T041517
CREATED:20250729T130421Z
LAST-MODIFIED:20251229T140726Z
UID:10014977-1761246000-1761253200@gemeinde-neustadt.de
SUMMARY:Suchtkrankenhilfe | Zion
DESCRIPTION:Jeden Donnerstag treffen sich Menschen im Rahmen der Neustädter Suchtkrankenhilfe im Gemeindezentrum Zion (im Kaminraum). Interessierte sind herzlich eingeladen vorbeizukommen.
URL:https://gemeinde-neustadt.de/event/suchtkrankenhilfe-zion-2-2/2025-10-23/
LOCATION:Gemeindezentrum Zion\, Kornstraße 31\, Bremen\, Bremen\, 28201\, Deutschland
CATEGORIES:Erwachsene,Sitzung
ORGANIZER;CN="Vereinigte ev. Gemeinde Bremen-Neustadt":MAILTO:neustadt@kirche-bremen.de
END:VEVENT
BEGIN:VEVENT
DTSTART;TZID=Europe/Berlin:20251020T193000
DTEND;TZID=Europe/Berlin:20251020T220000
DTSTAMP:20260423T041517
CREATED:20250729T130725Z
LAST-MODIFIED:20260402T120650Z
UID:10015114-1760988600-1760997600@gemeinde-neustadt.de
SUMMARY:"Theater der Ziongemeinde" | Zion
DESCRIPTION:Jeden Montag probt das „Theater der Zionsgemeinde“ im Theatersaal in Zion. Alle zwei Jahre gibt es eine Aufführung mit eigenen Stücken. Das Zion-Theater ist eine unserer ältesten Gemeindegruppen und wurde Ende der 50er Jahre vom damaligen Pastor Gerlach gegründet. Haben Sie Interesse an der Arbeit\, melden Sie sich bitte bei Robert Schlemmer: 0421-531860.
URL:https://gemeinde-neustadt.de/event/probe-zion-theater-zion-2-2/2025-10-20/
LOCATION:Gemeindezentrum Zion\, Kornstraße 31\, Bremen\, Bremen\, 28201\, Deutschland
CATEGORIES:Ehrenamt,Erwachsene,Kunst,Probe,Theater
ORGANIZER;CN="Vereinigte ev. Gemeinde Bremen-Neustadt":MAILTO:neustadt@kirche-bremen.de
END:VEVENT
BEGIN:VEVENT
DTSTART;TZID=Europe/Berlin:20251020T140000
DTEND;TZID=Europe/Berlin:20251020T170000
DTSTAMP:20260423T041517
CREATED:20250728T185321Z
LAST-MODIFIED:20260402T120721Z
UID:10014863-1760968800-1760979600@gemeinde-neustadt.de
SUMMARY:Räuber-Rommé mit Lydia | Zion
DESCRIPTION:Immer montags laden wir ab 14:00 Uhr in das Gemeindezentrum Zion zum Spielen von Gesellschafts-Spielen ein. Wir fangen an mit Rommé oder Canasta\, Mensch-ärgere-dich-nicht oder andere Spiele sind aber auch möglich. Jede und jeder ist willkommen. Die Treffen finden im Kaminraum statt. Haben Sie Fragen\, rufen Sie gerne bei Pastor Lieberum an: 0421-59769521.
URL:https://gemeinde-neustadt.de/event/lesung-von-astrid-goltz-zion-2-2/2025-10-20/
LOCATION:Gemeindezentrum Zion\, Kornstraße 31\, Bremen\, Bremen\, 28201\, Deutschland
CATEGORIES:Erwachsene,Lesung,Musik,Vortrag
ORGANIZER;CN="Vereinigte ev. Gemeinde Bremen-Neustadt":MAILTO:neustadt@kirche-bremen.de
END:VEVENT
BEGIN:VEVENT
DTSTART;TZID=Europe/Berlin:20251017T170000
DTEND;TZID=Europe/Berlin:20251017T210000
DTSTAMP:20260423T041517
CREATED:20250728T191512Z
LAST-MODIFIED:20251227T161630Z
UID:10014937-1760720400-1760734800@gemeinde-neustadt.de
SUMMARY:Internationales Musikcafé | Zion
DESCRIPTION:Jeden Freitag trifft sich ab 17:00 Uhr das „Internationale Musikcafé Bremen“ im Theatersaal im Gemeindezentrum Zion. Musikinteressierte aller Länder sind herzlich willkommen – kommt einfach dazu. Neben dem gemeinsamen Musizieren gibt es Kaffee\, Tee und frisch gebackenen Kuchen! Aus den Proben heraus entwickeln sich immer wieder Konzerte.
URL:https://gemeinde-neustadt.de/event/internationales-musikcafe-i-zion-2-3-2/2025-10-17/
LOCATION:Gemeindezentrum Zion\, Kornstraße 31\, Bremen\, Bremen\, 28201\, Deutschland
CATEGORIES:Erwachsene,Kirchenmusik,Konzerte,Kunst
ORGANIZER;CN="Vereinigte ev. Gemeinde Bremen-Neustadt":MAILTO:neustadt@kirche-bremen.de
END:VEVENT
BEGIN:VEVENT
DTSTART;TZID=UTC:20251016T190000
DTEND;TZID=UTC:20251016T210000
DTSTAMP:20260423T041517
CREATED:20250729T130421Z
LAST-MODIFIED:20251229T140726Z
UID:10014976-1760641200-1760648400@gemeinde-neustadt.de
SUMMARY:Suchtkrankenhilfe | Zion
DESCRIPTION:Jeden Donnerstag treffen sich Menschen im Rahmen der Neustädter Suchtkrankenhilfe im Gemeindezentrum Zion (im Kaminraum). Interessierte sind herzlich eingeladen vorbeizukommen.
URL:https://gemeinde-neustadt.de/event/suchtkrankenhilfe-zion-2-2/2025-10-16/
LOCATION:Gemeindezentrum Zion\, Kornstraße 31\, Bremen\, Bremen\, 28201\, Deutschland
CATEGORIES:Erwachsene,Sitzung
ORGANIZER;CN="Vereinigte ev. Gemeinde Bremen-Neustadt":MAILTO:neustadt@kirche-bremen.de
END:VEVENT
BEGIN:VEVENT
DTSTART;TZID=Europe/Berlin:20251013T193000
DTEND;TZID=Europe/Berlin:20251013T220000
DTSTAMP:20260423T041517
CREATED:20250729T130725Z
LAST-MODIFIED:20260402T120650Z
UID:10015113-1760383800-1760392800@gemeinde-neustadt.de
SUMMARY:"Theater der Ziongemeinde" | Zion
DESCRIPTION:Jeden Montag probt das „Theater der Zionsgemeinde“ im Theatersaal in Zion. Alle zwei Jahre gibt es eine Aufführung mit eigenen Stücken. Das Zion-Theater ist eine unserer ältesten Gemeindegruppen und wurde Ende der 50er Jahre vom damaligen Pastor Gerlach gegründet. Haben Sie Interesse an der Arbeit\, melden Sie sich bitte bei Robert Schlemmer: 0421-531860.
URL:https://gemeinde-neustadt.de/event/probe-zion-theater-zion-2-2/2025-10-13/
LOCATION:Gemeindezentrum Zion\, Kornstraße 31\, Bremen\, Bremen\, 28201\, Deutschland
CATEGORIES:Ehrenamt,Erwachsene,Kunst,Probe,Theater
ORGANIZER;CN="Vereinigte ev. Gemeinde Bremen-Neustadt":MAILTO:neustadt@kirche-bremen.de
END:VEVENT
BEGIN:VEVENT
DTSTART;TZID=Europe/Berlin:20251013T140000
DTEND;TZID=Europe/Berlin:20251013T170000
DTSTAMP:20260423T041517
CREATED:20250728T185321Z
LAST-MODIFIED:20260402T120721Z
UID:10014862-1760364000-1760374800@gemeinde-neustadt.de
SUMMARY:Räuber-Rommé mit Lydia | Zion
DESCRIPTION:Immer montags laden wir ab 14:00 Uhr in das Gemeindezentrum Zion zum Spielen von Gesellschafts-Spielen ein. Wir fangen an mit Rommé oder Canasta\, Mensch-ärgere-dich-nicht oder andere Spiele sind aber auch möglich. Jede und jeder ist willkommen. Die Treffen finden im Kaminraum statt. Haben Sie Fragen\, rufen Sie gerne bei Pastor Lieberum an: 0421-59769521.
URL:https://gemeinde-neustadt.de/event/lesung-von-astrid-goltz-zion-2-2/2025-10-13/
LOCATION:Gemeindezentrum Zion\, Kornstraße 31\, Bremen\, Bremen\, 28201\, Deutschland
CATEGORIES:Erwachsene,Lesung,Musik,Vortrag
ORGANIZER;CN="Vereinigte ev. Gemeinde Bremen-Neustadt":MAILTO:neustadt@kirche-bremen.de
END:VEVENT
BEGIN:VEVENT
DTSTART;TZID=Europe/Berlin:20251010T170000
DTEND;TZID=Europe/Berlin:20251010T210000
DTSTAMP:20260423T041517
CREATED:20250728T191512Z
LAST-MODIFIED:20251227T161630Z
UID:10014936-1760115600-1760130000@gemeinde-neustadt.de
SUMMARY:Internationales Musikcafé | Zion
DESCRIPTION:Jeden Freitag trifft sich ab 17:00 Uhr das „Internationale Musikcafé Bremen“ im Theatersaal im Gemeindezentrum Zion. Musikinteressierte aller Länder sind herzlich willkommen – kommt einfach dazu. Neben dem gemeinsamen Musizieren gibt es Kaffee\, Tee und frisch gebackenen Kuchen! Aus den Proben heraus entwickeln sich immer wieder Konzerte.
URL:https://gemeinde-neustadt.de/event/internationales-musikcafe-i-zion-2-3-2/2025-10-10/
LOCATION:Gemeindezentrum Zion\, Kornstraße 31\, Bremen\, Bremen\, 28201\, Deutschland
CATEGORIES:Erwachsene,Kirchenmusik,Konzerte,Kunst
ORGANIZER;CN="Vereinigte ev. Gemeinde Bremen-Neustadt":MAILTO:neustadt@kirche-bremen.de
END:VEVENT
BEGIN:VEVENT
DTSTART;TZID=UTC:20251009T190000
DTEND;TZID=UTC:20251009T210000
DTSTAMP:20260423T041517
CREATED:20250729T130421Z
LAST-MODIFIED:20251229T140726Z
UID:10014975-1760036400-1760043600@gemeinde-neustadt.de
SUMMARY:Suchtkrankenhilfe | Zion
DESCRIPTION:Jeden Donnerstag treffen sich Menschen im Rahmen der Neustädter Suchtkrankenhilfe im Gemeindezentrum Zion (im Kaminraum). Interessierte sind herzlich eingeladen vorbeizukommen.
URL:https://gemeinde-neustadt.de/event/suchtkrankenhilfe-zion-2-2/2025-10-09/
LOCATION:Gemeindezentrum Zion\, Kornstraße 31\, Bremen\, Bremen\, 28201\, Deutschland
CATEGORIES:Erwachsene,Sitzung
ORGANIZER;CN="Vereinigte ev. Gemeinde Bremen-Neustadt":MAILTO:neustadt@kirche-bremen.de
END:VEVENT
BEGIN:VEVENT
DTSTART;TZID=Europe/Berlin:20251006T193000
DTEND;TZID=Europe/Berlin:20251006T220000
DTSTAMP:20260423T041517
CREATED:20250729T130725Z
LAST-MODIFIED:20260402T120650Z
UID:10015112-1759779000-1759788000@gemeinde-neustadt.de
SUMMARY:"Theater der Ziongemeinde" | Zion
DESCRIPTION:Jeden Montag probt das „Theater der Zionsgemeinde“ im Theatersaal in Zion. Alle zwei Jahre gibt es eine Aufführung mit eigenen Stücken. Das Zion-Theater ist eine unserer ältesten Gemeindegruppen und wurde Ende der 50er Jahre vom damaligen Pastor Gerlach gegründet. Haben Sie Interesse an der Arbeit\, melden Sie sich bitte bei Robert Schlemmer: 0421-531860.
URL:https://gemeinde-neustadt.de/event/probe-zion-theater-zion-2-2/2025-10-06/
LOCATION:Gemeindezentrum Zion\, Kornstraße 31\, Bremen\, Bremen\, 28201\, Deutschland
CATEGORIES:Ehrenamt,Erwachsene,Kunst,Probe,Theater
ORGANIZER;CN="Vereinigte ev. Gemeinde Bremen-Neustadt":MAILTO:neustadt@kirche-bremen.de
END:VEVENT
BEGIN:VEVENT
DTSTART;TZID=Europe/Berlin:20251006T140000
DTEND;TZID=Europe/Berlin:20251006T170000
DTSTAMP:20260423T041517
CREATED:20250728T185321Z
LAST-MODIFIED:20260402T120721Z
UID:10014861-1759759200-1759770000@gemeinde-neustadt.de
SUMMARY:Räuber-Rommé mit Lydia | Zion
DESCRIPTION:Immer montags laden wir ab 14:00 Uhr in das Gemeindezentrum Zion zum Spielen von Gesellschafts-Spielen ein. Wir fangen an mit Rommé oder Canasta\, Mensch-ärgere-dich-nicht oder andere Spiele sind aber auch möglich. Jede und jeder ist willkommen. Die Treffen finden im Kaminraum statt. Haben Sie Fragen\, rufen Sie gerne bei Pastor Lieberum an: 0421-59769521.
URL:https://gemeinde-neustadt.de/event/lesung-von-astrid-goltz-zion-2-2/2025-10-06/
LOCATION:Gemeindezentrum Zion\, Kornstraße 31\, Bremen\, Bremen\, 28201\, Deutschland
CATEGORIES:Erwachsene,Lesung,Musik,Vortrag
ORGANIZER;CN="Vereinigte ev. Gemeinde Bremen-Neustadt":MAILTO:neustadt@kirche-bremen.de
END:VEVENT
BEGIN:VEVENT
DTSTART;TZID=Europe/Berlin:20251003T170000
DTEND;TZID=Europe/Berlin:20251003T210000
DTSTAMP:20260423T041517
CREATED:20250728T191512Z
LAST-MODIFIED:20251227T161630Z
UID:10014935-1759510800-1759525200@gemeinde-neustadt.de
SUMMARY:Internationales Musikcafé | Zion
DESCRIPTION:Jeden Freitag trifft sich ab 17:00 Uhr das „Internationale Musikcafé Bremen“ im Theatersaal im Gemeindezentrum Zion. Musikinteressierte aller Länder sind herzlich willkommen – kommt einfach dazu. Neben dem gemeinsamen Musizieren gibt es Kaffee\, Tee und frisch gebackenen Kuchen! Aus den Proben heraus entwickeln sich immer wieder Konzerte.
URL:https://gemeinde-neustadt.de/event/internationales-musikcafe-i-zion-2-3-2/2025-10-03/
LOCATION:Gemeindezentrum Zion\, Kornstraße 31\, Bremen\, Bremen\, 28201\, Deutschland
CATEGORIES:Erwachsene,Kirchenmusik,Konzerte,Kunst
ORGANIZER;CN="Vereinigte ev. Gemeinde Bremen-Neustadt":MAILTO:neustadt@kirche-bremen.de
END:VEVENT
BEGIN:VEVENT
DTSTART;TZID=UTC:20251002T190000
DTEND;TZID=UTC:20251002T210000
DTSTAMP:20260423T041517
CREATED:20250729T130421Z
LAST-MODIFIED:20251229T140726Z
UID:10014974-1759431600-1759438800@gemeinde-neustadt.de
SUMMARY:Suchtkrankenhilfe | Zion
DESCRIPTION:Jeden Donnerstag treffen sich Menschen im Rahmen der Neustädter Suchtkrankenhilfe im Gemeindezentrum Zion (im Kaminraum). Interessierte sind herzlich eingeladen vorbeizukommen.
URL:https://gemeinde-neustadt.de/event/suchtkrankenhilfe-zion-2-2/2025-10-02/
LOCATION:Gemeindezentrum Zion\, Kornstraße 31\, Bremen\, Bremen\, 28201\, Deutschland
CATEGORIES:Erwachsene,Sitzung
ORGANIZER;CN="Vereinigte ev. Gemeinde Bremen-Neustadt":MAILTO:neustadt@kirche-bremen.de
END:VEVENT
BEGIN:VEVENT
DTSTART;TZID=Europe/Berlin:20250929T193000
DTEND;TZID=Europe/Berlin:20250929T220000
DTSTAMP:20260423T041517
CREATED:20250729T130725Z
LAST-MODIFIED:20260402T120650Z
UID:10015111-1759174200-1759183200@gemeinde-neustadt.de
SUMMARY:"Theater der Ziongemeinde" | Zion
DESCRIPTION:Jeden Montag probt das „Theater der Zionsgemeinde“ im Theatersaal in Zion. Alle zwei Jahre gibt es eine Aufführung mit eigenen Stücken. Das Zion-Theater ist eine unserer ältesten Gemeindegruppen und wurde Ende der 50er Jahre vom damaligen Pastor Gerlach gegründet. Haben Sie Interesse an der Arbeit\, melden Sie sich bitte bei Robert Schlemmer: 0421-531860.
URL:https://gemeinde-neustadt.de/event/probe-zion-theater-zion-2-2/2025-09-29/
LOCATION:Gemeindezentrum Zion\, Kornstraße 31\, Bremen\, Bremen\, 28201\, Deutschland
CATEGORIES:Ehrenamt,Erwachsene,Kunst,Probe,Theater
ORGANIZER;CN="Vereinigte ev. Gemeinde Bremen-Neustadt":MAILTO:neustadt@kirche-bremen.de
END:VEVENT
BEGIN:VEVENT
DTSTART;TZID=Europe/Berlin:20250929T140000
DTEND;TZID=Europe/Berlin:20250929T170000
DTSTAMP:20260423T041517
CREATED:20250728T185321Z
LAST-MODIFIED:20260402T120721Z
UID:10014860-1759154400-1759165200@gemeinde-neustadt.de
SUMMARY:Räuber-Rommé mit Lydia | Zion
DESCRIPTION:Immer montags laden wir ab 14:00 Uhr in das Gemeindezentrum Zion zum Spielen von Gesellschafts-Spielen ein. Wir fangen an mit Rommé oder Canasta\, Mensch-ärgere-dich-nicht oder andere Spiele sind aber auch möglich. Jede und jeder ist willkommen. Die Treffen finden im Kaminraum statt. Haben Sie Fragen\, rufen Sie gerne bei Pastor Lieberum an: 0421-59769521.
URL:https://gemeinde-neustadt.de/event/lesung-von-astrid-goltz-zion-2-2/2025-09-29/
LOCATION:Gemeindezentrum Zion\, Kornstraße 31\, Bremen\, Bremen\, 28201\, Deutschland
CATEGORIES:Erwachsene,Lesung,Musik,Vortrag
ORGANIZER;CN="Vereinigte ev. Gemeinde Bremen-Neustadt":MAILTO:neustadt@kirche-bremen.de
END:VEVENT
BEGIN:VEVENT
DTSTART;TZID=Europe/Berlin:20250926T170000
DTEND;TZID=Europe/Berlin:20250926T210000
DTSTAMP:20260423T041517
CREATED:20250728T191512Z
LAST-MODIFIED:20251227T161630Z
UID:10014934-1758906000-1758920400@gemeinde-neustadt.de
SUMMARY:Internationales Musikcafé | Zion
DESCRIPTION:Jeden Freitag trifft sich ab 17:00 Uhr das „Internationale Musikcafé Bremen“ im Theatersaal im Gemeindezentrum Zion. Musikinteressierte aller Länder sind herzlich willkommen – kommt einfach dazu. Neben dem gemeinsamen Musizieren gibt es Kaffee\, Tee und frisch gebackenen Kuchen! Aus den Proben heraus entwickeln sich immer wieder Konzerte.
URL:https://gemeinde-neustadt.de/event/internationales-musikcafe-i-zion-2-3-2/2025-09-26/
LOCATION:Gemeindezentrum Zion\, Kornstraße 31\, Bremen\, Bremen\, 28201\, Deutschland
CATEGORIES:Erwachsene,Kirchenmusik,Konzerte,Kunst
ORGANIZER;CN="Vereinigte ev. Gemeinde Bremen-Neustadt":MAILTO:neustadt@kirche-bremen.de
END:VEVENT
BEGIN:VEVENT
DTSTART;TZID=UTC:20250925T190000
DTEND;TZID=UTC:20250925T210000
DTSTAMP:20260423T041517
CREATED:20250729T130421Z
LAST-MODIFIED:20251229T140726Z
UID:10014973-1758826800-1758834000@gemeinde-neustadt.de
SUMMARY:Suchtkrankenhilfe | Zion
DESCRIPTION:Jeden Donnerstag treffen sich Menschen im Rahmen der Neustädter Suchtkrankenhilfe im Gemeindezentrum Zion (im Kaminraum). Interessierte sind herzlich eingeladen vorbeizukommen.
URL:https://gemeinde-neustadt.de/event/suchtkrankenhilfe-zion-2-2/2025-09-25/
LOCATION:Gemeindezentrum Zion\, Kornstraße 31\, Bremen\, Bremen\, 28201\, Deutschland
CATEGORIES:Erwachsene,Sitzung
ORGANIZER;CN="Vereinigte ev. Gemeinde Bremen-Neustadt":MAILTO:neustadt@kirche-bremen.de
END:VEVENT
BEGIN:VEVENT
DTSTART;TZID=Europe/Berlin:20250922T193000
DTEND;TZID=Europe/Berlin:20250922T220000
DTSTAMP:20260423T041517
CREATED:20250729T130725Z
LAST-MODIFIED:20260402T120650Z
UID:10016276-1758569400-1758578400@gemeinde-neustadt.de
SUMMARY:"Theater der Ziongemeinde" | Zion
DESCRIPTION:Jeden Montag probt das „Theater der Zionsgemeinde“ im Theatersaal in Zion. Alle zwei Jahre gibt es eine Aufführung mit eigenen Stücken. Das Zion-Theater ist eine unserer ältesten Gemeindegruppen und wurde Ende der 50er Jahre vom damaligen Pastor Gerlach gegründet. Haben Sie Interesse an der Arbeit\, melden Sie sich bitte bei Robert Schlemmer: 0421-531860.
URL:https://gemeinde-neustadt.de/event/probe-zion-theater-zion-2-2/2025-09-22/
LOCATION:Gemeindezentrum Zion\, Kornstraße 31\, Bremen\, Bremen\, 28201\, Deutschland
CATEGORIES:Ehrenamt,Erwachsene,Kunst,Probe,Theater
ORGANIZER;CN="Vereinigte ev. Gemeinde Bremen-Neustadt":MAILTO:neustadt@kirche-bremen.de
END:VEVENT
BEGIN:VEVENT
DTSTART;TZID=Europe/Berlin:20250922T140000
DTEND;TZID=Europe/Berlin:20250922T170000
DTSTAMP:20260423T041517
CREATED:20250728T185321Z
LAST-MODIFIED:20260402T120721Z
UID:10014859-1758549600-1758560400@gemeinde-neustadt.de
SUMMARY:Räuber-Rommé mit Lydia | Zion
DESCRIPTION:Immer montags laden wir ab 14:00 Uhr in das Gemeindezentrum Zion zum Spielen von Gesellschafts-Spielen ein. Wir fangen an mit Rommé oder Canasta\, Mensch-ärgere-dich-nicht oder andere Spiele sind aber auch möglich. Jede und jeder ist willkommen. Die Treffen finden im Kaminraum statt. Haben Sie Fragen\, rufen Sie gerne bei Pastor Lieberum an: 0421-59769521.
URL:https://gemeinde-neustadt.de/event/lesung-von-astrid-goltz-zion-2-2/2025-09-22/
LOCATION:Gemeindezentrum Zion\, Kornstraße 31\, Bremen\, Bremen\, 28201\, Deutschland
CATEGORIES:Erwachsene,Lesung,Musik,Vortrag
ORGANIZER;CN="Vereinigte ev. Gemeinde Bremen-Neustadt":MAILTO:neustadt@kirche-bremen.de
END:VEVENT
BEGIN:VEVENT
DTSTART;TZID=Europe/Berlin:20250919T170000
DTEND;TZID=Europe/Berlin:20250919T210000
DTSTAMP:20260423T041517
CREATED:20250728T191512Z
LAST-MODIFIED:20251227T161630Z
UID:10014933-1758301200-1758315600@gemeinde-neustadt.de
SUMMARY:Internationales Musikcafé | Zion
DESCRIPTION:Jeden Freitag trifft sich ab 17:00 Uhr das „Internationale Musikcafé Bremen“ im Theatersaal im Gemeindezentrum Zion. Musikinteressierte aller Länder sind herzlich willkommen – kommt einfach dazu. Neben dem gemeinsamen Musizieren gibt es Kaffee\, Tee und frisch gebackenen Kuchen! Aus den Proben heraus entwickeln sich immer wieder Konzerte.
URL:https://gemeinde-neustadt.de/event/internationales-musikcafe-i-zion-2-3-2/2025-09-19/
LOCATION:Gemeindezentrum Zion\, Kornstraße 31\, Bremen\, Bremen\, 28201\, Deutschland
CATEGORIES:Erwachsene,Kirchenmusik,Konzerte,Kunst
ORGANIZER;CN="Vereinigte ev. Gemeinde Bremen-Neustadt":MAILTO:neustadt@kirche-bremen.de
END:VEVENT
BEGIN:VEVENT
DTSTART;TZID=UTC:20250918T190000
DTEND;TZID=UTC:20250918T210000
DTSTAMP:20260423T041517
CREATED:20250729T130421Z
LAST-MODIFIED:20251229T140726Z
UID:10014972-1758222000-1758229200@gemeinde-neustadt.de
SUMMARY:Suchtkrankenhilfe | Zion
DESCRIPTION:Jeden Donnerstag treffen sich Menschen im Rahmen der Neustädter Suchtkrankenhilfe im Gemeindezentrum Zion (im Kaminraum). Interessierte sind herzlich eingeladen vorbeizukommen.
URL:https://gemeinde-neustadt.de/event/suchtkrankenhilfe-zion-2-2/2025-09-18/
LOCATION:Gemeindezentrum Zion\, Kornstraße 31\, Bremen\, Bremen\, 28201\, Deutschland
CATEGORIES:Erwachsene,Sitzung
ORGANIZER;CN="Vereinigte ev. Gemeinde Bremen-Neustadt":MAILTO:neustadt@kirche-bremen.de
END:VEVENT
BEGIN:VEVENT
DTSTART;TZID=Europe/Berlin:20250915T193000
DTEND;TZID=Europe/Berlin:20250915T220000
DTSTAMP:20260423T041517
CREATED:20250729T130725Z
LAST-MODIFIED:20260402T120650Z
UID:10015109-1757964600-1757973600@gemeinde-neustadt.de
SUMMARY:"Theater der Ziongemeinde" | Zion
DESCRIPTION:Jeden Montag probt das „Theater der Zionsgemeinde“ im Theatersaal in Zion. Alle zwei Jahre gibt es eine Aufführung mit eigenen Stücken. Das Zion-Theater ist eine unserer ältesten Gemeindegruppen und wurde Ende der 50er Jahre vom damaligen Pastor Gerlach gegründet. Haben Sie Interesse an der Arbeit\, melden Sie sich bitte bei Robert Schlemmer: 0421-531860.
URL:https://gemeinde-neustadt.de/event/probe-zion-theater-zion-2-2/2025-09-15/
LOCATION:Gemeindezentrum Zion\, Kornstraße 31\, Bremen\, Bremen\, 28201\, Deutschland
CATEGORIES:Ehrenamt,Erwachsene,Kunst,Probe,Theater
ORGANIZER;CN="Vereinigte ev. Gemeinde Bremen-Neustadt":MAILTO:neustadt@kirche-bremen.de
END:VEVENT
BEGIN:VEVENT
DTSTART;TZID=Europe/Berlin:20250915T140000
DTEND;TZID=Europe/Berlin:20250915T170000
DTSTAMP:20260423T041517
CREATED:20250728T185321Z
LAST-MODIFIED:20260402T120721Z
UID:10014858-1757944800-1757955600@gemeinde-neustadt.de
SUMMARY:Räuber-Rommé mit Lydia | Zion
DESCRIPTION:Immer montags laden wir ab 14:00 Uhr in das Gemeindezentrum Zion zum Spielen von Gesellschafts-Spielen ein. Wir fangen an mit Rommé oder Canasta\, Mensch-ärgere-dich-nicht oder andere Spiele sind aber auch möglich. Jede und jeder ist willkommen. Die Treffen finden im Kaminraum statt. Haben Sie Fragen\, rufen Sie gerne bei Pastor Lieberum an: 0421-59769521.
URL:https://gemeinde-neustadt.de/event/lesung-von-astrid-goltz-zion-2-2/2025-09-15/
LOCATION:Gemeindezentrum Zion\, Kornstraße 31\, Bremen\, Bremen\, 28201\, Deutschland
CATEGORIES:Erwachsene,Lesung,Musik,Vortrag
ORGANIZER;CN="Vereinigte ev. Gemeinde Bremen-Neustadt":MAILTO:neustadt@kirche-bremen.de
END:VEVENT
END:VCALENDAR