BEGIN:VCALENDAR
VERSION:2.0
PRODID:-//Gemeinde Bremen-Neustadt - ECPv6.14.2//NONSGML v1.0//EN
CALSCALE:GREGORIAN
METHOD:PUBLISH
X-WR-CALNAME:Gemeinde Bremen-Neustadt
X-ORIGINAL-URL:https://gemeinde-neustadt.de
X-WR-CALDESC:Veranstaltungen für Gemeinde Bremen-Neustadt
REFRESH-INTERVAL;VALUE=DURATION:PT1H
X-Robots-Tag:noindex
X-PUBLISHED-TTL:PT1H
BEGIN:VTIMEZONE
TZID:Europe/Berlin
BEGIN:DAYLIGHT
TZOFFSETFROM:+0100
TZOFFSETTO:+0200
TZNAME:CEST
DTSTART:20250330T010000
END:DAYLIGHT
BEGIN:STANDARD
TZOFFSETFROM:+0200
TZOFFSETTO:+0100
TZNAME:CET
DTSTART:20251026T010000
END:STANDARD
END:VTIMEZONE
BEGIN:VTIMEZONE
TZID:UTC
BEGIN:STANDARD
TZOFFSETFROM:+0000
TZOFFSETTO:+0000
TZNAME:UTC
DTSTART:20250101T000000
END:STANDARD
END:VTIMEZONE
BEGIN:VEVENT
DTSTART;TZID=Europe/Berlin:20250929T193000
DTEND;TZID=Europe/Berlin:20250929T220000
DTSTAMP:20260423T055050
CREATED:20250729T130725Z
LAST-MODIFIED:20260402T120650Z
UID:10015111-1759174200-1759183200@gemeinde-neustadt.de
SUMMARY:"Theater der Ziongemeinde" | Zion
DESCRIPTION:Jeden Montag probt das „Theater der Zionsgemeinde“ im Theatersaal in Zion. Alle zwei Jahre gibt es eine Aufführung mit eigenen Stücken. Das Zion-Theater ist eine unserer ältesten Gemeindegruppen und wurde Ende der 50er Jahre vom damaligen Pastor Gerlach gegründet. Haben Sie Interesse an der Arbeit\, melden Sie sich bitte bei Robert Schlemmer: 0421-531860.
URL:https://gemeinde-neustadt.de/event/probe-zion-theater-zion-2-2/2025-09-29/
LOCATION:Gemeindezentrum Zion\, Kornstraße 31\, Bremen\, Bremen\, 28201\, Deutschland
CATEGORIES:Ehrenamt,Erwachsene,Kunst,Probe,Theater
ORGANIZER;CN="Vereinigte ev. Gemeinde Bremen-Neustadt":MAILTO:neustadt@kirche-bremen.de
END:VEVENT
BEGIN:VEVENT
DTSTART;TZID=Europe/Berlin:20250929T140000
DTEND;TZID=Europe/Berlin:20250929T170000
DTSTAMP:20260423T055050
CREATED:20250728T185321Z
LAST-MODIFIED:20260402T120721Z
UID:10014860-1759154400-1759165200@gemeinde-neustadt.de
SUMMARY:Räuber-Rommé mit Lydia | Zion
DESCRIPTION:Immer montags laden wir ab 14:00 Uhr in das Gemeindezentrum Zion zum Spielen von Gesellschafts-Spielen ein. Wir fangen an mit Rommé oder Canasta\, Mensch-ärgere-dich-nicht oder andere Spiele sind aber auch möglich. Jede und jeder ist willkommen. Die Treffen finden im Kaminraum statt. Haben Sie Fragen\, rufen Sie gerne bei Pastor Lieberum an: 0421-59769521.
URL:https://gemeinde-neustadt.de/event/lesung-von-astrid-goltz-zion-2-2/2025-09-29/
LOCATION:Gemeindezentrum Zion\, Kornstraße 31\, Bremen\, Bremen\, 28201\, Deutschland
CATEGORIES:Erwachsene,Lesung,Musik,Vortrag
ORGANIZER;CN="Vereinigte ev. Gemeinde Bremen-Neustadt":MAILTO:neustadt@kirche-bremen.de
END:VEVENT
BEGIN:VEVENT
DTSTART;TZID=Europe/Berlin:20250926T170000
DTEND;TZID=Europe/Berlin:20250926T210000
DTSTAMP:20260423T055050
CREATED:20250728T191512Z
LAST-MODIFIED:20251227T161630Z
UID:10014934-1758906000-1758920400@gemeinde-neustadt.de
SUMMARY:Internationales Musikcafé | Zion
DESCRIPTION:Jeden Freitag trifft sich ab 17:00 Uhr das „Internationale Musikcafé Bremen“ im Theatersaal im Gemeindezentrum Zion. Musikinteressierte aller Länder sind herzlich willkommen – kommt einfach dazu. Neben dem gemeinsamen Musizieren gibt es Kaffee\, Tee und frisch gebackenen Kuchen! Aus den Proben heraus entwickeln sich immer wieder Konzerte.
URL:https://gemeinde-neustadt.de/event/internationales-musikcafe-i-zion-2-3-2/2025-09-26/
LOCATION:Gemeindezentrum Zion\, Kornstraße 31\, Bremen\, Bremen\, 28201\, Deutschland
CATEGORIES:Erwachsene,Kirchenmusik,Konzerte,Kunst
ORGANIZER;CN="Vereinigte ev. Gemeinde Bremen-Neustadt":MAILTO:neustadt@kirche-bremen.de
END:VEVENT
BEGIN:VEVENT
DTSTART;TZID=UTC:20250925T190000
DTEND;TZID=UTC:20250925T210000
DTSTAMP:20260423T055050
CREATED:20250729T130421Z
LAST-MODIFIED:20251229T140726Z
UID:10014973-1758826800-1758834000@gemeinde-neustadt.de
SUMMARY:Suchtkrankenhilfe | Zion
DESCRIPTION:Jeden Donnerstag treffen sich Menschen im Rahmen der Neustädter Suchtkrankenhilfe im Gemeindezentrum Zion (im Kaminraum). Interessierte sind herzlich eingeladen vorbeizukommen.
URL:https://gemeinde-neustadt.de/event/suchtkrankenhilfe-zion-2-2/2025-09-25/
LOCATION:Gemeindezentrum Zion\, Kornstraße 31\, Bremen\, Bremen\, 28201\, Deutschland
CATEGORIES:Erwachsene,Sitzung
ORGANIZER;CN="Vereinigte ev. Gemeinde Bremen-Neustadt":MAILTO:neustadt@kirche-bremen.de
END:VEVENT
BEGIN:VEVENT
DTSTART;TZID=Europe/Berlin:20250922T193000
DTEND;TZID=Europe/Berlin:20250922T220000
DTSTAMP:20260423T055050
CREATED:20250729T130725Z
LAST-MODIFIED:20260402T120650Z
UID:10016276-1758569400-1758578400@gemeinde-neustadt.de
SUMMARY:"Theater der Ziongemeinde" | Zion
DESCRIPTION:Jeden Montag probt das „Theater der Zionsgemeinde“ im Theatersaal in Zion. Alle zwei Jahre gibt es eine Aufführung mit eigenen Stücken. Das Zion-Theater ist eine unserer ältesten Gemeindegruppen und wurde Ende der 50er Jahre vom damaligen Pastor Gerlach gegründet. Haben Sie Interesse an der Arbeit\, melden Sie sich bitte bei Robert Schlemmer: 0421-531860.
URL:https://gemeinde-neustadt.de/event/probe-zion-theater-zion-2-2/2025-09-22/
LOCATION:Gemeindezentrum Zion\, Kornstraße 31\, Bremen\, Bremen\, 28201\, Deutschland
CATEGORIES:Ehrenamt,Erwachsene,Kunst,Probe,Theater
ORGANIZER;CN="Vereinigte ev. Gemeinde Bremen-Neustadt":MAILTO:neustadt@kirche-bremen.de
END:VEVENT
BEGIN:VEVENT
DTSTART;TZID=Europe/Berlin:20250922T140000
DTEND;TZID=Europe/Berlin:20250922T170000
DTSTAMP:20260423T055050
CREATED:20250728T185321Z
LAST-MODIFIED:20260402T120721Z
UID:10014859-1758549600-1758560400@gemeinde-neustadt.de
SUMMARY:Räuber-Rommé mit Lydia | Zion
DESCRIPTION:Immer montags laden wir ab 14:00 Uhr in das Gemeindezentrum Zion zum Spielen von Gesellschafts-Spielen ein. Wir fangen an mit Rommé oder Canasta\, Mensch-ärgere-dich-nicht oder andere Spiele sind aber auch möglich. Jede und jeder ist willkommen. Die Treffen finden im Kaminraum statt. Haben Sie Fragen\, rufen Sie gerne bei Pastor Lieberum an: 0421-59769521.
URL:https://gemeinde-neustadt.de/event/lesung-von-astrid-goltz-zion-2-2/2025-09-22/
LOCATION:Gemeindezentrum Zion\, Kornstraße 31\, Bremen\, Bremen\, 28201\, Deutschland
CATEGORIES:Erwachsene,Lesung,Musik,Vortrag
ORGANIZER;CN="Vereinigte ev. Gemeinde Bremen-Neustadt":MAILTO:neustadt@kirche-bremen.de
END:VEVENT
BEGIN:VEVENT
DTSTART;TZID=Europe/Berlin:20250919T170000
DTEND;TZID=Europe/Berlin:20250919T210000
DTSTAMP:20260423T055050
CREATED:20250728T191512Z
LAST-MODIFIED:20251227T161630Z
UID:10014933-1758301200-1758315600@gemeinde-neustadt.de
SUMMARY:Internationales Musikcafé | Zion
DESCRIPTION:Jeden Freitag trifft sich ab 17:00 Uhr das „Internationale Musikcafé Bremen“ im Theatersaal im Gemeindezentrum Zion. Musikinteressierte aller Länder sind herzlich willkommen – kommt einfach dazu. Neben dem gemeinsamen Musizieren gibt es Kaffee\, Tee und frisch gebackenen Kuchen! Aus den Proben heraus entwickeln sich immer wieder Konzerte.
URL:https://gemeinde-neustadt.de/event/internationales-musikcafe-i-zion-2-3-2/2025-09-19/
LOCATION:Gemeindezentrum Zion\, Kornstraße 31\, Bremen\, Bremen\, 28201\, Deutschland
CATEGORIES:Erwachsene,Kirchenmusik,Konzerte,Kunst
ORGANIZER;CN="Vereinigte ev. Gemeinde Bremen-Neustadt":MAILTO:neustadt@kirche-bremen.de
END:VEVENT
BEGIN:VEVENT
DTSTART;TZID=UTC:20250918T190000
DTEND;TZID=UTC:20250918T210000
DTSTAMP:20260423T055050
CREATED:20250729T130421Z
LAST-MODIFIED:20251229T140726Z
UID:10014972-1758222000-1758229200@gemeinde-neustadt.de
SUMMARY:Suchtkrankenhilfe | Zion
DESCRIPTION:Jeden Donnerstag treffen sich Menschen im Rahmen der Neustädter Suchtkrankenhilfe im Gemeindezentrum Zion (im Kaminraum). Interessierte sind herzlich eingeladen vorbeizukommen.
URL:https://gemeinde-neustadt.de/event/suchtkrankenhilfe-zion-2-2/2025-09-18/
LOCATION:Gemeindezentrum Zion\, Kornstraße 31\, Bremen\, Bremen\, 28201\, Deutschland
CATEGORIES:Erwachsene,Sitzung
ORGANIZER;CN="Vereinigte ev. Gemeinde Bremen-Neustadt":MAILTO:neustadt@kirche-bremen.de
END:VEVENT
BEGIN:VEVENT
DTSTART;TZID=Europe/Berlin:20250915T193000
DTEND;TZID=Europe/Berlin:20250915T220000
DTSTAMP:20260423T055050
CREATED:20250729T130725Z
LAST-MODIFIED:20260402T120650Z
UID:10015109-1757964600-1757973600@gemeinde-neustadt.de
SUMMARY:"Theater der Ziongemeinde" | Zion
DESCRIPTION:Jeden Montag probt das „Theater der Zionsgemeinde“ im Theatersaal in Zion. Alle zwei Jahre gibt es eine Aufführung mit eigenen Stücken. Das Zion-Theater ist eine unserer ältesten Gemeindegruppen und wurde Ende der 50er Jahre vom damaligen Pastor Gerlach gegründet. Haben Sie Interesse an der Arbeit\, melden Sie sich bitte bei Robert Schlemmer: 0421-531860.
URL:https://gemeinde-neustadt.de/event/probe-zion-theater-zion-2-2/2025-09-15/
LOCATION:Gemeindezentrum Zion\, Kornstraße 31\, Bremen\, Bremen\, 28201\, Deutschland
CATEGORIES:Ehrenamt,Erwachsene,Kunst,Probe,Theater
ORGANIZER;CN="Vereinigte ev. Gemeinde Bremen-Neustadt":MAILTO:neustadt@kirche-bremen.de
END:VEVENT
BEGIN:VEVENT
DTSTART;TZID=Europe/Berlin:20250915T140000
DTEND;TZID=Europe/Berlin:20250915T170000
DTSTAMP:20260423T055050
CREATED:20250728T185321Z
LAST-MODIFIED:20260402T120721Z
UID:10014858-1757944800-1757955600@gemeinde-neustadt.de
SUMMARY:Räuber-Rommé mit Lydia | Zion
DESCRIPTION:Immer montags laden wir ab 14:00 Uhr in das Gemeindezentrum Zion zum Spielen von Gesellschafts-Spielen ein. Wir fangen an mit Rommé oder Canasta\, Mensch-ärgere-dich-nicht oder andere Spiele sind aber auch möglich. Jede und jeder ist willkommen. Die Treffen finden im Kaminraum statt. Haben Sie Fragen\, rufen Sie gerne bei Pastor Lieberum an: 0421-59769521.
URL:https://gemeinde-neustadt.de/event/lesung-von-astrid-goltz-zion-2-2/2025-09-15/
LOCATION:Gemeindezentrum Zion\, Kornstraße 31\, Bremen\, Bremen\, 28201\, Deutschland
CATEGORIES:Erwachsene,Lesung,Musik,Vortrag
ORGANIZER;CN="Vereinigte ev. Gemeinde Bremen-Neustadt":MAILTO:neustadt@kirche-bremen.de
END:VEVENT
BEGIN:VEVENT
DTSTART;TZID=Europe/Berlin:20250912T170000
DTEND;TZID=Europe/Berlin:20250912T210000
DTSTAMP:20260423T055050
CREATED:20250728T191512Z
LAST-MODIFIED:20251227T161630Z
UID:10014932-1757696400-1757710800@gemeinde-neustadt.de
SUMMARY:Internationales Musikcafé | Zion
DESCRIPTION:Jeden Freitag trifft sich ab 17:00 Uhr das „Internationale Musikcafé Bremen“ im Theatersaal im Gemeindezentrum Zion. Musikinteressierte aller Länder sind herzlich willkommen – kommt einfach dazu. Neben dem gemeinsamen Musizieren gibt es Kaffee\, Tee und frisch gebackenen Kuchen! Aus den Proben heraus entwickeln sich immer wieder Konzerte.
URL:https://gemeinde-neustadt.de/event/internationales-musikcafe-i-zion-2-3-2/2025-09-12/
LOCATION:Gemeindezentrum Zion\, Kornstraße 31\, Bremen\, Bremen\, 28201\, Deutschland
CATEGORIES:Erwachsene,Kirchenmusik,Konzerte,Kunst
ORGANIZER;CN="Vereinigte ev. Gemeinde Bremen-Neustadt":MAILTO:neustadt@kirche-bremen.de
END:VEVENT
BEGIN:VEVENT
DTSTART;TZID=UTC:20250911T190000
DTEND;TZID=UTC:20250911T210000
DTSTAMP:20260423T055050
CREATED:20250729T130421Z
LAST-MODIFIED:20251229T140726Z
UID:10014971-1757617200-1757624400@gemeinde-neustadt.de
SUMMARY:Suchtkrankenhilfe | Zion
DESCRIPTION:Jeden Donnerstag treffen sich Menschen im Rahmen der Neustädter Suchtkrankenhilfe im Gemeindezentrum Zion (im Kaminraum). Interessierte sind herzlich eingeladen vorbeizukommen.
URL:https://gemeinde-neustadt.de/event/suchtkrankenhilfe-zion-2-2/2025-09-11/
LOCATION:Gemeindezentrum Zion\, Kornstraße 31\, Bremen\, Bremen\, 28201\, Deutschland
CATEGORIES:Erwachsene,Sitzung
ORGANIZER;CN="Vereinigte ev. Gemeinde Bremen-Neustadt":MAILTO:neustadt@kirche-bremen.de
END:VEVENT
BEGIN:VEVENT
DTSTART;TZID=Europe/Berlin:20250908T193000
DTEND;TZID=Europe/Berlin:20250908T220000
DTSTAMP:20260423T055050
CREATED:20250729T130725Z
LAST-MODIFIED:20260402T120650Z
UID:10015108-1757359800-1757368800@gemeinde-neustadt.de
SUMMARY:"Theater der Ziongemeinde" | Zion
DESCRIPTION:Jeden Montag probt das „Theater der Zionsgemeinde“ im Theatersaal in Zion. Alle zwei Jahre gibt es eine Aufführung mit eigenen Stücken. Das Zion-Theater ist eine unserer ältesten Gemeindegruppen und wurde Ende der 50er Jahre vom damaligen Pastor Gerlach gegründet. Haben Sie Interesse an der Arbeit\, melden Sie sich bitte bei Robert Schlemmer: 0421-531860.
URL:https://gemeinde-neustadt.de/event/probe-zion-theater-zion-2-2/2025-09-08/
LOCATION:Gemeindezentrum Zion\, Kornstraße 31\, Bremen\, Bremen\, 28201\, Deutschland
CATEGORIES:Ehrenamt,Erwachsene,Kunst,Probe,Theater
ORGANIZER;CN="Vereinigte ev. Gemeinde Bremen-Neustadt":MAILTO:neustadt@kirche-bremen.de
END:VEVENT
BEGIN:VEVENT
DTSTART;TZID=Europe/Berlin:20250908T140000
DTEND;TZID=Europe/Berlin:20250908T170000
DTSTAMP:20260423T055050
CREATED:20250728T185321Z
LAST-MODIFIED:20260402T120721Z
UID:10014857-1757340000-1757350800@gemeinde-neustadt.de
SUMMARY:Räuber-Rommé mit Lydia | Zion
DESCRIPTION:Immer montags laden wir ab 14:00 Uhr in das Gemeindezentrum Zion zum Spielen von Gesellschafts-Spielen ein. Wir fangen an mit Rommé oder Canasta\, Mensch-ärgere-dich-nicht oder andere Spiele sind aber auch möglich. Jede und jeder ist willkommen. Die Treffen finden im Kaminraum statt. Haben Sie Fragen\, rufen Sie gerne bei Pastor Lieberum an: 0421-59769521.
URL:https://gemeinde-neustadt.de/event/lesung-von-astrid-goltz-zion-2-2/2025-09-08/
LOCATION:Gemeindezentrum Zion\, Kornstraße 31\, Bremen\, Bremen\, 28201\, Deutschland
CATEGORIES:Erwachsene,Lesung,Musik,Vortrag
ORGANIZER;CN="Vereinigte ev. Gemeinde Bremen-Neustadt":MAILTO:neustadt@kirche-bremen.de
END:VEVENT
BEGIN:VEVENT
DTSTART;TZID=Europe/Berlin:20250905T170000
DTEND;TZID=Europe/Berlin:20250905T210000
DTSTAMP:20260423T055050
CREATED:20250728T191512Z
LAST-MODIFIED:20251227T161630Z
UID:10014931-1757091600-1757106000@gemeinde-neustadt.de
SUMMARY:Internationales Musikcafé | Zion
DESCRIPTION:Jeden Freitag trifft sich ab 17:00 Uhr das „Internationale Musikcafé Bremen“ im Theatersaal im Gemeindezentrum Zion. Musikinteressierte aller Länder sind herzlich willkommen – kommt einfach dazu. Neben dem gemeinsamen Musizieren gibt es Kaffee\, Tee und frisch gebackenen Kuchen! Aus den Proben heraus entwickeln sich immer wieder Konzerte.
URL:https://gemeinde-neustadt.de/event/internationales-musikcafe-i-zion-2-3-2/2025-09-05/
LOCATION:Gemeindezentrum Zion\, Kornstraße 31\, Bremen\, Bremen\, 28201\, Deutschland
CATEGORIES:Erwachsene,Kirchenmusik,Konzerte,Kunst
ORGANIZER;CN="Vereinigte ev. Gemeinde Bremen-Neustadt":MAILTO:neustadt@kirche-bremen.de
END:VEVENT
BEGIN:VEVENT
DTSTART;TZID=UTC:20250904T190000
DTEND;TZID=UTC:20250904T210000
DTSTAMP:20260423T055050
CREATED:20250729T130421Z
LAST-MODIFIED:20251229T140726Z
UID:10014970-1757012400-1757019600@gemeinde-neustadt.de
SUMMARY:Suchtkrankenhilfe | Zion
DESCRIPTION:Jeden Donnerstag treffen sich Menschen im Rahmen der Neustädter Suchtkrankenhilfe im Gemeindezentrum Zion (im Kaminraum). Interessierte sind herzlich eingeladen vorbeizukommen.
URL:https://gemeinde-neustadt.de/event/suchtkrankenhilfe-zion-2-2/2025-09-04/
LOCATION:Gemeindezentrum Zion\, Kornstraße 31\, Bremen\, Bremen\, 28201\, Deutschland
CATEGORIES:Erwachsene,Sitzung
ORGANIZER;CN="Vereinigte ev. Gemeinde Bremen-Neustadt":MAILTO:neustadt@kirche-bremen.de
END:VEVENT
BEGIN:VEVENT
DTSTART;TZID=Europe/Berlin:20250901T193000
DTEND;TZID=Europe/Berlin:20250901T220000
DTSTAMP:20260423T055050
CREATED:20250729T130725Z
LAST-MODIFIED:20260402T120650Z
UID:10015107-1756755000-1756764000@gemeinde-neustadt.de
SUMMARY:"Theater der Ziongemeinde" | Zion
DESCRIPTION:Jeden Montag probt das „Theater der Zionsgemeinde“ im Theatersaal in Zion. Alle zwei Jahre gibt es eine Aufführung mit eigenen Stücken. Das Zion-Theater ist eine unserer ältesten Gemeindegruppen und wurde Ende der 50er Jahre vom damaligen Pastor Gerlach gegründet. Haben Sie Interesse an der Arbeit\, melden Sie sich bitte bei Robert Schlemmer: 0421-531860.
URL:https://gemeinde-neustadt.de/event/probe-zion-theater-zion-2-2/2025-09-01/
LOCATION:Gemeindezentrum Zion\, Kornstraße 31\, Bremen\, Bremen\, 28201\, Deutschland
CATEGORIES:Ehrenamt,Erwachsene,Kunst,Probe,Theater
ORGANIZER;CN="Vereinigte ev. Gemeinde Bremen-Neustadt":MAILTO:neustadt@kirche-bremen.de
END:VEVENT
BEGIN:VEVENT
DTSTART;TZID=Europe/Berlin:20250901T140000
DTEND;TZID=Europe/Berlin:20250901T170000
DTSTAMP:20260423T055050
CREATED:20250728T185321Z
LAST-MODIFIED:20260402T120721Z
UID:10014856-1756735200-1756746000@gemeinde-neustadt.de
SUMMARY:Räuber-Rommé mit Lydia | Zion
DESCRIPTION:Immer montags laden wir ab 14:00 Uhr in das Gemeindezentrum Zion zum Spielen von Gesellschafts-Spielen ein. Wir fangen an mit Rommé oder Canasta\, Mensch-ärgere-dich-nicht oder andere Spiele sind aber auch möglich. Jede und jeder ist willkommen. Die Treffen finden im Kaminraum statt. Haben Sie Fragen\, rufen Sie gerne bei Pastor Lieberum an: 0421-59769521.
URL:https://gemeinde-neustadt.de/event/lesung-von-astrid-goltz-zion-2-2/2025-09-01/
LOCATION:Gemeindezentrum Zion\, Kornstraße 31\, Bremen\, Bremen\, 28201\, Deutschland
CATEGORIES:Erwachsene,Lesung,Musik,Vortrag
ORGANIZER;CN="Vereinigte ev. Gemeinde Bremen-Neustadt":MAILTO:neustadt@kirche-bremen.de
END:VEVENT
BEGIN:VEVENT
DTSTART;TZID=Europe/Berlin:20250829T170000
DTEND;TZID=Europe/Berlin:20250829T210000
DTSTAMP:20260423T055050
CREATED:20250728T191512Z
LAST-MODIFIED:20251227T161630Z
UID:10014930-1756486800-1756501200@gemeinde-neustadt.de
SUMMARY:Internationales Musikcafé | Zion
DESCRIPTION:Jeden Freitag trifft sich ab 17:00 Uhr das „Internationale Musikcafé Bremen“ im Theatersaal im Gemeindezentrum Zion. Musikinteressierte aller Länder sind herzlich willkommen – kommt einfach dazu. Neben dem gemeinsamen Musizieren gibt es Kaffee\, Tee und frisch gebackenen Kuchen! Aus den Proben heraus entwickeln sich immer wieder Konzerte.
URL:https://gemeinde-neustadt.de/event/internationales-musikcafe-i-zion-2-3-2/2025-08-29/
LOCATION:Gemeindezentrum Zion\, Kornstraße 31\, Bremen\, Bremen\, 28201\, Deutschland
CATEGORIES:Erwachsene,Kirchenmusik,Konzerte,Kunst
ORGANIZER;CN="Vereinigte ev. Gemeinde Bremen-Neustadt":MAILTO:neustadt@kirche-bremen.de
END:VEVENT
BEGIN:VEVENT
DTSTART;TZID=UTC:20250828T190000
DTEND;TZID=UTC:20250828T210000
DTSTAMP:20260423T055050
CREATED:20250729T130421Z
LAST-MODIFIED:20251229T140726Z
UID:10014969-1756407600-1756414800@gemeinde-neustadt.de
SUMMARY:Suchtkrankenhilfe | Zion
DESCRIPTION:Jeden Donnerstag treffen sich Menschen im Rahmen der Neustädter Suchtkrankenhilfe im Gemeindezentrum Zion (im Kaminraum). Interessierte sind herzlich eingeladen vorbeizukommen.
URL:https://gemeinde-neustadt.de/event/suchtkrankenhilfe-zion-2-2/2025-08-28/
LOCATION:Gemeindezentrum Zion\, Kornstraße 31\, Bremen\, Bremen\, 28201\, Deutschland
CATEGORIES:Erwachsene,Sitzung
ORGANIZER;CN="Vereinigte ev. Gemeinde Bremen-Neustadt":MAILTO:neustadt@kirche-bremen.de
END:VEVENT
BEGIN:VEVENT
DTSTART;TZID=Europe/Berlin:20250825T193000
DTEND;TZID=Europe/Berlin:20250825T220000
DTSTAMP:20260423T055050
CREATED:20250729T130725Z
LAST-MODIFIED:20260402T120650Z
UID:10015106-1756150200-1756159200@gemeinde-neustadt.de
SUMMARY:"Theater der Ziongemeinde" | Zion
DESCRIPTION:Jeden Montag probt das „Theater der Zionsgemeinde“ im Theatersaal in Zion. Alle zwei Jahre gibt es eine Aufführung mit eigenen Stücken. Das Zion-Theater ist eine unserer ältesten Gemeindegruppen und wurde Ende der 50er Jahre vom damaligen Pastor Gerlach gegründet. Haben Sie Interesse an der Arbeit\, melden Sie sich bitte bei Robert Schlemmer: 0421-531860.
URL:https://gemeinde-neustadt.de/event/probe-zion-theater-zion-2-2/2025-08-25/
LOCATION:Gemeindezentrum Zion\, Kornstraße 31\, Bremen\, Bremen\, 28201\, Deutschland
CATEGORIES:Ehrenamt,Erwachsene,Kunst,Probe,Theater
ORGANIZER;CN="Vereinigte ev. Gemeinde Bremen-Neustadt":MAILTO:neustadt@kirche-bremen.de
END:VEVENT
BEGIN:VEVENT
DTSTART;TZID=Europe/Berlin:20250825T140000
DTEND;TZID=Europe/Berlin:20250825T170000
DTSTAMP:20260423T055050
CREATED:20250728T185321Z
LAST-MODIFIED:20260402T120721Z
UID:10014855-1756130400-1756141200@gemeinde-neustadt.de
SUMMARY:Räuber-Rommé mit Lydia | Zion
DESCRIPTION:Immer montags laden wir ab 14:00 Uhr in das Gemeindezentrum Zion zum Spielen von Gesellschafts-Spielen ein. Wir fangen an mit Rommé oder Canasta\, Mensch-ärgere-dich-nicht oder andere Spiele sind aber auch möglich. Jede und jeder ist willkommen. Die Treffen finden im Kaminraum statt. Haben Sie Fragen\, rufen Sie gerne bei Pastor Lieberum an: 0421-59769521.
URL:https://gemeinde-neustadt.de/event/lesung-von-astrid-goltz-zion-2-2/2025-08-25/
LOCATION:Gemeindezentrum Zion\, Kornstraße 31\, Bremen\, Bremen\, 28201\, Deutschland
CATEGORIES:Erwachsene,Lesung,Musik,Vortrag
ORGANIZER;CN="Vereinigte ev. Gemeinde Bremen-Neustadt":MAILTO:neustadt@kirche-bremen.de
END:VEVENT
BEGIN:VEVENT
DTSTART;TZID=Europe/Berlin:20250822T170000
DTEND;TZID=Europe/Berlin:20250822T210000
DTSTAMP:20260423T055050
CREATED:20250728T191512Z
LAST-MODIFIED:20251227T161630Z
UID:10014929-1755882000-1755896400@gemeinde-neustadt.de
SUMMARY:Internationales Musikcafé | Zion
DESCRIPTION:Jeden Freitag trifft sich ab 17:00 Uhr das „Internationale Musikcafé Bremen“ im Theatersaal im Gemeindezentrum Zion. Musikinteressierte aller Länder sind herzlich willkommen – kommt einfach dazu. Neben dem gemeinsamen Musizieren gibt es Kaffee\, Tee und frisch gebackenen Kuchen! Aus den Proben heraus entwickeln sich immer wieder Konzerte.
URL:https://gemeinde-neustadt.de/event/internationales-musikcafe-i-zion-2-3-2/2025-08-22/
LOCATION:Gemeindezentrum Zion\, Kornstraße 31\, Bremen\, Bremen\, 28201\, Deutschland
CATEGORIES:Erwachsene,Kirchenmusik,Konzerte,Kunst
ORGANIZER;CN="Vereinigte ev. Gemeinde Bremen-Neustadt":MAILTO:neustadt@kirche-bremen.de
END:VEVENT
BEGIN:VEVENT
DTSTART;TZID=UTC:20250821T190000
DTEND;TZID=UTC:20250821T210000
DTSTAMP:20260423T055050
CREATED:20250729T130421Z
LAST-MODIFIED:20251229T140726Z
UID:10014968-1755802800-1755810000@gemeinde-neustadt.de
SUMMARY:Suchtkrankenhilfe | Zion
DESCRIPTION:Jeden Donnerstag treffen sich Menschen im Rahmen der Neustädter Suchtkrankenhilfe im Gemeindezentrum Zion (im Kaminraum). Interessierte sind herzlich eingeladen vorbeizukommen.
URL:https://gemeinde-neustadt.de/event/suchtkrankenhilfe-zion-2-2/2025-08-21/
LOCATION:Gemeindezentrum Zion\, Kornstraße 31\, Bremen\, Bremen\, 28201\, Deutschland
CATEGORIES:Erwachsene,Sitzung
ORGANIZER;CN="Vereinigte ev. Gemeinde Bremen-Neustadt":MAILTO:neustadt@kirche-bremen.de
END:VEVENT
BEGIN:VEVENT
DTSTART;TZID=Europe/Berlin:20250818T193000
DTEND;TZID=Europe/Berlin:20250818T220000
DTSTAMP:20260423T055050
CREATED:20250729T130725Z
LAST-MODIFIED:20260402T120650Z
UID:10015105-1755545400-1755554400@gemeinde-neustadt.de
SUMMARY:"Theater der Ziongemeinde" | Zion
DESCRIPTION:Jeden Montag probt das „Theater der Zionsgemeinde“ im Theatersaal in Zion. Alle zwei Jahre gibt es eine Aufführung mit eigenen Stücken. Das Zion-Theater ist eine unserer ältesten Gemeindegruppen und wurde Ende der 50er Jahre vom damaligen Pastor Gerlach gegründet. Haben Sie Interesse an der Arbeit\, melden Sie sich bitte bei Robert Schlemmer: 0421-531860.
URL:https://gemeinde-neustadt.de/event/probe-zion-theater-zion-2-2/2025-08-18/
LOCATION:Gemeindezentrum Zion\, Kornstraße 31\, Bremen\, Bremen\, 28201\, Deutschland
CATEGORIES:Ehrenamt,Erwachsene,Kunst,Probe,Theater
ORGANIZER;CN="Vereinigte ev. Gemeinde Bremen-Neustadt":MAILTO:neustadt@kirche-bremen.de
END:VEVENT
BEGIN:VEVENT
DTSTART;TZID=Europe/Berlin:20250818T140000
DTEND;TZID=Europe/Berlin:20250818T170000
DTSTAMP:20260423T055050
CREATED:20250728T185321Z
LAST-MODIFIED:20260402T120721Z
UID:10014854-1755525600-1755536400@gemeinde-neustadt.de
SUMMARY:Räuber-Rommé mit Lydia | Zion
DESCRIPTION:Immer montags laden wir ab 14:00 Uhr in das Gemeindezentrum Zion zum Spielen von Gesellschafts-Spielen ein. Wir fangen an mit Rommé oder Canasta\, Mensch-ärgere-dich-nicht oder andere Spiele sind aber auch möglich. Jede und jeder ist willkommen. Die Treffen finden im Kaminraum statt. Haben Sie Fragen\, rufen Sie gerne bei Pastor Lieberum an: 0421-59769521.
URL:https://gemeinde-neustadt.de/event/lesung-von-astrid-goltz-zion-2-2/2025-08-18/
LOCATION:Gemeindezentrum Zion\, Kornstraße 31\, Bremen\, Bremen\, 28201\, Deutschland
CATEGORIES:Erwachsene,Lesung,Musik,Vortrag
ORGANIZER;CN="Vereinigte ev. Gemeinde Bremen-Neustadt":MAILTO:neustadt@kirche-bremen.de
END:VEVENT
BEGIN:VEVENT
DTSTART;TZID=Europe/Berlin:20250815T170000
DTEND;TZID=Europe/Berlin:20250815T210000
DTSTAMP:20260423T055050
CREATED:20250728T191512Z
LAST-MODIFIED:20251227T161630Z
UID:10014928-1755277200-1755291600@gemeinde-neustadt.de
SUMMARY:Internationales Musikcafé | Zion
DESCRIPTION:Jeden Freitag trifft sich ab 17:00 Uhr das „Internationale Musikcafé Bremen“ im Theatersaal im Gemeindezentrum Zion. Musikinteressierte aller Länder sind herzlich willkommen – kommt einfach dazu. Neben dem gemeinsamen Musizieren gibt es Kaffee\, Tee und frisch gebackenen Kuchen! Aus den Proben heraus entwickeln sich immer wieder Konzerte.
URL:https://gemeinde-neustadt.de/event/internationales-musikcafe-i-zion-2-3-2/2025-08-15/
LOCATION:Gemeindezentrum Zion\, Kornstraße 31\, Bremen\, Bremen\, 28201\, Deutschland
CATEGORIES:Erwachsene,Kirchenmusik,Konzerte,Kunst
ORGANIZER;CN="Vereinigte ev. Gemeinde Bremen-Neustadt":MAILTO:neustadt@kirche-bremen.de
END:VEVENT
BEGIN:VEVENT
DTSTART;TZID=UTC:20250814T190000
DTEND;TZID=UTC:20250814T210000
DTSTAMP:20260423T055050
CREATED:20250729T130421Z
LAST-MODIFIED:20251229T140726Z
UID:10014967-1755198000-1755205200@gemeinde-neustadt.de
SUMMARY:Suchtkrankenhilfe | Zion
DESCRIPTION:Jeden Donnerstag treffen sich Menschen im Rahmen der Neustädter Suchtkrankenhilfe im Gemeindezentrum Zion (im Kaminraum). Interessierte sind herzlich eingeladen vorbeizukommen.
URL:https://gemeinde-neustadt.de/event/suchtkrankenhilfe-zion-2-2/2025-08-14/
LOCATION:Gemeindezentrum Zion\, Kornstraße 31\, Bremen\, Bremen\, 28201\, Deutschland
CATEGORIES:Erwachsene,Sitzung
ORGANIZER;CN="Vereinigte ev. Gemeinde Bremen-Neustadt":MAILTO:neustadt@kirche-bremen.de
END:VEVENT
BEGIN:VEVENT
DTSTART;TZID=Europe/Berlin:20250811T193000
DTEND;TZID=Europe/Berlin:20250811T220000
DTSTAMP:20260423T055050
CREATED:20250729T130725Z
LAST-MODIFIED:20260402T120650Z
UID:10015104-1754940600-1754949600@gemeinde-neustadt.de
SUMMARY:"Theater der Ziongemeinde" | Zion
DESCRIPTION:Jeden Montag probt das „Theater der Zionsgemeinde“ im Theatersaal in Zion. Alle zwei Jahre gibt es eine Aufführung mit eigenen Stücken. Das Zion-Theater ist eine unserer ältesten Gemeindegruppen und wurde Ende der 50er Jahre vom damaligen Pastor Gerlach gegründet. Haben Sie Interesse an der Arbeit\, melden Sie sich bitte bei Robert Schlemmer: 0421-531860.
URL:https://gemeinde-neustadt.de/event/probe-zion-theater-zion-2-2/2025-08-11/
LOCATION:Gemeindezentrum Zion\, Kornstraße 31\, Bremen\, Bremen\, 28201\, Deutschland
CATEGORIES:Ehrenamt,Erwachsene,Kunst,Probe,Theater
ORGANIZER;CN="Vereinigte ev. Gemeinde Bremen-Neustadt":MAILTO:neustadt@kirche-bremen.de
END:VEVENT
BEGIN:VEVENT
DTSTART;TZID=Europe/Berlin:20250811T140000
DTEND;TZID=Europe/Berlin:20250811T170000
DTSTAMP:20260423T055050
CREATED:20250728T185321Z
LAST-MODIFIED:20260402T120721Z
UID:10014853-1754920800-1754931600@gemeinde-neustadt.de
SUMMARY:Räuber-Rommé mit Lydia | Zion
DESCRIPTION:Immer montags laden wir ab 14:00 Uhr in das Gemeindezentrum Zion zum Spielen von Gesellschafts-Spielen ein. Wir fangen an mit Rommé oder Canasta\, Mensch-ärgere-dich-nicht oder andere Spiele sind aber auch möglich. Jede und jeder ist willkommen. Die Treffen finden im Kaminraum statt. Haben Sie Fragen\, rufen Sie gerne bei Pastor Lieberum an: 0421-59769521.
URL:https://gemeinde-neustadt.de/event/lesung-von-astrid-goltz-zion-2-2/2025-08-11/
LOCATION:Gemeindezentrum Zion\, Kornstraße 31\, Bremen\, Bremen\, 28201\, Deutschland
CATEGORIES:Erwachsene,Lesung,Musik,Vortrag
ORGANIZER;CN="Vereinigte ev. Gemeinde Bremen-Neustadt":MAILTO:neustadt@kirche-bremen.de
END:VEVENT
END:VCALENDAR